Workbook
Name SegmentaçãodeDados_Categoria: #N/A
Name SegmentaçãodeDados_Categoria1: #N/A
Name SegmentaçãodeDados_Solicitação_do_Cliente: #N/A
Name SegmentaçãodeDados_Solicitação_do_Cliente1: #N/A

Sheet Tabela Consultor
C3: TABELA DE CONFIRMAÇÃO DE SINTOMAS | J3: PRINCIPAIS TEMPOS DE REPARO | N3: PRINCIPAIS PERGUNTAS DE INVESTIGAÇÃO TÉCNICA
B4: Responsável | C4: Categoria | D4: Solicitação do Cliente | E4: Local das Confirmações do Sintoma | F4: Responsável pela confirmação do sintoma com o cliente | G4: Tempo (h) | H4: Min. | I4: Duração | J4: Solicitação do Cliente. | K4: Tempo (h). | L4: Minutos | M4: Duração. | N4: Pergunta 1 | O4: Pergunta 2 | P4: Pergunta 3 | Q4: Pergunta 4 | R4: Pergunta 5 | S4: Pergunta 6 | T4: Pergunta 7 | U4: Pergunta 8 | V4: Pergunta 9 | W4: Pergunta 10 | X4: Pergunta 11 | Y4: Pergunta 12 | Z4: Pergunta 13 | AA4: Pergunta 14 | AB4: Pergunta 15
B5: Consultor | C5: Suspensão Direção | D5: Desgaste anormal do pneu | E5: Vaga de recepção | F5: Consultor | G5: - | H5: =IFERROR(G5*60,0) -> 0 | I5: - | J5: Amortecedor Dianteiro | K5: 0.9 | L5: =K5*60 -> 54 | M5: =(L5/60)/24 -> 0.0375 | N5: Como estava sendo feita a frenagem? | O5: Qual era o tipo e inclinação de pavimento/pista? | P5: Qual a frequência de uso do veículo (Horas/dia e dias da semana) | Q5: Qual a condição de trânsito que enfrenta na maior parte do uso? | R5: Algum fator relevante/anômalo associado antes do sintoma? | S5: - | T5: - | U5: - | V5: - | W5: - | X5: - | Y5: - | Z5: - | AA5: - | AB5: -
B6: Consultor | C6: Suspensão Direção | D6: Volante "pesado" | E6: Vaga de recepção | F6: Consultor | G6: - | H6: =IFERROR(G6*60,0) -> 0 | I6: - | J6: Amortecedor Traseiro | K6: 0.5 | L6: =K6*60 -> 30 | M6: =(L6/60)/24 -> 0.020833333 | N6: Sintoma está presente? | O6: É intermitente? | P6: Qual Faixa de Velocidade? | Q6: Como estava direcionando/movimentando/mantendo o volante? | R6: Qual era a condição de trânsito? | S6: Percebeu o sintoma andando ou parado? | T6: Acontece apenas com condutor específico? | U6: Quanto tempo estava percorrendo com o veículo antes do sintoma? | V6: Algum fator relevante/anômalo associado antes do sintoma? | W6: Qual a frequência que ocorreu o sintoma novamente? | X6: Algum fator relevante associado para o sintoma parar de ser reproduzido? | Y6: - | Z6: - | AA6: - | AB6: -
B7: Consultor | C7: Suspensão Direção | D7: Volante "puxa" para o lado | E7: Teste de rodagem | F7: Chefe de Oficina / Técnico / CQ | G7: 0.5 | H7: =G7*60 -> 30 | I7: =(H7/60)/24 -> 0.020833333 | J7: Pivô da balança | K7: 0.7 | L7: =K7*60 -> 42 | M7: =(L7/60)/24 -> 0.029166667 | N7: Sintoma está presente? | O7: É intermitente? | P7: Qual Faixa de Velocidade? | Q7: Como estava direcionando/movimentando/mantendo o volante? | R7: Algum fator relevante/anômalo associado antes do sintoma? | S7: Qual a frequência que ocorreu o sintoma novamente? | T7: Algum fator relevante associado para o sintoma parar de ser reproduzido? | U7: - | V7: - | W7: - | X7: - | Y7: - | Z7: - | AA7: - | AB7: -
B8: Consultor | C8: Suspensão Direção | D8: Vibração no Volante | E8: Teste de rodagem | F8: Chefe de Oficina / Técnico / CQ | G8: 0.5 | H8: =G8*60 -> 30 | I8: =(H8/60)/24 -> 0.020833333 | J8: Bieleta | K8: 0.4 | L8: =K8*60 -> 24 | M8: =(L8/60)/24 -> 0.016666667 | N8: Sintoma está presente? | O8: É intermitente? | P8: Qual Faixa de Velocidade? | Q8: Como estava direcionando/movimentando/mantendo o volante? | R8: Percebeu o sintoma andando ou parado? | S8: Quanto tempo estava percorrendo com o veículo antes do sintoma? | T8: Algum fator relevante/anômalo associado antes do sintoma? | U8: Qual a frequência que ocorreu o sintoma novamente? | V8: Algum fator relevante associado para o sintoma parar de ser reproduzido? | W8: - | X8: - | Y8: - | Z8: - | AA8: - | AB8: -
B9: Consultor | C9: Suspensão Direção | D9: Instabilidade ao dirigir | E9: Teste de rodagem | F9: Chefe de Oficina / Técnico / CQ | G9: 0.5 | H9: =G9*60 -> 30 | I9: =(H9/60)/24 -> 0.020833333 | J9: Molas | K9: 1.2 | L9: =K9*60 -> 72 | M9: =(L9/60)/24 -> 0.05 | N9: Sintoma está presente? | O9: É intermitente? | P9: Qual Faixa de Velocidade? | Q9: Temperatura ambiente/Condição climática | R9: Como estava direcionando/movimentando/mantendo o volante? | S9: Acontece apenas com condutor específico? | T9: Algum fator relevante/anômalo associado antes do sintoma? | U9: Qual a frequência que ocorreu o sintoma novamente? | V9: Algum fator relevante associado para o sintoma parar de ser reproduzido? | W9: - | X9: - | Y9: - | Z9: - | AA9: - | AB9: -
B10: Consultor | C10: Suspensão Direção | D10: Ruído na suspensão | E10: Teste de rodagem | F10: Chefe de Oficina / Técnico / CQ | G10: 0.5 | H10: =G10*60 -> 30 | I10: =(H10/60)/24 -> 0.020833333 | J10: - | K10: - | L10: - | M10: - | N10: Sintoma está presente? | O10: É intermitente? | P10: Qual Faixa de Velocidade? | Q10: Temperatura ambiente/Condição climática | R10: Como estava direcionando/movimentando/mantendo o volante? | S10: Pode descrever o tipo/cor? | T10: Qual a frequência que ocorreu o sintoma novamente? | U10: Algum fator relevante associado para o sintoma parar de ser reproduzido? | V10: - | W10: - | X10: - | Y10: - | Z10: - | AA10: - | AB10: -
B11: Consultor | C11: Suspensão Direção | D11: Vazamento de fluído | E11: Vaga de Oficina | F11: Chefe de Oficina / Técnico / CQ | G11: 0.5 | H11: =G11*60 -> 30 | I11: =(H11/60)/24 -> 0.020833333 | J11: - | K11: - | L11: - | M11: - | N11: Alguma luz de advertência acendeu? | O11: Pode descrever o tipo/cor? | P11: Algum fator relevante/anômalo associado antes do sintoma? | Q11: - | R11: - | S11: - | T11: - | U11: - | V11: - | W11: - | X11: - | Y11: - | Z11: - | AA11: - | AB11: -
B12: Consultor | C12: Suspensão Direção | D12: Ruído na direção | E12: Vaga de Oficina | F12: Chefe de Oficina / Técnico / CQ | G12: 0.5 | H12: =G12*60 -> 30 | I12: =(H12/60)/24 -> 0.020833333 | J12: - | K12: - | L12: - | M12: - | N12: Sintoma está presente? | O12: É intermitente? | P12: Qual Faixa de Velocidade? | Q12: Como estava direcionando/movimentando/mantendo o volante? | R12: Pode descrever o tipo/cor? | S12: Qual a frequência que ocorreu o sintoma novamente? | T12: Algum fator relevante associado para o sintoma parar de ser reproduzido? | U12: - | V12: - | W12: - | X12: - | Y12: - | Z12: - | AA12: - | AB12: -
B13: Consultor | C13: Freio | D13: Ruído ao Frear | E13: Teste de rodagem | F13: Chefe de Oficina / Técnico / CQ | G13: 0.5 | H13: =G13*60 -> 30 | I13: =(H13/60)/24 -> 0.020833333 | J13: Pastilhas | K13: 0.5 | L13: =K13*60 -> 30 | M13: =(L13/60)/24 -> 0.020833333 | N13: Sintoma está presente? | O13: É intermitente? | P13: Qual Faixa de Velocidade? | Q13: Temperatura ambiente/Condição climática | R13: Como estava sendo feita a frenagem? | S13: Qual era a condição de trânsito? | T13: Pode descrever o tipo/cor? | U13: Quanto tempo estava percorrendo com o veículo antes do sintoma? | V13: Qual a frequência de uso do veículo (Horas/dia e dias da semana) | W13: Qual a condição de trânsito que enfrenta na maior parte do uso? | X13: Qual a frequência que ocorreu o sintoma novamente? | Y13: Algum fator relevante associado para o sintoma parar de ser reproduzido? | Z13: - | AA13: - | AB13: -
B14: Consultor | C14: Freio | D14: Vibração no volante ou no pedal ao frear | E14: Teste de rodagem | F14: Chefe de Oficina / Técnico / CQ | G14: 0.5 | H14: =G14*60 -> 30 | I14: =(H14/60)/24 -> 0.020833333 | J14: Discos | K14: 1 | L14: =K14*60 -> 60 | M14: =(L14/60)/24 -> 0.041666667 | N14: Sintoma está presente? | O14: É intermitente? | P14: Qual Faixa de Velocidade? | Q14: Temperatura ambiente/Condição climática | R14: Como estava sendo feita a frenagem? | S14: Qual era a condição de trânsito? | T14: Quanto tempo estava percorrendo com o veículo antes do sintoma? | U14: Qual a condição de trânsito que enfrenta na maior parte do uso? | V14: Qual a frequência que ocorreu o sintoma novamente? | W14: Algum fator relevante associado para o sintoma parar de ser reproduzido? | X14: - | Y14: - | Z14: - | AA14: - | AB14: -
B15: Consultor | C15: Freio | D15: Frenagem insuficiente ao acionar o pedal | E15: Teste de rodagem | F15: Chefe de Oficina / Técnico / CQ | G15: 0.5 | H15: =G15*60 -> 30 | I15: =(H15/60)/24 -> 0.020833333 | J15: Lonas | K15: 1.2 | L15: =K15*60 -> 72 | M15: =(L15/60)/24 -> 0.05 | N15: Sintoma está presente? | O15: É intermitente? | P15: Qual temperatura do motor que inicia o sintoma? | Q15: Qual Faixa de Velocidade? | R15: Temperatura ambiente/Condição climática | S15: Como estava sendo feita a frenagem? | T15: Qual era a condição de trânsito? | U15: Alguma luz de advertência acendeu? | V15: Quanto tempo estava percorrendo com o veículo antes do sintoma? | W15: Qual a condição de trânsito que enfrenta na maior parte do uso? | X15: Qual a frequência que ocorreu o sintoma novamente? | Y15: Algum fator relevante associado para o sintoma parar de ser reproduzido? | Z15: - | AA15: - | AB15: -
B16: Consultor | C16: Freio | D16: Pedal do freio desce ou duro ao frear | E16: Teste de rodagem | F16: Chefe de Oficina / Técnico / CQ | G16: 0.5 | H16: =G16*60 -> 30 | I16: =(H16/60)/24 -> 0.020833333 | J16: Tambor | K16: 0.8 | L16: =K16*60 -> 48 | M16: =(L16/60)/24 -> 0.033333333 | N16: Sintoma está presente? | O16: É intermitente? | P16: Qual temperatura do motor que inicia o sintoma? | Q16: Qual Faixa de Velocidade? | R16: Temperatura ambiente/Condição climática | S16: Como estava sendo feita a frenagem? | T16: Qual era a condição de trânsito? | U16: Alguma luz de advertência acendeu? | V16: Percebeu o sintoma andando ou parado? | W16: Quanto tempo estava percorrendo com o veículo antes do sintoma? | X16: Qual a condição de trânsito que enfrenta na maior parte do uso? | Y16: Qual a frequência que ocorreu o sintoma novamente? | Z16: Algum fator relevante associado para o sintoma parar de ser reproduzido? | AA16: - | AB16: -
B17: Consultor | C17: Freio | D17: Desvio de rota ao frear | E17: Teste de rodagem | F17: Chefe de Oficina / Técnico / CQ | G17: 0.5 | H17: =G17*60 -> 30 | I17: =(H17/60)/24 -> 0.020833333 | J17: - | K17: - | L17: - | M17: - | N17: Sintoma está presente? | O17: É intermitente? | P17: Qual temperatura do motor que inicia o sintoma? | Q17: Qual Faixa de Velocidade? | R17: Como estava sendo feita a frenagem? | S17: Qual era a condição de trânsito? | T17: Quanto tempo estava percorrendo com o veículo antes do sintoma? | U17: Qual a condição de trânsito que enfrenta na maior parte do uso? | V17: Qual a frequência que ocorreu o sintoma novamente? | W17: Algum fator relevante associado para o sintoma parar de ser reproduzido? | X17: - | Y17: - | Z17: - | AA17: - | AB17: -
B18: Consultor | C18: Freio | D18: Vazamento de fluído | E18: Vaga de Oficina | F18: Chefe de Oficina / Técnico / CQ | G18: 0.5 | H18: =G18*60 -> 30 | I18: =(H18/60)/24 -> 0.020833333 | J18: - | K18: - | L18: - | M18: - | N18: Alguma luz de advertência acendeu? | O18: Pode descrever o tipo/cor? | P18: Algum fator relevante/anômalo associado antes do sintoma? | Q18: - | R18: - | S18: - | T18: - | U18: - | V18: - | W18: - | X18: - | Y18: - | Z18: - | AA18: - | AB18: -
B19: Consultor | C19: Freio | D19: Acionamento de ABS | E19: Teste de rodagem | F19: Chefe de Oficina / Técnico / CQ | G19: 0.5 | H19: =G19*60 -> 30 | I19: =(H19/60)/24 -> 0.020833333 | J19: - | K19: - | L19: - | M19: - | N19: Sintoma está presente? | O19: É intermitente? | P19: Qual Faixa de Velocidade? | Q19: Como estava sendo feita a frenagem? | R19: Qual era a condição de trânsito? | S19: Alguma luz de advertência acendeu? | T19: Qual a condição de trânsito que enfrenta na maior parte do uso? | U19: Qual a frequência que ocorreu o sintoma novamente? | V19: Algum fator relevante associado para o sintoma parar de ser reproduzido? | W19: - | X19: - | Y19: - | Z19: - | AA19: - | AB19: -
B20: Consultor | C20: Motor | D20: Marcha lenta irregular | E20: Vaga de recepção | F20: Consultor | G20: 0.2 | H20: =G20*60 -> 12 | I20: =(H20/60)/24 -> 0.0083333333 | J20: Conjunto do radiador | K20: 1.6 | L20: =K20*60 -> 96 | M20: =(L20/60)/24 -> 0.066666667 | N20: Sintoma está presente? | O20: É intermitente? | P20: Qual temperatura do motor que inicia o sintoma? | Q20: Temperatura ambiente/Condição climática | R20: Esta relacionado a primeira partida? | S20: Após troca de combustivel ou abastecimento? | T20: Alguma luz de advertência acendeu? | U20: Porcentagem (ALC/GAS) de combustível no tanque | V20: Qual a frequência que ocorreu o sintoma novamente? | W20: Algum fator relevante associado para o sintoma parar de ser reproduzido? | X20: - | Y20: - | Z20: - | AA20: - | AB20: -
B21: Consultor | C21: Motor | D21: Motor sem aceleração | E21: Vaga de recepção | F21: Chefe de Oficina / Técnico / CQ | G21: 0.2 | H21: =G21*60 -> 12 | I21: =(H21/60)/24 -> 0.0083333333 | J21: Defletor inferior do radiador | K21: 0.2 | L21: =K21*60 -> 12 | M21: =(L21/60)/24 -> 0.0083333333 | N21: Sintoma está presente? | O21: É intermitente? | P21: Qual temperatura do motor que inicia o sintoma? | Q21: Esta relacionado a primeira partida? | R21: Após troca de combustivel ou abastecimento? | S21: Alguma luz de advertência acendeu? | T21: Porcentagem (ALC/GAS) de combustível no tanque | U21: Quanto tempo estava percorrendo com o veículo antes do sintoma? | V21: Qual a frequência que ocorreu o sintoma novamente? | W21: Algum fator relevante associado para o sintoma parar de ser reproduzido? | X21: - | Y21: - | Z21: - | AA21: - | AB21: -
B22: Consultor | C22: Motor | D22: Gases do escapamento excessivo/anormal | E22: Vaga de recepção | F22: Chefe de Oficina / Técnico / CQ | G22: 0.2 | H22: =G22*60 -> 12 | I22: =(H22/60)/24 -> 0.0083333333 | J22: Condensador | K22: 0.5 | L22: =K22*60 -> 30 | M22: =(L22/60)/24 -> 0.020833333 | N22: Sintoma está presente? | O22: É intermitente? | P22: Qual temperatura do motor que inicia o sintoma? | Q22: Temperatura ambiente/Condição climática | R22: Esta relacionado a primeira partida? | S22: Após troca de combustivel ou abastecimento? | T22: Qual era a condição de trânsito? | U22: Porcentagem (ALC/GAS) de combustível no tanque | V22: Pode descrever o tipo/cor? | W22: Quanto tempo estava percorrendo com o veículo antes do sintoma? | X22: Antes da viagem do sintoma, quanto tempo estacionado (era noite ou dia)? | Y22: Qual a frequência de uso do veículo (Horas/dia e dias da semana) | Z22: Qual a condição de trânsito que enfrenta na maior parte do uso? | AA22: Qual a frequência que ocorreu o sintoma novamente? | AB22: Algum fator relevante associado para o sintoma parar de ser reproduzido?
B23: Consultor | C23: Motor | D23: Odor de combustivel | E23: Vaga de recepção | F23: Chefe de Oficina / Técnico / CQ | G23: 0.2 | H23: =G23*60 -> 12 | I23: =(H23/60)/24 -> 0.0083333333 | J23: Velas | K23: 0.4 | L23: =K23*60 -> 24 | M23: =(L23/60)/24 -> 0.016666667 | N23: Sintoma está presente? | O23: É intermitente? | P23: Esta relacionado a primeira partida? | Q23: É perceptivel dentro ou fora do veiculo? | R23: Após troca de combustivel ou abastecimento? | S23: Porcentagem (ALC/GAS) de combustível no tanque | T23: Quanto tempo estava percorrendo com o veículo antes do sintoma? | U23: Antes da viagem do sintoma, quanto tempo estacionado (era noite ou dia)? | V23: Qual a frequência de uso do veículo (Horas/dia e dias da semana) | W23: Qual a condição de trânsito que enfrenta na maior parte do uso? | X23: Qual a frequência que ocorreu o sintoma novamente? | Y23: Algum fator relevante associado para o sintoma parar de ser reproduzido? | Z23: - | AA23: - | AB23: -
B24: Consultor | C24: Motor | D24: Fumaça ou fuligem no compartimento do motor | E24: Vaga de recepção | F24: Chefe de Oficina / Técnico / CQ | G24: 0.2 | H24: =G24*60 -> 12 | I24: =(H24/60)/24 -> 0.0083333333 | J24: Filtro de ar | K24: 0.2 | L24: =K24*60 -> 12 | M24: =(L24/60)/24 -> 0.0083333333 | N24: Sintoma está presente? | O24: É intermitente? | P24: Qual temperatura do motor que inicia o sintoma? | Q24: Esta relacionado a primeira partida? | R24: Após troca de combustivel ou abastecimento? | S24: Porcentagem (ALC/GAS) de combustível no tanque | T24: Pode descrever o tipo/cor? | U24: Quanto tempo estava percorrendo com o veículo antes do sintoma? | V24: Antes da viagem do sintoma, quanto tempo estacionado (era noite ou dia)? | W24: Qual a frequência de uso do veículo (Horas/dia e dias da semana) | X24: Qual a frequência que ocorreu o sintoma novamente? | Y24: Algum fator relevante associado para o sintoma parar de ser reproduzido? | Z24: - | AA24: - | AB24: -
B25: Consultor | C25: Motor | D25: Nível de óleo baixo | E25: Vaga de recepção | F25: Chefe de Oficina / Técnico / CQ | G25: 0.2 | H25: =G25*60 -> 12 | I25: =(H25/60)/24 -> 0.0083333333 | J25: Motor completo | K25: 6 | L25: =K25*60 -> 360 | M25: =(L25/60)/24 -> 0.25 | N25: Alguma luz de advertência acendeu? | O25: Antes da viagem do sintoma, quanto tempo estacionado (era noite ou dia)? | P25: Qual a frequência de uso do veículo (Horas/dia e dias da semana) | Q25: Qual a condição de trânsito que enfrenta na maior parte do uso? | R25: - | S25: - | T25: - | U25: - | V25: - | W25: - | X25: - | Y25: - | Z25: - | AA25: - | AB25: -
B26: Consultor | C26: Motor | D26: Óleo contaminado | E26: Vaga de recepção | F26: Chefe de Oficina / Técnico / CQ | G26: 0.2 | H26: =G26*60 -> 12 | I26: =(H26/60)/24 -> 0.0083333333 | J26: Motor parcial | K26: 11 | L26: =K26*60 -> 660 | M26: =(L26/60)/24 -> 0.45833333 | N26: Porcentagem (ALC/GAS) de combustível no tanque | O26: Pode descrever o tipo/cor? | P26: Antes da viagem do sintoma, quanto tempo estacionado (era noite ou dia)? | Q26: Qual a frequência de uso do veículo (Horas/dia e dias da semana) | R26: Qual a condição de trânsito que enfrenta na maior parte do uso? | S26: - | T26: - | U26: - | V26: - | W26: - | X26: - | Y26: - | Z26: - | AA26: - | AB26: -
B27: Consultor | C27: Motor | D27: Motor vira mas demora para ligar | E27: Vaga de recepção | F27: Chefe de Oficina / Técnico / CQ | G27: 0.2 | H27: =G27*60 -> 12 | I27: =(H27/60)/24 -> 0.0083333333 | J27: Carter do motor | K27: 0.8 | L27: =K27*60 -> 48 | M27: =(L27/60)/24 -> 0.033333333 | N27: Sintoma está presente? | O27: É intermitente? | P27: Qual temperatura do motor que inicia o sintoma? | Q27: Temperatura ambiente/Condição climática | R27: Esta relacionado a primeira partida? | S27: Após troca de combustivel ou abastecimento? | T27: Alguma luz de advertência acendeu? | U27: Porcentagem (ALC/GAS) de combustível no tanque | V27: Quanto tempo estava percorrendo com o veículo antes do sintoma? | W27: Antes da viagem do sintoma, quanto tempo estacionado (era noite ou dia)? | X27: Qual a frequência de uso do veículo (Horas/dia e dias da semana) | Y27: Qual a frequência que ocorreu o sintoma novamente? | Z27: Algum fator relevante associado para o sintoma parar de ser reproduzido? | AA27: - | AB27: -
B28: Consultor | C28: Motor | D28: Motor falha ao acelerar | E28: Vaga de recepção | F28: Chefe de Oficina / Técnico / CQ | G28: 0.3 | H28: =G28*60 -> 18 | I28: =(H28/60)/24 -> 0.0125 | J28: - | K28: - | L28: - | M28: - | N28: Sintoma está presente? | O28: É intermitente? | P28: Qual temperatura do motor que inicia o sintoma? | Q28: Temperatura ambiente/Condição climática | R28: Esta relacionado a primeira partida? | S28: Após troca de combustivel ou abastecimento? | T28: Alguma luz de advertência acendeu? | U28: Porcentagem (ALC/GAS) de combustível no tanque | V28: Quanto tempo estava percorrendo com o veículo antes do sintoma? | W28: Antes da viagem do sintoma, quanto tempo estacionado (era noite ou dia)? | X28: Qual a frequência de uso do veículo (Horas/dia e dias da semana) | Y28: Qual a frequência que ocorreu o sintoma novamente? | Z28: Algum fator relevante associado para o sintoma parar de ser reproduzido? | AA28: - | AB28: -
B29: Consultor | C29: Motor | D29: Fluído de arrefecimento Insuficiente | E29: Vaga de recepção | F29: Chefe de Oficina / Técnico / CQ | G29: 0.2 | H29: =G29*60 -> 12 | I29: =(H29/60)/24 -> 0.0083333333 | J29: - | K29: - | L29: - | M29: - | N29: Alguma luz de advertência acendeu? | O29: Antes da viagem do sintoma, quanto tempo estacionado (era noite ou dia)? | P29: Qual a frequência de uso do veículo (Horas/dia e dias da semana) | Q29: Qual a condição de trânsito que enfrenta na maior parte do uso? | R29: - | S29: - | T29: - | U29: - | V29: - | W29: - | X29: - | Y29: - | Z29: - | AA29: - | AB29: -
B30: Consultor | C30: Motor | D30: Fluído de arrefecimento com coloração anormal | E30: Vaga de recepção | F30: Chefe de Oficina / Técnico / CQ | G30: 0.2 | H30: =G30*60 -> 12 | I30: =(H30/60)/24 -> 0.0083333333 | J30: - | K30: - | L30: - | M30: - | N30: Pode descrever o tipo/cor? | O30: Antes da viagem do sintoma, quanto tempo estacionado (era noite ou dia)? | P30: Qual a frequência de uso do veículo (Horas/dia e dias da semana) | Q30: Qual a condição de trânsito que enfrenta na maior parte do uso? | R30: - | S30: - | T30: - | U30: - | V30: - | W30: - | X30: - | Y30: - | Z30: - | AA30: - | AB30: -
B31: Consultor | C31: Motor | D31: Ruído no motor | E31: Vaga de recepção | F31: Chefe de Oficina / Técnico / CQ | G31: 0.3 | H31: =G31*60 -> 18 | I31: =(H31/60)/24 -> 0.0125 | J31: - | K31: - | L31: - | M31: - | N31: Sintoma está presente? | O31: É intermitente? | P31: Qual temperatura do motor que inicia o sintoma? | Q31: Qual Faixa de Velocidade? | R31: Temperatura ambiente/Condição climática | S31: Esta relacionado a primeira partida? | T31: Pode descrever o tipo/cor? | U31: Percebeu o sintoma andando ou parado? | V31: Quanto tempo estava percorrendo com o veículo antes do sintoma? | W31: Antes da viagem do sintoma, quanto tempo estacionado (era noite ou dia)? | X31: Qual a frequência de uso do veículo (Horas/dia e dias da semana) | Y31: Qual a frequência que ocorreu o sintoma novamente? | Z31: Algum fator relevante associado para o sintoma parar de ser reproduzido? | AA31: - | AB31: -
B32: Consultor | C32: Motor | D32: Vazamentos de lubrificantes e fluidos em geral | E32: Vaga de oficina | F32: Chefe de Oficina / Técnico / CQ | G32: 0.7 | H32: =G32*60 -> 42 | I32: =(H32/60)/24 -> 0.029166667 | J32: - | K32: - | L32: - | M32: - | N32: Alguma luz de advertência acendeu? | O32: Pode descrever o tipo/cor? | P32: Algum fator relevante/anômalo associado antes do sintoma? | Q32: - | R32: - | S32: - | T32: - | U32: - | V32: - | W32: - | X32: - | Y32: - | Z32: - | AA32: - | AB32: -
B33: Consultor | C33: Motor | D33: Luz de injeção acesa | E33: Vaga de oficina | F33: Chefe de Oficina / Técnico / CQ | G33: 0.5 | H33: =G33*60 -> 30 | I33: =(H33/60)/24 -> 0.020833333 | J33: - | K33: - | L33: - | M33: - | N33: Sintoma está presente? | O33: É intermitente? | P33: Qual temperatura do motor que inicia o sintoma? | Q33: Qual Faixa de Velocidade? | R33: Temperatura ambiente/Condição climática | S33: Esta relacionado a primeira partida? | T33: Após troca de combustivel ou abastecimento? | U33: Alguma luz de advertência acendeu? | V33: Porcentagem (ALC/GAS) de combustível no tanque | W33: Quanto tempo estava percorrendo com o veículo antes do sintoma? | X33: Qual a frequência que ocorreu o sintoma novamente? | Y33: Algum fator relevante associado para o sintoma parar de ser reproduzido? | Z33: - | AA33: - | AB33: -
B34: Consultor | C34: Motor | D34: Motor não vira | E34: Vaga de oficina | F34: Chefe de Oficina / Técnico / CQ | G34: 0.5 | H34: =G34*60 -> 30 | I34: =(H34/60)/24 -> 0.020833333 | J34: - | K34: - | L34: - | M34: - | N34: Sintoma está presente? | O34: É intermitente? | P34: Qual temperatura do motor que inicia o sintoma? | Q34: Temperatura ambiente/Condição climática | R34: Esta relacionado a primeira partida? | S34: Quanto tempo estava percorrendo com o veículo antes do sintoma? | T34: Antes da viagem do sintoma, quanto tempo estacionado (era noite ou dia)? | U34: Qual a frequência de uso do veículo (Horas/dia e dias da semana) | V34: Qual a frequência que ocorreu o sintoma novamente? | W34: Algum fator relevante associado para o sintoma parar de ser reproduzido? | X34: - | Y34: - | Z34: - | AA34: - | AB34: -
B35: Consultor | C35: Motor | D35: Motor vira mas não liga | E35: Vaga de oficina | F35: Chefe de Oficina / Técnico / CQ | G35: 0.5 | H35: =G35*60 -> 30 | I35: =(H35/60)/24 -> 0.020833333 | J35: - | K35: - | L35: - | M35: - | N35: Sintoma está presente? | O35: É intermitente? | P35: Qual temperatura do motor que inicia o sintoma? | Q35: Temperatura ambiente/Condição climática | R35: Esta relacionado a primeira partida? | S35: Após troca de combustivel ou abastecimento? | T35: Alguma luz de advertência acendeu? | U35: Porcentagem (ALC/GAS) de combustível no tanque | V35: Quanto tempo estava percorrendo com o veículo antes do sintoma? | W35: Antes da viagem do sintoma, quanto tempo estacionado (era noite ou dia)? | X35: Qual a frequência de uso do veículo (Horas/dia e dias da semana) | Y35: Qual a frequência que ocorreu o sintoma novamente? | Z35: Algum fator relevante associado para o sintoma parar de ser reproduzido? | AA35: - | AB35: -
B36: Consultor | C36: Motor | D36: Sobreaquecimento do motor | E36: Vaga de oficina | F36: Chefe de Oficina / Técnico / CQ | G36: 0.7 | H36: =G36*60 -> 42 | I36: =(H36/60)/24 -> 0.029166667 | J36: - | K36: - | L36: - | M36: - | N36: Sintoma está presente? | O36: É intermitente? | P36: Qual temperatura do motor que inicia o sintoma? | Q36: Qual era a condição de trânsito? | R36: Alguma luz de advertência acendeu? | S36: Quanto tempo estava percorrendo com o veículo antes do sintoma? | T36: Qual a frequência de uso do veículo (Horas/dia e dias da semana) | U36: Qual a condição de trânsito que enfrenta na maior parte do uso? | V36: Qual a frequência que ocorreu o sintoma novamente? | W36: Algum fator relevante associado para o sintoma parar de ser reproduzido? | X36: - | Y36: - | Z36: - | AA36: - | AB36: -
B37: Consultor | C37: Motor | D37: Consumo excessivo de combustível | E37: Vaga de oficina | F37: Chefe de Oficina / Técnico / CQ | G37: 0.5 | H37: =G37*60 -> 30 | I37: =(H37/60)/24 -> 0.020833333 | J37: - | K37: - | L37: - | M37: - | N37: Qual Faixa de Velocidade? | O37: Após troca de combustivel ou abastecimento? | P37: Qual era a condição de trânsito? | Q37: Porcentagem (ALC/GAS) de combustível no tanque | R37: Acontece apenas com condutor específico? | S37: Quanto tempo estava percorrendo com o veículo antes do sintoma? | T37: Qual a frequência de uso do veículo (Horas/dia e dias da semana) | U37: Qual a condição de trânsito que enfrenta na maior parte do uso? | V37: - | W37: - | X37: - | Y37: - | Z37: - | AA37: - | AB37: -
B38: Consultor | C38: Motor | D38: Vibração excessiva | E38: Vaga de oficina | F38: Chefe de Oficina / Técnico / CQ | G38: 0.5 | H38: =G38*60 -> 30 | I38: =(H38/60)/24 -> 0.020833333 | J38: - | K38: - | L38: - | M38: - | N38: Sintoma está presente? | O38: É intermitente? | P38: Qual temperatura do motor que inicia o sintoma? | Q38: Qual Faixa de Velocidade? | R38: Temperatura ambiente/Condição climática | S38: Esta relacionado a primeira partida? | T38: Após troca de combustivel ou abastecimento? | U38: Percebeu o sintoma andando ou parado? | V38: Qual a frequência que ocorreu o sintoma novamente? | W38: Algum fator relevante associado para o sintoma parar de ser reproduzido? | X38: - | Y38: - | Z38: - | AA38: - | AB38: -
B39: Consultor | C39: Motor | D39: Perda de potência | E39: Teste de rodagem | F39: Chefe de Oficina / Técnico / CQ | G39: 1 | H39: =G39*60 -> 60 | I39: =(H39/60)/24 -> 0.041666667 | J39: - | K39: - | L39: - | M39: - | N39: Sintoma está presente? | O39: É intermitente? | P39: Qual temperatura do motor que inicia o sintoma? | Q39: Qual Faixa de Velocidade? | R39: Em qual(is) marcha(s) ocorre(m)? | S39: Temperatura ambiente/Condição climática | T39: Esta relacionado a primeira partida? | U39: Após troca de combustivel ou abastecimento? | V39: Qual era o tipo e inclinação de pavimento/pista? | W39: Qual era a condição de trânsito? | X39: Alguma luz de advertência acendeu? | Y39: Porcentagem (ALC/GAS) de combustível no tanque | Z39: Quanto tempo estava percorrendo com o veículo antes do sintoma? | AA39: - | AB39: -
B40: Consultor | C40: Transmissão | D40: Não traciona | E40: Vaga de oficina | F40: Chefe de Oficina / Técnico / CQ | G40: 1 | H40: =G40*60 -> 60 | I40: =(H40/60)/24 -> 0.041666667 | J40: Kit de embreagem | K40: 3.5 | L40: =K40*60 -> 210 | M40: =(L40/60)/24 -> 0.14583333 | N40: Sintoma está presente? | O40: É intermitente? | P40: Qual temperatura do motor que inicia o sintoma? | Q40: Alguma luz de advertência acendeu? | R40: Quanto tempo estava percorrendo com o veículo antes do sintoma? | S40: Qual a frequência que ocorreu o sintoma novamente? | T40: Algum fator relevante associado para o sintoma parar de ser reproduzido? | U40: - | V40: - | W40: - | X40: - | Y40: - | Z40: - | AA40: - | AB40: -
B41: Consultor | C41: Transmissão | D41: Trancos na troca de marchas | E41: Teste de rodagem | F41: Chefe de Oficina / Técnico / CQ | G41: 1 | H41: =G41*60 -> 60 | I41: =(H41/60)/24 -> 0.041666667 | J41: Semi eixo | K41: 1 | L41: =K41*60 -> 60 | M41: =(L41/60)/24 -> 0.041666667 | N41: Sintoma está presente? | O41: É intermitente? | P41: Qual temperatura do motor que inicia o sintoma? | Q41: Qual Faixa de Velocidade? | R41: Em qual(is) marcha(s) ocorre(m)? | S41: Esta relacionado a primeira partida? | T41: Qual era a condição de trânsito? | U41: Alguma luz de advertência acendeu? | V41: Qual modo estava selecionado? | W41: Quanto tempo estava percorrendo com o veículo antes do sintoma? | X41: Qual a frequência que ocorreu o sintoma novamente? | Y41: Algum fator relevante associado para o sintoma parar de ser reproduzido? | Z41: - | AA41: - | AB41: -
B42: Consultor | C42: Transmissão | D42: Atraso na troca de marchas | E42: Teste de rodagem | F42: Chefe de Oficina / Técnico / CQ | G42: 1 | H42: =G42*60 -> 60 | I42: =(H42/60)/24 -> 0.041666667 | J42: Retentor | K42: 0.7 | L42: =K42*60 -> 42 | M42: =(L42/60)/24 -> 0.029166667 | N42: Sintoma está presente? | O42: É intermitente? | P42: Qual temperatura do motor que inicia o sintoma? | Q42: Qual Faixa de Velocidade? | R42: Em qual(is) marcha(s) ocorre(m)? | S42: Esta relacionado a primeira partida? | T42: Qual era a condição de trânsito? | U42: Alguma luz de advertência acendeu? | V42: Quanto tempo estava percorrendo com o veículo antes do sintoma? | W42: Qual a frequência que ocorreu o sintoma novamente? | X42: Algum fator relevante associado para o sintoma parar de ser reproduzido? | Y42: - | Z42: - | AA42: - | AB42: -
...

Sheet Consultor
K10: Local das Confirmações do Sintoma | P10: ='Dados Consultor'!B3 -> Teste de rodagem
K11: Responsável pela Conformação de sintoma | P11: ='Dados Consultor'!C3 -> Chefe de Oficina / Técnico / CQ
K12: Tempo (h) | P12: ='Dados Consultor'!D3 -> 0.5
K13: Duração | P13: ='Dados Consultor'!E3 -> 0.020833333
K14: Pergunta 1 | P14: ='Dados Consultor'!F3 -> Sintoma está presente?
K15: Pergunta 2 | P15: ='Dados Consultor'!G3 -> É intermitente?
K16: Pergunta 3 | P16: ='Dados Consultor'!H3 -> Qual temperatura do motor que inicia o sintoma?
K17: Pergunta 4 | P17: ='Dados Consultor'!I3 -> Qual Faixa de Velocidade?
K18: Pergunta 5 | P18: ='Dados Consultor'!J3 -> Em qual(is) marcha(s) ocorre(m)?
K19: Pergunta 6 | P19: ='Dados Consultor'!K3 -> Qual era a condição de trânsito?
K20: Pergunta 7 | P20: ='Dados Consultor'!L3 -> Qual modo estava selecionado?
K21: Pergunta 8 | P21: ='Dados Consultor'!M3 -> Percebeu o sintoma andando ou parado?
K22: Pergunta 9 | P22: ='Dados Consultor'!N3 -> Qual a frequência que ocorreu o sintoma novamente?
K23: Pergunta 10 | P23: ='Dados Consultor'!O3 -> Algum fator relevante associado para o sintoma parar de ser reproduzido?
K24: Pergunta 11 | P24: ='Dados Consultor'!P3 -> -
K25: Pergunta 12 | P25: ='Dados Consultor'!Q3 -> -
K26: Pergunta 13 | P26: ='Dados Consultor'!R3 -> -
K27: Pergunta 14 | P27: ='Dados Consultor'!S3 -> -
K28: Pergunta 15 | P28: ='Dados Consultor'!T3 -> -
K30: Solicitação do Cliente | R30: Tempo (h) | T30: Duração
K31: =IF('Tempo reparo consultor'!B6="","",'Tempo reparo consultor'!B6) -> Amortecedor Dianteiro | R31: =IF('Tempo reparo consultor'!C6="","",'Tempo reparo consultor'!C6) -> 0.9 | T31: =IF('Tempo reparo consultor'!D6="","",'Tempo reparo consultor'!D6) -> 0.0375
K32: =IF('Tempo reparo consultor'!B7="","",'Tempo reparo consultor'!B7) -> Amortecedor Traseiro | R32: =IF('Tempo reparo consultor'!C7="","",'Tempo reparo consultor'!C7) -> 0.5 | T32: =IF('Tempo reparo consultor'!D7="","",'Tempo reparo consultor'!D7) -> 0.020833333
K33: =IF('Tempo reparo consultor'!B8="","",'Tempo reparo consultor'!B8) -> Bateria | R33: =IF('Tempo reparo consultor'!C8="","",'Tempo reparo consultor'!C8) -> 0.3 | T33: =IF('Tempo reparo consultor'!D8="","",'Tempo reparo consultor'!D8) -> 0.0125
K34: =IF('Tempo reparo consultor'!B9="","",'Tempo reparo consultor'!B9) -> Bieleta | R34: =IF('Tempo reparo consultor'!C9="","",'Tempo reparo consultor'!C9) -> 0.4 | T34: =IF('Tempo reparo consultor'!D9="","",'Tempo reparo consultor'!D9) -> 0.016666667
K35: =IF('Tempo reparo consultor'!B10="","",'Tempo reparo consultor'!B10) -> Carter do motor | R35: =IF('Tempo reparo consultor'!C10="","",'Tempo reparo consultor'!C10) -> 0.8 | T35: =IF('Tempo reparo consultor'!D10="","",'Tempo reparo consultor'!D10) -> 0.033333333
K36: =IF('Tempo reparo consultor'!B11="","",'Tempo reparo consultor'!B11) -> Compressor | R36: =IF('Tempo reparo consultor'!C11="","",'Tempo reparo consultor'!C11) -> 1.3 | T36: =IF('Tempo reparo consultor'!D11="","",'Tempo reparo consultor'!D11) -> 0.054166667
K37: =IF('Tempo reparo consultor'!B12="","",'Tempo reparo consultor'!B12) -> Condensador | R37: =IF('Tempo reparo consultor'!C12="","",'Tempo reparo consultor'!C12) -> 0.5 | T37: =IF('Tempo reparo consultor'!D12="","",'Tempo reparo consultor'!D12) -> 0.020833333
K38: =IF('Tempo reparo consultor'!B13="","",'Tempo reparo consultor'!B13) -> Conjunto do radiador | R38: =IF('Tempo reparo consultor'!C13="","",'Tempo reparo consultor'!C13) -> 1.6 | T38: =IF('Tempo reparo consultor'!D13="","",'Tempo reparo consultor'!D13) -> 0.066666667
K39: =IF('Tempo reparo consultor'!B14="","",'Tempo reparo consultor'!B14) -> Defletor inferior do radiador | R39: =IF('Tempo reparo consultor'!C14="","",'Tempo reparo consultor'!C14) -> 0.2 | T39: =IF('Tempo reparo consultor'!D14="","",'Tempo reparo consultor'!D14) -> 0.0083333333

Sheet Dados Consultor
B2: Local das Confirmações do Sintoma | C2: Responsável pela confirmação do sintoma com o cliente | D2: Tempo (h) | E2: Duração | F2: Pergunta 1 | G2: Pergunta 2 | H2: Pergunta 3 | I2: Pergunta 4 | J2: Pergunta 5 | K2: Pergunta 6 | L2: Pergunta 7 | M2: Pergunta 8 | N2: Pergunta 9 | O2: Pergunta 10 | P2: Pergunta 11 | Q2: Pergunta 12 | R2: Pergunta 13 | S2: Pergunta 14 | T2: Pergunta 15
B3: Teste de rodagem | C3: Chefe de Oficina / Técnico / CQ | D3: 0.5 | E3: 0.020833333 | F3: Sintoma está presente? | G3: É intermitente? | H3: Qual temperatura do motor que inicia o sintoma? | I3: Qual Faixa de Velocidade? | J3: Em qual(is) marcha(s) ocorre(m)? | K3: Qual era a condição de trânsito? | L3: Qual modo estava selecionado? | M3: Percebeu o sintoma andando ou parado? | N3: Qual a frequência que ocorreu o sintoma novamente? | O3: Algum fator relevante associado para o sintoma parar de ser reproduzido? | P3: - | Q3: - | R3: - | S3: - | T3: -
B4: Teste de rodagem | C4: Chefe de Oficina / Técnico / CQ | D4: 0.5 | E4: 0.020833333 | F4: Sintoma está presente? | G4: É intermitente? | H4: Qual temperatura do motor que inicia o sintoma? | I4: Qual Faixa de Velocidade? | J4: Como estava sendo feita a frenagem? | K4: Qual era a condição de trânsito? | L4: Quanto tempo estava percorrendo com o veículo antes do sintoma? | M4: Qual a condição de trânsito que enfrenta na maior parte do uso? | N4: Qual a frequência que ocorreu o sintoma novamente? | O4: Algum fator relevante associado para o sintoma parar de ser reproduzido? | P4: - | Q4: - | R4: - | S4: - | T4: -
B5: Teste de rodagem | C5: Chefe de Oficina / Técnico / CQ | D5: 0.5 | E5: 0.020833333 | F5: Sintoma está presente? | G5: É intermitente? | H5: Qual temperatura do motor que inicia o sintoma? | I5: Qual Faixa de Velocidade? | J5: Temperatura ambiente/Condição climática | K5: Como estava sendo feita a frenagem? | L5: Qual era a condição de trânsito? | M5: Alguma luz de advertência acendeu? | N5: Quanto tempo estava percorrendo com o veículo antes do sintoma? | O5: Qual a condição de trânsito que enfrenta na maior parte do uso? | P5: Qual a frequência que ocorreu o sintoma novamente? | Q5: Algum fator relevante associado para o sintoma parar de ser reproduzido? | R5: - | S5: - | T5: -
B6: Teste de rodagem | C6: Chefe de Oficina / Técnico / CQ | D6: 0.5 | E6: 0.020833333 | F6: Sintoma está presente? | G6: É intermitente? | H6: Qual temperatura do motor que inicia o sintoma? | I6: Qual Faixa de Velocidade? | J6: Temperatura ambiente/Condição climática | K6: Como estava sendo feita a frenagem? | L6: Qual era a condição de trânsito? | M6: Alguma luz de advertência acendeu? | N6: Percebeu o sintoma andando ou parado? | O6: Quanto tempo estava percorrendo com o veículo antes do sintoma? | P6: Qual a condição de trânsito que enfrenta na maior parte do uso? | Q6: Qual a frequência que ocorreu o sintoma novamente? | R6: Algum fator relevante associado para o sintoma parar de ser reproduzido? | S6: - | T6: -
B7: Teste de rodagem | C7: Chefe de Oficina / Técnico / CQ | D7: 0.5 | E7: 0.020833333 | F7: Sintoma está presente? | G7: É intermitente? | H7: Qual Faixa de Velocidade? | I7: Temperatura ambiente/Condição climática | J7: Como estava direcionando/movimentando/mantendo o volante? | K7: Acontece apenas com condutor específico? | L7: Algum fator relevante/anômalo associado antes do sintoma? | M7: Qual a frequência que ocorreu o sintoma novamente? | N7: Algum fator relevante associado para o sintoma parar de ser reproduzido? | O7: - | P7: - | Q7: - | R7: - | S7: - | T7: -
B8: Teste de rodagem | C8: Chefe de Oficina / Técnico / CQ | D8: 0.5 | E8: 0.020833333 | F8: Sintoma está presente? | G8: É intermitente? | H8: Qual Faixa de Velocidade? | I8: Temperatura ambiente/Condição climática | J8: Como estava direcionando/movimentando/mantendo o volante? | K8: Pode descrever o tipo/cor? | L8: Qual a frequência que ocorreu o sintoma novamente? | M8: Algum fator relevante associado para o sintoma parar de ser reproduzido? | N8: - | O8: - | P8: - | Q8: - | R8: - | S8: - | T8: -
B9: Teste de rodagem | C9: Chefe de Oficina / Técnico / CQ | D9: 0.5 | E9: 0.020833333 | F9: Sintoma está presente? | G9: É intermitente? | H9: Qual Faixa de Velocidade? | I9: Temperatura ambiente/Condição climática | J9: Como estava sendo feita a frenagem? | K9: Qual era a condição de trânsito? | L9: Pode descrever o tipo/cor? | M9: Quanto tempo estava percorrendo com o veículo antes do sintoma? | N9: Qual a frequência de uso do veículo (Horas/dia e dias da semana) | O9: Qual a condição de trânsito que enfrenta na maior parte do uso? | P9: Qual a frequência que ocorreu o sintoma novamente? | Q9: Algum fator relevante associado para o sintoma parar de ser reproduzido? | R9: - | S9: - | T9: -
B10: Teste de rodagem | C10: Chefe de Oficina / Técnico / CQ | D10: 0.5 | E10: 0.020833333 | F10: Sintoma está presente? | G10: É intermitente? | H10: Qual Faixa de Velocidade? | I10: Temperatura ambiente/Condição climática | J10: Como estava sendo feita a frenagem? | K10: Qual era a condição de trânsito? | L10: Quanto tempo estava percorrendo com o veículo antes do sintoma? | M10: Qual a condição de trânsito que enfrenta na maior parte do uso? | N10: Qual a frequência que ocorreu o sintoma novamente? | O10: Algum fator relevante associado para o sintoma parar de ser reproduzido? | P10: - | Q10: - | R10: - | S10: - | T10: -
B11: Teste de rodagem | C11: Chefe de Oficina / Técnico / CQ | D11: 0.5 | E11: 0.020833333 | F11: Sintoma está presente? | G11: É intermitente? | H11: Qual Faixa de Velocidade? | I11: Como estava direcionando/movimentando/mantendo o volante? | J11: Algum fator relevante/anômalo associado antes do sintoma? | K11: Qual a frequência que ocorreu o sintoma novamente? | L11: Algum fator relevante associado para o sintoma parar de ser reproduzido? | M11: - | N11: - | O11: - | P11: - | Q11: - | R11: - | S11: - | T11: -
B12: Teste de rodagem | C12: Chefe de Oficina / Técnico / CQ | D12: 0.5 | E12: 0.020833333 | F12: Sintoma está presente? | G12: É intermitente? | H12: Qual Faixa de Velocidade? | I12: Como estava direcionando/movimentando/mantendo o volante? | J12: Percebeu o sintoma andando ou parado? | K12: Quanto tempo estava percorrendo com o veículo antes do sintoma? | L12: Algum fator relevante/anômalo associado antes do sintoma? | M12: Qual a frequência que ocorreu o sintoma novamente? | N12: Algum fator relevante associado para o sintoma parar de ser reproduzido? | O12: - | P12: - | Q12: - | R12: - | S12: - | T12: -
B13: Teste de rodagem | C13: Chefe de Oficina / Técnico / CQ | D13: 0.5 | E13: 0.020833333 | F13: Sintoma está presente? | G13: É intermitente? | H13: Qual Faixa de Velocidade? | I13: Como estava sendo feita a frenagem? | J13: Qual era a condição de trânsito? | K13: Alguma luz de advertência acendeu? | L13: Qual a condição de trânsito que enfrenta na maior parte do uso? | M13: Qual a frequência que ocorreu o sintoma novamente? | N13: Algum fator relevante associado para o sintoma parar de ser reproduzido? | O13: - | P13: - | Q13: - | R13: - | S13: - | T13: -
B14: Teste de rodagem | C14: Chefe de Oficina / Técnico / CQ | D14: 0.5 | E14: 0.020833333 | F14: Sintoma está presente? | G14: É intermitente? | H14: Em qual(is) marcha(s) ocorre(m)? | I14: Qual era a condição de trânsito? | J14: Acontece apenas com condutor específico? | K14: Qual a condição de trânsito que enfrenta na maior parte do uso? | L14: Qual a frequência que ocorreu o sintoma novamente? | M14: Algum fator relevante associado para o sintoma parar de ser reproduzido? | N14: - | O14: - | P14: - | Q14: - | R14: - | S14: - | T14: -
... B31: Vaga de Oficina | C31: Chefe de Oficina / Técnico / CQ | D31: 1 | E31: 0.041666667 | F31: Sintoma está presente? | G31: É intermitente? | H31: Qual temperatura do motor que inicia o sintoma? | I31: Alguma luz de advertência acendeu? | J31: Quanto tempo estava percorrendo com o veículo antes do sintoma? | K31: Qual a frequência que ocorreu o sintoma novamente? | L31: Algum fator relevante associado para o sintoma parar de ser reproduzido? | M31: - | N31: - | O31: - | P31: - | Q31: - | R31: - | S31: - | T31: -
B32: Vaga de Oficina | C32: Chefe de Oficina / Técnico / CQ | D32: 24 | E32: 24:00:00 | F32: Sintoma está presente? | G32: É intermitente? | H32: Temperatura ambiente/Condição climática | I32: Esta relacionado a primeira partida? | J32: Alguma luz de advertência acendeu? | K32: Antes da viagem do sintoma, quanto tempo estacionado (era noite ou dia)? | L32: Qual a frequência de uso do veículo (Horas/dia e dias da semana) | M32: Qual a condição de trânsito que enfrenta na maior parte do uso? | N32: Algum fator relevante/anômalo associado antes do sintoma? | O32: Qual a frequência que ocorreu o sintoma novamente? | P32: Algum fator relevante associado para o sintoma parar de ser reproduzido? | Q32: - | R32: - | S32: - | T32: -
B33: Vaga de recepção | C33: Chefe de Oficina / Técnico / CQ | D33: 0.2 | E33: 0.0083333333 | F33: Sintoma está presente? | G33: É intermitente? | H33: Qual temperatura do motor que inicia o sintoma? | I33: Esta relacionado a primeira partida? | J33: Após troca de combustivel ou abastecimento? | K33: Alguma luz de advertência acendeu? | L33: Porcentagem (ALC/GAS) de combustível no tanque | M33: Quanto tempo estava percorrendo com o veículo antes do sintoma? | N33: Qual a frequência que ocorreu o sintoma novamente? | O33: Algum fator relevante associado para o sintoma parar de ser reproduzido? | P33: - | Q33: - | R33: - | S33: - | T33: -
B34: Vaga de recepção | C34: Chefe de Oficina / Técnico / CQ | D34: 0.2 | E34: 0.0083333333 | F34: Sintoma está presente? | G34: É intermitente? | H34: Qual temperatura do motor que inicia o sintoma? | I34: Esta relacionado a primeira partida? | J34: Após troca de combustivel ou abastecimento? | K34: Porcentagem (ALC/GAS) de combustível no tanque | L34: Pode descrever o tipo/cor? | M34: Quanto tempo estava percorrendo com o veículo antes do sintoma? | N34: Antes da viagem do sintoma, quanto tempo estacionado (era noite ou dia)? | O34: Qual a frequência de uso do veículo (Horas/dia e dias da semana) | P34: Qual a frequência que ocorreu o sintoma novamente? | Q34: Algum fator relevante associado para o sintoma parar de ser reproduzido? | R34: - | S34: - | T34: -
B35: Vaga de recepção | C35: Chefe de Oficina / Técnico / CQ | D35: 0.2 | E35: 0.0083333333 | F35: Sintoma está presente? | G35: É intermitente? | H35: Qual temperatura do motor que inicia o sintoma? | I35: Temperatura ambiente/Condição climática | J35: Esta relacionado a primeira partida? | K35: Após troca de combustivel ou abastecimento? | L35: Qual era a condição de trânsito? | M35: Porcentagem (ALC/GAS) de combustível no tanque | N35: Pode descrever o tipo/cor? | O35: Quanto tempo estava percorrendo com o veículo antes do sintoma? | P35: Antes da viagem do sintoma, quanto tempo estacionado (era noite ou dia)? | Q35: Qual a frequência de uso do veículo (Horas/dia e dias da semana) | R35: Qual a condição de trânsito que enfrenta na maior parte do uso? | S35: Qual a frequência que ocorreu o sintoma novamente? | T35: Algum fator relevante associado para o sintoma parar de ser reproduzido?
B36: Vaga de recepção | C36: Chefe de Oficina / Técnico / CQ | D36: 0.2 | E36: 0.0083333333 | F36: Sintoma está presente? | G36: É intermitente? | H36: Qual temperatura do motor que inicia o sintoma? | I36: Temperatura ambiente/Condição climática | J36: Esta relacionado a primeira partida? | K36: Após troca de combustivel ou abastecimento? | L36: Alguma luz de advertência acendeu? | M36: Porcentagem (ALC/GAS) de combustível no tanque | N36: Quanto tempo estava percorrendo com o veículo antes do sintoma? | O36: Antes da viagem do sintoma, quanto tempo estacionado (era noite ou dia)? | P36: Qual a frequência de uso do veículo (Horas/dia e dias da semana) | Q36: Qual a frequência que ocorreu o sintoma novamente? | R36: Algum fator relevante associado para o sintoma parar de ser reproduzido? | S36: - | T36: -
B37: Vaga de recepção | C37: Chefe de Oficina / Técnico / CQ | D37: 0.2 | E37: 0.0083333333 | F37: Sintoma está presente? | G37: É intermitente? | H37: Esta relacionado a primeira partida? | I37: É perceptivel dentro ou fora do veiculo? | J37: Após troca de combustivel ou abastecimento? | K37: Porcentagem (ALC/GAS) de combustível no tanque | L37: Quanto tempo estava percorrendo com o veículo antes do sintoma? | M37: Antes da viagem do sintoma, quanto tempo estacionado (era noite ou dia)? | N37: Qual a frequência de uso do veículo (Horas/dia e dias da semana) | O37: Qual a condição de trânsito que enfrenta na maior parte do uso? | P37: Qual a frequência que ocorreu o sintoma novamente? | Q37: Algum fator relevante associado para o sintoma parar de ser reproduzido? | R37: - | S37: - | T37: -
B38: Vaga de recepção | C38: Chefe de Oficina / Técnico / CQ | D38: 0.2 | E38: 0.0083333333 | F38: Alguma luz de advertência acendeu? | G38: Antes da viagem do sintoma, quanto tempo estacionado (era noite ou dia)? | H38: Qual a frequência de uso do veículo (Horas/dia e dias da semana) | I38: Qual a condição de trânsito que enfrenta na maior parte do uso? | J38: - | K38: - | L38: - | M38: - | N38: - | O38: - | P38: - | Q38: - | R38: - | S38: - | T38: -
B39: Vaga de recepção | C39: Chefe de Oficina / Técnico / CQ | D39: 0.2 | E39: 0.0083333333 | F39: Porcentagem (ALC/GAS) de combustível no tanque | G39: Pode descrever o tipo/cor? | H39: Antes da viagem do sintoma, quanto tempo estacionado (era noite ou dia)? | I39: Qual a frequência de uso do veículo (Horas/dia e dias da semana) | J39: Qual a condição de trânsito que enfrenta na maior parte do uso? | K39: - | L39: - | M39: - | N39: - | O39: - | P39: - | Q39: - | R39: - | S39: - | T39: -
B40: Vaga de recepção | C40: Chefe de Oficina / Técnico / CQ | D40: 0.2 | E40: 0.0083333333 | F40: Pode descrever o tipo/cor? | G40: Antes da viagem do sintoma, quanto tempo estacionado (era noite ou dia)? | H40: Qual a frequência de uso do veículo (Horas/dia e dias da semana) | I40: Qual a condição de trânsito que enfrenta na maior parte do uso? | J40: - | K40: - | L40: - | M40: - | N40: - | O40: - | P40: - | Q40: - | R40: - | S40: - | T40: -
B41: Vaga de recepção | C41: Chefe de Oficina / Técnico / CQ | D41: 0.3 | E41: 0.0125 | F41: Sintoma está presente? | G41: É intermitente? | H41: Qual temperatura do motor que inicia o sintoma? | I41: Qual Faixa de Velocidade? | J41: Temperatura ambiente/Condição climática | K41: Esta relacionado a primeira partida? | L41: Pode descrever o tipo/cor? | M41: Percebeu o sintoma andando ou parado? | N41: Quanto tempo estava percorrendo com o veículo antes do sintoma? | O41: Antes da viagem do sintoma, quanto tempo estacionado (era noite ou dia)? | P41: Qual a frequência de uso do veículo (Horas/dia e dias da semana) | Q41: Qual a frequência que ocorreu o sintoma novamente? | R41: Algum fator relevante associado para o sintoma parar de ser reproduzido? | S41: - | T41: -
B42: Vaga de recepção | C42: Chefe de Oficina / Técnico / CQ | D42: 0.3 | E42: 0.0125 | F42: Sintoma está presente? | G42: É intermitente? | H42: Qual temperatura do motor que inicia o sintoma? | I42: Esta relacionado a primeira partida? | J42: Qual era a condição de trânsito? | K42: Acontece apenas com condutor específico? | L42: Quanto tempo estava percorrendo com o veículo antes do sintoma? | M42: Qual a condição de trânsito que enfrenta na maior parte do uso? | N42: Qual a frequência que ocorreu o sintoma novamente? | O42: Algum fator relevante associado para o sintoma parar de ser reproduzido? | P42: - | Q42: - | R42: - | S42: - | T42: -
B43: Vaga de recepção | C43: Chefe de Oficina / Técnico / CQ | D43: 0.3 | E43: 0.0125 | F43: Sintoma está presente? | G43: É intermitente? | H43: Qual temperatura do motor que inicia o sintoma? | I43: Temperatura ambiente/Condição climática | J43: Esta relacionado a primeira partida? | K43: Após troca de combustivel ou abastecimento? | L43: Alguma luz de advertência acendeu? | M43: Porcentagem (ALC/GAS) de combustível no tanque | N43: Quanto tempo estava percorrendo com o veículo antes do sintoma? | O43: Antes da viagem do sintoma, quanto tempo estacionado (era noite ou dia)? | P43: Qual a frequência de uso do veículo (Horas/dia e dias da semana) | Q43: Qual a frequência que ocorreu o sintoma novamente? | R43: Algum fator relevante associado para o sintoma parar de ser reproduzido? | S43: - | T43: -
B44: Vaga de recepção | C44: Consultor | D44: 0.2 | E44: 0.0083333333 | F44: Sintoma está presente? | G44: É intermitente? | H44: Qual temperatura do motor que inicia o sintoma? | I44: Temperatura ambiente/Condição climática | J44: Esta relacionado a primeira partida? | K44: Após troca de combustivel ou abastecimento? | L44: Alguma luz de advertência acendeu? | M44: Porcentagem (ALC/GAS) de combustível no tanque | N44: Qual a frequência que ocorreu o sintoma novamente? | O44: Algum fator relevante associado para o sintoma parar de ser reproduzido? | P44: - | Q44: - | R44: - | S44: - | T44: -
... B60: Vaga de recepção | C60: Consultor | D60: 0.5 | E60: 0.020833333 | F60: Pode descrever o tipo/cor? | G60: Algum fator relevante/anômalo associado antes do sintoma? | H60: - | I60: - | J60: - | K60: - | L60: - | M60: - | N60: - | O60: - | P60: - | Q60: - | R60: - | S60: - | T60: -
B61: Vaga de recepção | C61: Consultor | D61: - | E61: - | F61: Sintoma está presente? | G61: É intermitente? | H61: Qual Faixa de Velocidade? | I61: Como estava direcionando/movimentando/mantendo o volante? | J61: Qual era a condição de trânsito? | K61: Percebeu o sintoma andando ou parado? | L61: Acontece apenas com condutor específico? | M61: Quanto tempo estava percorrendo com o veículo antes do sintoma? | N61: Algum fator relevante/anômalo associado antes do sintoma? | O61: Qual a frequência que ocorreu o sintoma novamente? | P61: Algum fator relevante associado para o sintoma parar de ser reproduzido? | Q61: - | R61: - | S61: - | T61: -
B62: Vaga de recepção | C62: Consultor | D62: - | E62: - | F62: Como estava sendo feita a frenagem? | G62: Qual era o tipo e inclinação de pavimento/pista? | H62: Qual a frequência de uso do veículo (Horas/dia e dias da semana) | I62: Qual a condição de trânsito que enfrenta na maior parte do uso? | J62: Algum fator relevante/anômalo associado antes do sintoma? | K62: - | L62: - | M62: - | N62: - | O62: - | P62: - | Q62: - | R62: - | S62: - | T62: -

Sheet Tempo reparo consultor
B5: Solicitação do Cliente. | C5: Tempo (h). | D5: Duração.
B6: Amortecedor Dianteiro | C6: 0.9 | D6: 0.0375
B7: Amortecedor Traseiro | C7: 0.5 | D7: 0.020833333
B8: Bateria | C8: 0.3 | D8: 0.0125
B9: Bieleta | C9: 0.4 | D9: 0.016666667
B10: Carter do motor | C10: 0.8 | D10: 0.033333333
B11: Compressor | C11: 1.3 | D11: 0.054166667
B12: Condensador | C12: 0.5 | D12: 0.020833333
B13: Conjunto do radiador | C13: 1.6 | D13: 0.066666667
B14: Defletor inferior do radiador | C14: 0.2 | D14: 0.0083333333
B15: Difusor | C15: 0.2 | D15: 0.0083333333 | F15: 0
B16: Discos | C16: 1 | D16: 0.041666667
B17: Emblemas / Logotípos | C17: 0.5 | D17: 0.020833333
B18: Evaporador | C18: 3.5 | D18: 0.14583333
B19: Farol / Lanterna | C19: 0.3 | D19: 0.0125
B20: Filtro de ar | C20: 0.2 | D20: 0.0083333333
B21: Kit de embreagem | C21: 3.5 | D21: 0.14583333
B22: Lâmpada / Fusível | C22: 0.3 | D22: 0.0125
B23: Lonas | C23: 1.2 | D23: 0.05
B24: Molas | C24: 1.2 | D24: 0.05
B25: Motor completo | C25: 6 | D25: 0.25
B26: Motor do limpador de para-brisa | C26: 0.4 | D26: 0.016666667
B27: Motor do vidro dianteiro | C27: 0.5 | D27: 0.020833333
... B37: Velas | C37: 0.4 | D37: 0.016666667
B38: - | C38: - | D38: -

Sheet Agendamento
K10: Local das Confirmações do Sintoma | P10: ='Dados Agendador'!B5 -> Teste de rodagem
K11: Responsável pela Confirmação de sintoma | P11: ='Dados Agendador'!C5 -> Chefe de Oficina / Técnico / CQ
K12: Tempo (h) | P12: ='Dados Agendador'!D5 -> 0.5
K13: Duração | P13: ='Dados Agendador'!E5 -> 0.020833333
K14: Pergunta 1 | P14: ='Dados Agendador'!F5 -> Como ocorre?
K15: Pergunta 2 | P15: ='Dados Agendador'!G5 -> Onde ocorre?
K16: Pergunta 3 | P16: ='Dados Agendador'!H5 -> Quando ocorre?
K17: Pergunta 4 | P17: ='Dados Agendador'!I5 -> Qual a frequência?
K18: Pergunta 5 | P18: ='Dados Agendador'!J5 -> Tipo de barulho?
K19: Pergunta 6 | P19: ='Dados Agendador'!K5 -> Acendeu alguma luz no painel?
K20: Pergunta 7 | P20: ='Dados Agendador'!L5 -> Sofreu algum impacto e/ou avaria?
K21: Pergunta 8 | P21: ='Dados Agendador'!M5 -> -
K23: Solicitação do Cliente | R23: Tempo (h) | T23: Duração
K24: =IF('Tempo reparo agendador'!B6="","",'Tempo reparo agendador'!B6) -> Amortecedor Dianteiro | R24: =IF('Tempo reparo agendador'!C6="","",'Tempo reparo agendador'!C6) -> 0.9 | T24: =IF('Tempo reparo agendador'!D6="","",'Tempo reparo agendador'!D6) -> 0.0375
K25: =IF('Tempo reparo agendador'!B7="","",'Tempo reparo agendador'!B7) -> Amortecedor Traseiro | R25: =IF('Tempo reparo agendador'!C7="","",'Tempo reparo agendador'!C7) -> 0.5 | T25: =IF('Tempo reparo agendador'!D7="","",'Tempo reparo agendador'!D7) -> 0.020833333
K26: =IF('Tempo reparo agendador'!B8="","",'Tempo reparo agendador'!B8) -> Bateria | R26: =IF('Tempo reparo agendador'!C8="","",'Tempo reparo agendador'!C8) -> 0.3 | T26: =IF('Tempo reparo agendador'!D8="","",'Tempo reparo agendador'!D8) -> 0.0125
K27: =IF('Tempo reparo agendador'!B9="","",'Tempo reparo agendador'!B9) -> Bieleta | R27: =IF('Tempo reparo agendador'!C9="","",'Tempo reparo agendador'!C9) -> 0.4 | T27: =IF('Tempo reparo agendador'!D9="","",'Tempo reparo agendador'!D9) -> 0.016666667
K28: =IF('Tempo reparo agendador'!B10="","",'Tempo reparo agendador'!B10) -> Carter do motor | R28: =IF('Tempo reparo agendador'!C10="","",'Tempo reparo agendador'!C10) -> 0.8 | T28: =IF('Tempo reparo agendador'!D10="","",'Tempo reparo agendador'!D10) -> 0.033333333
K29: =IF('Tempo reparo agendador'!B11="","",'Tempo reparo agendador'!B11) -> Compressor | R29: =IF('Tempo reparo agendador'!C11="","",'Tempo reparo agendador'!C11) -> 1.3 | T29: =IF('Tempo reparo agendador'!D11="","",'Tempo reparo agendador'!D11) -> 0.054166667
K30: =IF('Tempo reparo agendador'!B12="","",'Tempo reparo agendador'!B12) -> Condensador | R30: =IF('Tempo reparo agendador'!C12="","",'Tempo reparo agendador'!C12) -> 0.5 | T30: =IF('Tempo reparo agendador'!D12="","",'Tempo reparo agendador'!D12) -> 0.020833333
K31: =IF('Tempo reparo agendador'!B13="","",'Tempo reparo agendador'!B13) -> Conjunto do radiador | R31: =IF('Tempo reparo agendador'!C13="","",'Tempo reparo agendador'!C13) -> 1.6 | T31: =IF('Tempo reparo agendador'!D13="","",'Tempo reparo agendador'!D13) -> 0.066666667
K32: =IF('Tempo reparo agendador'!B14="","",'Tempo reparo agendador'!B14) -> Defletor inferior do radiador | R32: =IF('Tempo reparo agendador'!C14="","",'Tempo reparo agendador'!C14) -> 0.2 | T32: =IF('Tempo reparo agendador'!D14="","",'Tempo reparo agendador'!D14) -> 0.0083333333

Sheet Dados Agendador
B4: Local das Confirmações do Sintoma | C4: Responsável pela confirmação do sintoma com o cliente | D4: Tempo (h) | E4: Duração | F4: Pergunta 1 | G4: Pergunta 2 | H4: Pergunta 3 | I4: Pergunta 4 | J4: Pergunta 5 | K4: Pergunta 6 | L4: Pergunta 7 | M4: Pergunta 8
B5: Teste de rodagem | C5: Chefe de Oficina / Técnico / CQ | D5: 0.5 | E5: 0.020833333 | F5: Como ocorre? | G5: Onde ocorre? | H5: Quando ocorre? | I5: Qual a frequência? | J5: Tipo de barulho? | K5: Acendeu alguma luz no painel? | L5: Sofreu algum impacto e/ou avaria? | M5: -
B6: Teste de rodagem | C6: Chefe de Oficina / Técnico / CQ | D6: 0.5 | E6: 0.020833333 | F6: Como ocorre? | G6: Onde ocorre? | H6: Quando ocorre? | I6: Qual a frequência? | J6: Tipo de barulho? | K6: Sofreu algum impacto e/ou avaria? | L6: - | M6: -
B7: Teste de rodagem | C7: Chefe de Oficina / Técnico / CQ | D7: 0.5 | E7: 0.020833333 | F7: Como ocorre? | G7: Onde ocorre? | H7: Quando ocorre? | I7: Qual a frequência? | J7: Sofreu algum impacto e/ou avaria? | K7: - | L7: - | M7: -
B8: Teste de rodagem | C8: Chefe de Oficina / Técnico / CQ | D8: 0.5 | E8: 0.020833333 | F8: Como ocorre? | G8: Onde ocorre? | H8: Quando ocorre? | I8: Qual a frequência? | J8: Acendeu alguma luz no painel? | K8: Sofreu algum impacto e/ou avaria? | L8: - | M8: -
B9: Teste de rodagem | C9: Chefe de Oficina / Técnico / CQ | D9: 1 | E9: 0.041666667 | F9: Como ocorre? | G9: Onde ocorre? | H9: Quando ocorre? | I9: Qual a frequência? | J9: Acendeu alguma luz no painel? | K9: Sofreu algum impacto e/ou avaria? | L9: - | M9: -
B10: Teste de rodagem | C10: Chefe de Oficina / Técnico / CQ | D10: 1 | E10: 0.041666667 | F10: Como ocorre? | G10: Onde ocorre? | H10: Quando ocorre? | I10: Qual a frequência? | J10: Acendeu alguma luz no painel? | K10: Qual o combustível utilizado? | L10: Sofreu algum impacto e/ou avaria? | M10: -
B11: Vaga de Oficina | C11: Chefe de Oficina / Técnico / CQ | D11: 0.5 | E11: 0.020833333 | F11: Como ocorre? | G11: Onde ocorre? | H11: Quando ocorre? | I11: Qual a frequência? | J11: Tipo de barulho? | K11: Sofreu algum impacto e/ou avaria? | L11: - | M11: -
B12: Vaga de Oficina | C12: Chefe de Oficina / Técnico / CQ | D12: 0.5 | E12: 0.020833333 | F12: Como ocorre? | G12: Onde ocorre? | H12: Quando ocorre? | I12: Qual a frequência? | J12: Acendeu alguma luz no painel? | K12: Sofreu algum impacto e/ou avaria? | L12: - | M12: -
