Workbook
Name SegmentaçãodeDados_Categoria: #N/A
Name SegmentaçãodeDados_Categoria1: #N/A
Name SegmentaçãodeDados_Solicitação_do_Cliente: #N/A
Name SegmentaçãodeDados_Solicitação_do_Cliente1: #N/A

Sheet Tabela Consultor
C3: TABELA DE CONFIRMAÇÃO DE SINTOMAS | J3: PRINCIPAIS TEMPOS DE REPARO | N3: PRINCIPAIS PERGUNTAS DE INVESTIGAÇÃO TÉCNICA
B4: Responsável | C4: Categoria | D4: Solicitação do Cliente | E4: Local das Confirmações do Sintoma | F4: Responsável pela confirmação do sintoma com o cliente | G4: Tempo (h) | H4: Min. | I4: Duração | J4: Solicitação do Cliente. | K4: Tempo (h). | L4: Minutos | M4: Duração. | N4: Pergunta 1 | O4: Pergunta 2 | P4: Pergunta 3 | Q4: Pergunta 4 | R4: Pergunta 5 | S4: Pergunta 6 | T4: Pergunta 7 | U4: Pergunta 8 | V4: Pergunta 9 | W4: Pergunta 10 | X4: Pergunta 11 | Y4: Pergunta 12 | Z4: Pergunta 13 | AA4: Pergunta 14 | AB4: Pergunta 15
B5: Consultor | C5: Suspensão Direção | D5: Desgaste anormal do pneu | E5: Vaga de recepção | F5: Consultor | G5: - | H5: =IFERROR(G5*60,0) -> 0 | I5: - | J5: Amortecedor Dianteiro | K5: 0.9 | L5: =K5*60 -> 54 | M5: =(L5/60)/24 -> 0.0375 | N5: Como estava sendo feita a frenagem? | O5: Qual era o tipo e inclinação de pavimento/pista? | P5: Qual a frequência de uso do veículo (Horas/dia e dias da semana) | Q5: Qual a condição de trânsito que enfrenta na maior parte do uso? | R5: Algum fator relevante/anômalo associado antes do sintoma? | S5: - | T5: - | U5: - | V5: - | W5: - | X5: - | Y5: - | Z5: - | AA5: - | AB5: -
B6: Consultor | C6: Suspensão Direção | D6: Volante "pesado" | E6: Vaga de recepção | F6: Consultor | G6: - | H6: =IFERROR(G6*60,0) -> 0 | I6: - | J6: Amortecedor Traseiro | K6: 0.5 | L6: =K6*60 -> 30 | M6: =(L6/60)/24 -> 0.020833333 | N6: Sintoma está presente? | O6: É intermitente? | P6: Qual Faixa de Velocidade? | Q6: Como estava direcionando/movimentando/mantendo o volante? | R6: Qual era a condição de trânsito? | S6: Percebeu o sintoma andando ou parado? | T6: Acontece apenas com condutor específico? | U6: Quanto tempo estava percorrendo com o veículo antes do sintoma? | V6: Algum fator relevante/anômalo associado antes do sintoma? | W6: Qual a frequência que ocorreu o sintoma novamente? | X6: Algum fator relevante associado para o sintoma parar de ser reproduzido? | Y6: - | Z6: - | AA6: - | AB6: -
B7: Consultor | C7: Suspensão Direção | D7: Volante "puxa" para o lado | E7: Teste de rodagem | F7: Chefe de Oficina / Técnico / CQ | G7: 0.5 | H7: =G7*60 -> 30 | I7: =(H7/60)/24 -> 0.020833333 | J7: Pivô da balança | K7: 0.7 | L7: =K7*60 -> 42 | M7: =(L7/60)/24 -> 0.029166667 | N7: Sintoma está presente? | O7: É intermitente? | P7: Qual Faixa de Velocidade? | Q7: Como estava direcionando/movimentando/mantendo o volante? | R7: Algum fator relevante/anômalo associado antes do sintoma? | S7: Qual a frequência que ocorreu o sintoma novamente? | T7: Algum fator relevante associado para o sintoma parar de ser reproduzido? | U7: - | V7: - | W7: - | X7: - | Y7: - | Z7: - | AA7: - | AB7: -
B8: Consultor | C8: Suspensão Direção | D8: Vibração no Volante | E8: Teste de rodagem | F8: Chefe de Oficina / Técnico / CQ | G8: 0.5 | H8: =G8*60 -> 30 | I8: =(H8/60)/24 -> 0.020833333 | J8: Bieleta | K8: 0.4 | L8: =K8*60 -> 24 | M8: =(L8/60)/24 -> 0.016666667 | N8: Sintoma está presente? | O8: É intermitente? | P8: Qual Faixa de Velocidade? | Q8: Como estava direcionando/movimentando/mantendo o volante? | R8: Percebeu o sintoma andando ou parado? | S8: Quanto tempo estava percorrendo com o veículo antes do sintoma? | T8: Algum fator relevante/anômalo associado antes do sintoma? | U8: Qual a frequência que ocorreu o sintoma novamente? | V8: Algum fator relevante associado para o sintoma parar de ser reproduzido? | W8: - | X8: - | Y8: - | Z8: - | AA8: - | AB8: -
B9: Consultor | C9: Suspensão Direção | D9: Instabilidade ao dirigir | E9: Teste de rodagem | F9: Chefe de Oficina / Técnico / CQ | G9: 0.5 | H9: =G9*60 -> 30 | I9: =(H9/60)/24 -> 0.020833333 | J9: Molas | K9: 1.2 | L9: =K9*60 -> 72 | M9: =(L9/60)/24 -> 0.05 | N9: Sintoma está presente? | O9: É intermitente? | P9: Qual Faixa de Velocidade? | Q9: Temperatura ambiente/Condição climática | R9: Como estava direcionando/movimentando/mantendo o volante? | S9: Acontece apenas com condutor específico? | T9: Algum fator relevante/anômalo associado antes do sintoma? | U9: Qual a frequência que ocorreu o sintoma novamente? | V9: Algum fator relevante associado para o sintoma parar de ser reproduzido? | W9: - | X9: - | Y9: - | Z9: - | AA9: - | AB9: -
B10: Consultor | C10: Suspensão Direção | D10: Ruído na suspensão | E10: Teste de rodagem | F10: Chefe de Oficina / Técnico / CQ | G10: 0.5 | H10: =G10*60 -> 30 | I10: =(H10/60)/24 -> 0.020833333 | J10: - | K10: - | L10: - | M10: - | N10: Sintoma está presente? | O10: É intermitente? | P10: Qual Faixa de Velocidade? | Q10: Temperatura ambiente/Condição climática | R10: Como estava direcionando/movimentando/mantendo o volante? | S10: Pode descrever o tipo/cor? | T10: Qual a frequência que ocorreu o sintoma novamente? | U10: Algum fator relevante associado para o sintoma parar de ser reproduzido? | V10: - | W10: - | X10: - | Y10: - | Z10: - | AA10: - | AB10: -
B11: Consultor | C11: Suspensão Direção | D11: Vazamento de fluído | E11: Vaga de Oficina | F11: Chefe de Oficina / Técnico / CQ | G11: 0.5 | H11: =G11*60 -> 30 | I11: =(H11/60)/24 -> 0.020833333 | J11: - | K11: - | L11: - | M11: - | N11: Alguma luz de advertência acendeu? | O11: Pode descrever o tipo/cor? | P11: Algum fator relevante/anômalo associado antes do sintoma? | Q11: - | R11: - | S11: - | T11: - | U11: - | V11: - | W11: - | X11: - | Y11: - | Z11: - | AA11: - | AB11: -
B12: Consultor | C12: Suspensão Direção | D12: Ruído na direção | E12: Vaga de Oficina | F12: Chefe de Oficina / Técnico / CQ | G12: 0.5 | H12: =G12*60 -> 30 | I12: =(H12/60)/24 -> 0.020833333 | J12: - | K12: - | L12: - | M12: - | N12: Sintoma está presente? | O12: É intermitente? | P12: Qual Faixa de Velocidade? | Q12: Como estava direcionando/movimentando/mantendo o volante? | R12: Pode descrever o tipo/cor? | S12: Qual a frequência que ocorreu o sintoma novamente? | T12: Algum fator relevante associado para o sintoma parar de ser reproduzido? | U12: - | V12: - | W12: - | X12: - | Y12: - | Z12: - | AA12: - | AB12: -
B13: Consultor | C13: Freio | D13: Ruído ao Frear | E13: Teste de rodagem | F13: Chefe de Oficina / Técnico / CQ | G13: 0.5 | H13: =G13*60 -> 30 | I13: =(H13/60)/24 -> 0.020833333 | J13: Pastilhas | K13: 0.5 | L13: =K13*60 -> 30 | M13: =(L13/60)/24 -> 0.020833333 | N13: Sintoma está presente? | O13: É intermitente? | P13: Qual Faixa de Velocidade? | Q13: Temperatura ambiente/Condição climática | R13: Como estava sendo feita a frenagem? | S13: Qual era a condição de trânsito? | T13: Pode descrever o tipo/cor? | U13: Quanto tempo estava percorrendo com o veículo antes do sintoma? | V13: Qual a frequência de uso do veículo (Horas/dia e dias da semana) | W13: Qual a condição de trânsito que enfrenta na maior parte do uso? | X13: Qual a frequência que ocorreu o sintoma novamente? | Y13: Algum fator relevante associado para o sintoma parar de ser reproduzido? | Z13: - | AA13: - | AB13: -
B14: Consultor | C14: Freio | D14: Vibração no volante ou no pedal ao frear | E14: Teste de rodagem | F14: Chefe de Oficina / Técnico / CQ | G14: 0.5 | H14: =G14*60 -> 30 | I14: =(H14/60)/24 -> 0.020833333 | J14: Discos | K14: 1 | L14: =K14*60 -> 60 | M14: =(L14/60)/24 -> 0.041666667 | N14: Sintoma está presente? | O14: É intermitente? | P14: Qual Faixa de Velocidade? | Q14: Temperatura ambiente/Condição climática | R14: Como estava sendo feita a frenagem? | S14: Qual era a condição de trânsito? | T14: Quanto tempo estava percorrendo com o veículo antes do sintoma? | U14: Qual a condição de trânsito que enfrenta na maior parte do uso? | V14: Qual a frequência que ocorreu o sintoma novamente? | W14: Algum fator relevante associado para o sintoma parar de ser reproduzido? | X14: - | Y14: - | Z14: - | AA14: - | AB14: -
B15: Consultor | C15: Freio | D15: Frenagem insuficiente ao acionar o pedal | E15: Teste de rodagem | F15: Chefe de Oficina / Técnico / CQ | G15: 0.5 | H15: =G15*60 -> 30 | I15: =(H15/60)/24 -> 0.020833333 | J15: Lonas | K15: 1.2 | L15: =K15*60 -> 72 | M15: =(L15/60)/24 -> 0.05 | N15: Sintoma está presente? | O15: É intermitente? | P15: Qual temperatura do motor que inicia o sintoma? | Q15: Qual Faixa de Velocidade? | R15: Temperatura ambiente/Condição climática | S15: Como estava sendo feita a frenagem? | T15: Qual era a condição de trânsito? | U15: Alguma luz de advertência acendeu? | V15: Quanto tempo estava percorrendo com o veículo antes do sintoma? | W15: Qual a condição de trânsito que enfrenta na maior parte do uso? | X15: Qual a frequência que ocorreu o sintoma novamente? | Y15: Algum fator relevante associado para o sintoma parar de ser reproduzido? | Z15: - | AA15: - | AB15: -
B16: Consultor | C16: Freio | D16: Pedal do freio desce ou duro ao frear | E16: Teste de rodagem | F16: Chefe de Oficina / Técnico / CQ | G16: 0.5 | H16: =G16*60 -> 30 | I16: =(H16/60)/24 -> 0.020833333 | J16: Tambor | K16: 0.8 | L16: =K16*60 -> 48 | M16: =(L16/60)/24 -> 0.033333333 | N16: Sintoma está presente? | O16: É intermitente? | P16: Qual temperatura do motor que inicia o sintoma? | Q16: Qual Faixa de Velocidade? | R16: Temperatura ambiente/Condição climática | S16: Como estava sendo feita a frenagem? | T16: Qual era a condição de trânsito? | U16: Alguma luz de advertência acendeu? | V16: Percebeu o sintoma andando ou parado? | W16: Quanto tempo estava percorrendo com o veículo antes do sintoma? | X16: Qual a condição de trânsito que enfrenta na maior parte do uso? | Y16: Qual a frequência que ocorreu o sintoma novamente? | Z16: Algum fator relevante associado para o sintoma parar de ser reproduzido? | AA16: - | AB16: -
B17: Consultor | C17: Freio | D17: Desvio de rota ao frear | E17: Teste de rodagem | F17: Chefe de Oficina / Técnico / CQ | G17: 0.5 | H17: =G17*60 -> 30 | I17: =(H17/60)/24 -> 0.020833333 | J17: - | K17: - | L17: - | M17: - | N17: Sintoma está presente? | O17: É intermitente? | P17: Qual temperatura do motor que inicia o sintoma? | Q17: Qual Faixa de Velocidade? | R17: Como estava sendo feita a frenagem? | S17: Qual era a condição de trânsito? | T17: Quanto tempo estava percorrendo com o veículo antes do sintoma? | U17: Qual a condição de trânsito que enfrenta na maior parte do uso? | V17: Qual a frequência que ocorreu o sintoma novamente? | W17: Algum fator relevante associado para o sintoma parar de ser reproduzido? | X17: - | Y17: - | Z17: - | AA17: - | AB17: -
B18: Consultor | C18: Freio | D18: Vazamento de fluído | E18: Vaga de Oficina | F18: Chefe de Oficina / Técnico / CQ | G18: 0.5 | H18: =G18*60 -> 30 | I18: =(H18/60)/24 -> 0.020833333 | J18: - | K18: - | L18: - | M18: - | N18: Alguma luz de advertência acendeu? | O18: Pode descrever o tipo/cor? | P18: Algum fator relevante/anômalo associado antes do sintoma? | Q18: - | R18: - | S18: - | T18: - | U18: - | V18: - | W18: - | X18: - | Y18: - | Z18: - | AA18: - | AB18: -
B19: Consultor | C19: Freio | D19: Acionamento de ABS | E19: Teste de rodagem | F19: Chefe de Oficina / Técnico / CQ | G19: 0.5 | H19: =G19*60 -> 30 | I19: =(H19/60)/24 -> 0.020833333 | J19: - | K19: - | L19: - | M19: - | N19: Sintoma está presente? | O19: É intermitente? | P19: Qual Faixa de Velocidade? | Q19: Como estava sendo feita a frenagem? | R19: Qual era a condição de trânsito? | S19: Alguma luz de advertência acendeu? | T19: Qual a condição de trânsito que enfrenta na maior parte do uso? | U19: Qual a frequência que ocorreu o sintoma novamente? | V19: Algum fator relevante associado para o sintoma parar de ser reproduzido? | W19: - | X19: - | Y19: - | Z19: - | AA19: - | AB19: -
B20: Consultor | C20: Motor | D20: Marcha lenta irregular | E20: Vaga de recepção | F20: Consultor | G20: 0.2 | H20: =G20*60 -> 12 | I20: =(H20/60)/24 -> 0.0083333333 | J20: Conjunto do radiador | K20: 1.6 | L20: =K20*60 -> 96 | M20: =(L20/60)/24 -> 0.066666667 | N20: Sintoma está presente? | O20: É intermitente? | P20: Qual temperatura do motor que inicia o sintoma? | Q20: Temperatura ambiente/Condição climática | R20: Esta relacionado a primeira partida? | S20: Após troca de combustivel ou abastecimento? | T20: Alguma luz de advertência acendeu? | U20: Porcentagem (ALC/GAS) de combustível no tanque | V20: Qual a frequência que ocorreu o sintoma novamente? | W20: Algum fator relevante associado para o sintoma parar de ser reproduzido? | X20: - | Y20: - | Z20: - | AA20: - | AB20: -
B21: Consultor | C21: Motor | D21: Motor sem aceleração | E21: Vaga de recepção | F21: Chefe de Oficina / Técnico / CQ | G21: 0.2 | H21: =G21*60 -> 12 | I21: =(H21/60)/24 -> 0.0083333333 | J21: Defletor inferior do radiador | K21: 0.2 | L21: =K21*60 -> 12 | M21: =(L21/60)/24 -> 0.0083333333 | N21: Sintoma está presente? | O21: É intermitente? | P21: Qual temperatura do motor que inicia o sintoma? | Q21: Esta relacionado a primeira partida? | R21: Após troca de combustivel ou abastecimento? | S21: Alguma luz de advertência acendeu? | T21: Porcentagem (ALC/GAS) de combustível no tanque | U21: Quanto tempo estava percorrendo com o veículo antes do sintoma? | V21: Qual a frequência que ocorreu o sintoma novamente? | W21: Algum fator relevante associado para o sintoma parar de ser reproduzido? | X21: - | Y21: - | Z21: - | AA21: - | AB21: -
B22: Consultor | C22: Motor | D22: Gases do escapamento excessivo/anormal | E22: Vaga de recepção | F22: Chefe de Oficina / Técnico / CQ | G22: 0.2 | H22: =G22*60 -> 12 | I22: =(H22/60)/24 -> 0.0083333333 | J22: Condensador | K22: 0.5 | L22: =K22*60 -> 30 | M22: =(L22/60)/24 -> 0.020833333 | N22: Sintoma está presente? | O22: É intermitente? | P22: Qual temperatura do motor que inicia o sintoma? | Q22: Temperatura ambiente/Condição climática | R22: Esta relacionado a primeira partida? | S22: Após troca de combustivel ou abastecimento? | T22: Qual era a condição de trânsito? | U22: Porcentagem (ALC/GAS) de combustível no tanque | V22: Pode descrever o tipo/cor? | W22: Quanto tempo estava percorrendo com o veículo antes do sintoma? | X22: Antes da viagem do sintoma, quanto tempo estacionado (era noite ou dia)? | Y22: Qual a frequência de uso do veículo (Horas/dia e dias da semana) | Z22: Qual a condição de trânsito que enfrenta na maior parte do uso? | AA22: Qual a frequência que ocorreu o sintoma novamente? | AB22: Algum fator relevante associado para o sintoma parar de ser reproduzido?
B23: Consultor | C23: Motor | D23: Odor de combustivel | E23: Vaga de recepção | F23: Chefe de Oficina / Técnico / CQ | G23: 0.2 | H23: =G23*60 -> 12 | I23: =(H23/60)/24 -> 0.0083333333 | J23: Velas | K23: 0.4 | L23: =K23*60 -> 24 | M23: =(L23/60)/24 -> 0.016666667 | N23: Sintoma está presente? | O23: É intermitente? | P23: Esta relacionado a primeira partida? | Q23: É perceptivel dentro ou fora do veiculo? | R23: Após troca de combustivel ou abastecimento? | S23: Porcentagem (ALC/GAS) de combustível no tanque | T23: Quanto tempo estava percorrendo com o veículo antes do sintoma? | U23: Antes da viagem do sintoma, quanto tempo estacionado (era noite ou dia)? | V23: Qual a frequência de uso do veículo (Horas/dia e dias da semana) | W23: Qual a condição de trânsito que enfrenta na maior parte do uso? | X23: Qual a frequência que ocorreu o sintoma novamente? | Y23: Algum fator relevante associado para o sintoma parar de ser reproduzido? | Z23: - | AA23: - | AB23: -
B24: Consultor | C24: Motor | D24: Fumaça ou fuligem no compartimento do motor | E24: Vaga de recepção | F24: Chefe de Oficina / Técnico / CQ | G24: 0.2 | H24: =G24*60 -> 12 | I24: =(H24/60)/24 -> 0.0083333333 | J24: Filtro de ar | K24: 0.2 | L24: =K24*60 -> 12 | M24: =(L24/60)/24 -> 0.0083333333 | N24: Sintoma está presente? | O24: É intermitente? | P24: Qual temperatura do motor que inicia o sintoma? | Q24: Esta relacionado a primeira partida? | R24: Após troca de combustivel ou abastecimento? | S24: Porcentagem (ALC/GAS) de combustível no tanque | T24: Pode descrever o tipo/cor? | U24: Quanto tempo estava percorrendo com o veículo antes do sintoma? | V24: Antes da viagem do sintoma, quanto tempo estacionado (era noite ou dia)? | W24: Qual a frequência de uso do veículo (Horas/dia e dias da semana) | X24: Qual a frequência que ocorreu o sintoma novamente? | Y24: Algum fator relevante associado para o sintoma parar de ser reproduzido? | Z24: - | AA24: - | AB24: -
B25: Consultor | C25: Motor | D25: Nível de óleo baixo | E25: Vaga de recepção | F25: Chefe de Oficina / Técnico / CQ | G25: 0.2 | H25: =G25*60 -> 12 | I25: =(H25/60)/24 -> 0.0083333333 | J25: Motor completo | K25: 6 | L25: =K25*60 -> 360 | M25: =(L25/60)/24 -> 0.25 | N25: Alguma luz de advertência acendeu? | O25: Antes da viagem do sintoma, quanto tempo estacionado (era noite ou dia)? | P25: Qual a frequência de uso do veículo (Horas/dia e dias da semana) | Q25: Qual a condição de trânsito que enfrenta na maior parte do uso? | R25: - | S25: - | T25: - | U25: - | V25: - | W25: - | X25: - | Y25: - | Z25: - | AA25: - | AB25: -
B26: Consultor | C26: Motor | D26: Óleo contaminado | E26: Vaga de recepção | F26: Chefe de Oficina / Técnico / CQ | G26: 0.2 | H26: =G26*60 -> 12 | I26: =(H26/60)/24 -> 0.0083333333 | J26: Motor parcial | K26: 11 | L26: =K26*60 -> 660 | M26: =(L26/60)/24 -> 0.45833333 | N26: Porcentagem (ALC/GAS) de combustível no tanque | O26: Pode descrever o tipo/cor? | P26: Antes da viagem do sintoma, quanto tempo estacionado (era noite ou dia)? | Q26: Qual a frequência de uso do veículo (Horas/dia e dias da semana) | R26: Qual a condição de trânsito que enfrenta na maior parte do uso? | S26: - | T26: - | U26: - | V26: - | W26: - | X26: - | Y26: - | Z26: - | AA26: - | AB26: -
B27: Consultor | C27: Motor | D27: Motor vira mas demora para ligar | E27: Vaga de recepção | F27: Chefe de Oficina / Técnico / CQ | G27: 0.2 | H27: =G27*60 -> 12 | I27: =(H27/60)/24 -> 0.0083333333 | J27: Carter do motor | K27: 0.8 | L27: =K27*60 -> 48 | M27: =(L27/60)/24 -> 0.033333333 | N27: Sintoma está presente? | O27: É intermitente? | P27: Qual temperatura do motor que inicia o sintoma? | Q27: Temperatura ambiente/Condição climática | R27: Esta relacionado a primeira partida? | S27: Após troca de combustivel ou abastecimento? | T27: Alguma luz de advertência acendeu? | U27: Porcentagem (ALC/GAS) de combustível no tanque | V27: Quanto tempo estava percorrendo com o veículo antes do sintoma? | W27: Antes da viagem do sintoma, quanto tempo estacionado (era noite ou dia)? | X27: Qual a frequência de uso do veículo (Horas/dia e dias da semana) | Y27: Qual a frequência que ocorreu o sintoma novamente? | Z27: Algum fator relevante associado para o sintoma parar de ser reproduzido? | AA27: - | AB27: -
B28: Consultor | C28: Motor | D28: Motor falha ao acelerar | E28: Vaga de recepção | F28: Chefe de Oficina / Técnico / CQ | G28: 0.3 | H28: =G28*60 -> 18 | I28: =(H28/60)/24 -> 0.0125 | J28: - | K28: - | L28: - | M28: - | N28: Sintoma está presente? | O28: É intermitente? | P28: Qual temperatura do motor que inicia o sintoma? | Q28: Temperatura ambiente/Condição climática | R28: Esta relacionado a primeira partida? | S28: Após troca de combustivel ou abastecimento? | T28: Alguma luz de advertência acendeu? | U28: Porcentagem (ALC/GAS) de combustível no tanque | V28: Quanto tempo estava percorrendo com o veículo antes do sintoma? | W28: Antes da viagem do sintoma, quanto tempo estacionado (era noite ou dia)? | X28: Qual a frequência de uso do veículo (Horas/dia e dias da semana) | Y28: Qual a frequência que ocorreu o sintoma novamente? | Z28: Algum fator relevante associado para o sintoma parar de ser reproduzido? | AA28: - | AB28: -
B29: Consultor | C29: Motor | D29: Fluído de arrefecimento Insuficiente | E29: Vaga de recepção | F29: Chefe de Oficina / Técnico / CQ | G29: 0.2 | H29: =G29*60 -> 12 | I29: =(H29/60)/24 -> 0.0083333333 | J29: - | K29: - | L29: - | M29: - | N29: Alguma luz de advertência acendeu? | O29: Antes da viagem do sintoma, quanto tempo estacionado (era noite ou dia)? | P29: Qual a frequência de uso do veículo (Horas/dia e dias da semana) | Q29: Qual a condição de trânsito que enfrenta na maior parte do uso? | R29: - | S29: - | T29: - | U29: - | V29: - | W29: - | X29: - | Y29: - | Z29: - | AA29: - | AB29: -
B30: Consultor | C30: Motor | D30: Fluído de arrefecimento com coloração anormal | E30: Vaga de recepção | F30: Chefe de Oficina / Técnico / CQ | G30: 0.2 | H30: =G30*60 -> 12 | I30: =(H30/60)/24 -> 0.0083333333 | J30: - | K30: - | L30: - | M30: - | N30: Pode descrever o tipo/cor? | O30: Antes da viagem do sintoma, quanto tempo estacionado (era noite ou dia)? | P30: Qual a frequência de uso do veículo (Horas/dia e dias da semana) | Q30: Qual a condição de trânsito que enfrenta na maior parte do uso? | R30: - | S30: - | T30: - | U30: - | V30: - | W30: - | X30: - | Y30: - | Z30: - | AA30: - | AB30: -
B31: Consultor | C31: Motor | D31: Ruído no motor | E31: Vaga de recepção | F31: Chefe de Oficina / Técnico / CQ | G31: 0.3 | H31: =G31*60 -> 18 | I31: =(H31/60)/24 -> 0.0125 | J31: - | K31: - | L31: - | M31: - | N31: Sintoma está presente? | O31: É intermitente? | P31: Qual temperatura do motor que inicia o sintoma? | Q31: Qual Faixa de Velocidade? | R31: Temperatura ambiente/Condição climática | S31: Esta relacionado a primeira partida? | T31: Pode descrever o tipo/cor? | U31: Percebeu o sintoma andando ou parado? | V31: Quanto tempo estava percorrendo com o veículo antes do sintoma? | W31: Antes da viagem do sintoma, quanto tempo estacionado (era noite ou dia)? | X31: Qual a frequência de uso do veículo (Horas/dia e dias da semana) | Y31: Qual a frequência que ocorreu o sintoma novamente? | Z31: Algum fator relevante associado para o sintoma parar de ser reproduzido? | AA31: - | AB31: -
B32: Consultor | C32: Motor | D32: Vazamentos de lubrificantes e fluidos em geral | E32: Vaga de oficina | F32: Chefe de Oficina / Técnico / CQ | G32: 0.7 | H32: =G32*60 -> 42 | I32: =(H32/60)/24 -> 0.029166667 | J32: - | K32: - | L32: - | M32: - | N32: Alguma luz de advertência acendeu? | O32: Pode descrever o tipo/cor? | P32: Algum fator relevante/anômalo associado antes do sintoma? | Q32: - | R32: - | S32: - | T32: - | U32: - | V32: - | W32: - | X32: - | Y32: - | Z32: - | AA32: - | AB32: -
B33: Consultor | C33: Motor | D33: Luz de injeção acesa | E33: Vaga de oficina | F33: Chefe de Oficina / Técnico / CQ | G33: 0.5 | H33: =G33*60 -> 30 | I33: =(H33/60)/24 -> 0.020833333 | J33: - | K33: - | L33: - | M33: - | N33: Sintoma está presente? | O33: É intermitente? | P33: Qual temperatura do motor que inicia o sintoma? | Q33: Qual Faixa de Velocidade? | R33: Temperatura ambiente/Condição climática | S33: Esta relacionado a primeira partida? | T33: Após troca de combustivel ou abastecimento? | U33: Alguma luz de advertência acendeu? | V33: Porcentagem (ALC/GAS) de combustível no tanque | W33: Quanto tempo estava percorrendo com o veículo antes do sintoma? | X33: Qual a frequência que ocorreu o sintoma novamente? | Y33: Algum fator relevante associado para o sintoma parar de ser reproduzido? | Z33: - | AA33: - | AB33: -
B34: Consultor | C34: Motor | D34: Motor não vira | E34: Vaga de oficina | F34: Chefe de Oficina / Técnico / CQ | G34: 0.5 | H34: =G34*60 -> 30 | I34: =(H34/60)/24 -> 0.020833333 | J34: - | K34: - | L34: - | M34: - | N34: Sintoma está presente? | O34: É intermitente? | P34: Qual temperatura do motor que inicia o sintoma? | Q34: Temperatura ambiente/Condição climática | R34: Esta relacionado a primeira partida? | S34: Quanto tempo estava percorrendo com o veículo antes do sintoma? | T34: Antes da viagem do sintoma, quanto tempo estacionado (era noite ou dia)? | U34: Qual a frequência de uso do veículo (Horas/dia e dias da semana) | V34: Qual a frequência que ocorreu o sintoma novamente? | W34: Algum fator relevante associado para o sintoma parar de ser reproduzido? | X34: - | Y34: - | Z34: - | AA34: - | AB34: -
B35: Consultor | C35: Motor | D35: Motor vira mas não liga | E35: Vaga de oficina | F35: Chefe de Oficina / Técnico / CQ | G35: 0.5 | H35: =G35*60 -> 30 | I35: =(H35/60)/24 -> 0.020833333 | J35: - | K35: - | L35: - | M35: - | N35: Sintoma está presente? | O35: É intermitente? | P35: Qual temperatura do motor que inicia o sintoma? | Q35: Temperatura ambiente/Condição climática | R35: Esta relacionado a primeira partida? | S35: Após troca de combustivel ou abastecimento? | T35: Alguma luz de advertência acendeu? | U35: Porcentagem (ALC/GAS) de combustível no tanque | V35: Quanto tempo estava percorrendo com o veículo antes do sintoma? | W35: Antes da viagem do sintoma, quanto tempo estacionado (era noite ou dia)? | X35: Qual a frequência de uso do veículo (Horas/dia e dias da semana) | Y35: Qual a frequência que ocorreu o sintoma novamente? | Z35: Algum fator relevante associado para o sintoma parar de ser reproduzido? | AA35: - | AB35: -
B36: Consultor | C36: Motor | D36: Sobreaquecimento do motor | E36: Vaga de oficina | F36: Chefe de Oficina / Técnico / CQ | G36: 0.7 | H36: =G36*60 -> 42 | I36: =(H36/60)/24 -> 0.029166667 | J36: - | K36: - | L36: - | M36: - | N36: Sintoma está presente? | O36: É intermitente? | P36: Qual temperatura do motor que inicia o sintoma? | Q36: Qual era a condição de trânsito? | R36: Alguma luz de advertência acendeu? | S36: Quanto tempo estava percorrendo com o veículo antes do sintoma? | T36: Qual a frequência de uso do veículo (Horas/dia e dias da semana) | U36: Qual a condição de trânsito que enfrenta na maior parte do uso? | V36: Qual a frequência que ocorreu o sintoma novamente? | W36: Algum fator relevante associado para o sintoma parar de ser reproduzido? | X36: - | Y36: - | Z36: - | AA36: - | AB36: -
B37: Consultor | C37: Motor | D37: Consumo excessivo de combustível | E37: Vaga de oficina | F37: Chefe de Oficina / Técnico / CQ | G37: 0.5 | H37: =G37*60 -> 30 | I37: =(H37/60)/24 -> 0.020833333 | J37: - | K37: - | L37: - | M37: - | N37: Qual Faixa de Velocidade? | O37: Após troca de combustivel ou abastecimento? | P37: Qual era a condição de trânsito? | Q37: Porcentagem (ALC/GAS) de combustível no tanque | R37: Acontece apenas com condutor específico? | S37: Quanto tempo estava percorrendo com o veículo antes do sintoma? | T37: Qual a frequência de uso do veículo (Horas/dia e dias da semana) | U37: Qual a condição de trânsito que enfrenta na maior parte do uso? | V37: - | W37: - | X37: - | Y37: - | Z37: - | AA37: - | AB37: -
B38: Consultor | C38: Motor | D38: Vibração excessiva | E38: Vaga de oficina | F38: Chefe de Oficina / Técnico / CQ | G38: 0.5 | H38: =G38*60 -> 30 | I38: =(H38/60)/24 -> 0.020833333 | J38: - | K38: - | L38: - | M38: - | N38: Sintoma está presente? | O38: É intermitente? | P38: Qual temperatura do motor que inicia o sintoma? | Q38: Qual Faixa de Velocidade? | R38: Temperatura ambiente/Condição climática | S38: Esta relacionado a primeira partida? | T38: Após troca de combustivel ou abastecimento? | U38: Percebeu o sintoma andando ou parado? | V38: Qual a frequência que ocorreu o sintoma novamente? | W38: Algum fator relevante associado para o sintoma parar de ser reproduzido? | X38: - | Y38: - | Z38: - | AA38: - | AB38: -
B39: Consultor | C39: Motor | D39: Perda de potência | E39: Teste de rodagem | F39: Chefe de Oficina / Técnico / CQ | G39: 1 | H39: =G39*60 -> 60 | I39: =(H39/60)/24 -> 0.041666667 | J39: - | K39: - | L39: - | M39: - | N39: Sintoma está presente? | O39: É intermitente? | P39: Qual temperatura do motor que inicia o sintoma? | Q39: Qual Faixa de Velocidade? | R39: Em qual(is) marcha(s) ocorre(m)? | S39: Temperatura ambiente/Condição climática | T39: Esta relacionado a primeira partida? | U39: Após troca de combustivel ou abastecimento? | V39: Qual era o tipo e inclinação de pavimento/pista? | W39: Qual era a condição de trânsito? | X39: Alguma luz de advertência acendeu? | Y39: Porcentagem (ALC/GAS) de combustível no tanque | Z39: Quanto tempo estava percorrendo com o veículo antes do sintoma? | AA39: - | AB39: -
B40: Consultor | C40: Transmissão | D40: Não traciona | E40: Vaga de oficina | F40: Chefe de Oficina / Técnico / CQ | G40: 1 | H40: =G40*60 -> 60 | I40: =(H40/60)/24 -> 0.041666667 | J40: Kit de embreagem | K40: 3.5 | L40: =K40*60 -> 210 | M40: =(L40/60)/24 -> 0.14583333 | N40: Sintoma está presente? | O40: É intermitente? | P40: Qual temperatura do motor que inicia o sintoma? | Q40: Alguma luz de advertência acendeu? | R40: Quanto tempo estava percorrendo com o veículo antes do sintoma? | S40: Qual a frequência que ocorreu o sintoma novamente? | T40: Algum fator relevante associado para o sintoma parar de ser reproduzido? | U40: - | V40: - | W40: - | X40: - | Y40: - | Z40: - | AA40: - | AB40: -
B41: Consultor | C41: Transmissão | D41: Trancos na troca de marchas | E41: Teste de rodagem | F41: Chefe de Oficina / Técnico / CQ | G41: 1 | H41: =G41*60 -> 60 | I41: =(H41/60)/24 -> 0.041666667 | J41: Semi eixo | K41: 1 | L41: =K41*60 -> 60 | M41: =(L41/60)/24 -> 0.041666667 | N41: Sintoma está presente? | O41: É intermitente? | P41: Qual temperatura do motor que inicia o sintoma? | Q41: Qual Faixa de Velocidade? | R41: Em qual(is) marcha(s) ocorre(m)? | S41: Esta relacionado a primeira partida? | T41: Qual era a condição de trânsito? | U41: Alguma luz de advertência acendeu? | V41: Qual modo estava selecionado? | W41: Quanto tempo estava percorrendo com o veículo antes do sintoma? | X41: Qual a frequência que ocorreu o sintoma novamente? | Y41: Algum fator relevante associado para o sintoma parar de ser reproduzido? | Z41: - | AA41: - | AB41: -
B42: Consultor | C42: Transmissão | D42: Atraso na troca de marchas | E42: Teste de rodagem | F42: Chefe de Oficina / Técnico / CQ | G42: 1 | H42: =G42*60 -> 60 | I42: =(H42/60)/24 -> 0.041666667 | J42: Retentor | K42: 0.7 | L42: =K42*60 -> 42 | M42: =(L42/60)/24 -> 0.029166667 | N42: Sintoma está presente? | O42: É intermitente? | P42: Qual temperatura do motor que inicia o sintoma? | Q42: Qual Faixa de Velocidade? | R42: Em qual(is) marcha(s) ocorre(m)? | S42: Esta relacionado a primeira partida? | T42: Qual era a condição de trânsito? | U42: Alguma luz de advertência acendeu? | V42: Quanto tempo estava percorrendo com o veículo antes do sintoma? | W42: Qual a frequência que ocorreu o sintoma novamente? | X42: Algum fator relevante associado para o sintoma parar de ser reproduzido? | Y42: - | Z42: - | AA42: - | AB42: -
B43: Consultor | C43: Transmissão | D43: Não troca as marchas | E43: Teste de rodagem | F43: Chefe de Oficina / Técnico / CQ | G43: 1 | H43: =G43*60 -> 60 | I43: =(H43/60)/24 -> 0.041666667 | J43: Regulagem do cabo de acionamento do câmbio | K43: 0.3 | L43: =K43*60 -> 18 | M43: =(L43/60)/24 -> 0.0125 | N43: Sintoma está presente? | O43: É intermitente? | P43: Qual temperatura do motor que inicia o sintoma? | Q43: Qual Faixa de Velocidade? | R43: Em qual(is) marcha(s) ocorre(m)? | S43: Esta relacionado a primeira partida? | T43: Qual era a condição de trânsito? | U43: Alguma luz de advertência acendeu? | V43: Qual modo estava selecionado? | W43: Acontece apenas com condutor específico? | X43: Quanto tempo estava percorrendo com o veículo antes do sintoma? | Y43: Qual a frequência que ocorreu o sintoma novamente? | Z43: Algum fator relevante associado para o sintoma parar de ser reproduzido? | AA43: - | AB43: -
B44: Consultor | C44: Transmissão | D44: Ruído na transmissão | E44: Teste de rodagem | F44: Chefe de Oficina / Técnico / CQ | G44: 1 | H44: =G44*60 -> 60 | I44: =(H44/60)/24 -> 0.041666667 | J44: - | K44: - | L44: - | M44: - | N44: Sintoma está presente? | O44: É intermitente? | P44: Qual temperatura do motor que inicia o sintoma? | Q44: Qual Faixa de Velocidade? | R44: Em qual(is) marcha(s) ocorre(m)? | S44: Esta relacionado a primeira partida? | T44: Qual modo estava selecionado? | U44: Pode descrever o tipo/cor? | V44: Percebeu o sintoma andando ou parado? | W44: Quanto tempo estava percorrendo com o veículo antes do sintoma? | X44: Qual a frequência que ocorreu o sintoma novamente? | Y44: Algum fator relevante associado para o sintoma parar de ser reproduzido? | Z44: - | AA44: - | AB44: -
B45: Consultor | C45: Transmissão | D45: Marcha arranhando | E45: Teste de rodagem | F45: Chefe de Oficina / Técnico / CQ | G45: 0.5 | H45: =G45*60 -> 30 | I45: =(H45/60)/24 -> 0.020833333 | J45: - | K45: - | L45: - | M45: - | N45: Sintoma está presente? | O45: É intermitente? | P45: Em qual(is) marcha(s) ocorre(m)? | Q45: Qual era a condição de trânsito? | R45: Acontece apenas com condutor específico? | S45: Qual a condição de trânsito que enfrenta na maior parte do uso? | T45: Qual a frequência que ocorreu o sintoma novamente? | U45: Algum fator relevante associado para o sintoma parar de ser reproduzido? | V45: - | W45: - | X45: - | Y45: - | Z45: - | AA45: - | AB45: -
B46: Consultor | C46: Transmissão | D46: Pedal de embreagem baixo, dura ou ruído | E46: Vaga de recepção | F46: Chefe de Oficina / Técnico / CQ | G46: 0.3 | H46: =G46*60 -> 18 | I46: =(H46/60)/24 -> 0.0125 | J46: - | K46: - | L46: - | M46: - | N46: Sintoma está presente? | O46: É intermitente? | P46: Qual temperatura do motor que inicia o sintoma? | Q46: Esta relacionado a primeira partida? | R46: Qual era a condição de trânsito? | S46: Acontece apenas com condutor específico? | T46: Quanto tempo estava percorrendo com o veículo antes do sintoma? | U46: Qual a condição de trânsito que enfrenta na maior parte do uso? | V46: Qual a frequência que ocorreu o sintoma novamente? | W46: Algum fator relevante associado para o sintoma parar de ser reproduzido? | X46: - | Y46: - | Z46: - | AA46: - | AB46: -
B47: Consultor | C47: Transmissão | D47: Transmissão patinando | E47: Teste de rodagem | F47: Chefe de Oficina / Técnico / CQ | G47: 1 | H47: =G47*60 -> 60 | I47: =(H47/60)/24 -> 0.041666667 | J47: - | K47: - | L47: - | M47: - | N47: Sintoma está presente? | O47: É intermitente? | P47: Qual temperatura do motor que inicia o sintoma? | Q47: Qual Faixa de Velocidade? | R47: Em qual(is) marcha(s) ocorre(m)? | S47: Esta relacionado a primeira partida? | T47: Qual era a condição de trânsito? | U47: Quanto tempo estava percorrendo com o veículo antes do sintoma? | V47: Qual a frequência que ocorreu o sintoma novamente? | W47: Algum fator relevante associado para o sintoma parar de ser reproduzido? | X47: - | Y47: - | Z47: - | AA47: - | AB47: -
B48: Consultor | C48: Transmissão | D48: Dificuldade de movimento da alavanca de seleção | E48: Vaga de recepção | F48: Consultor | G48: 0.2 | H48: =G48*60 -> 12 | I48: =(H48/60)/24 -> 0.0083333333 | J48: - | K48: - | L48: - | M48: - | N48: Sintoma está presente? | O48: É intermitente? | P48: Em qual(is) marcha(s) ocorre(m)? | Q48: Qual modo estava selecionado? | R48: Acontece apenas com condutor específico? | S48: Qual a frequência que ocorreu o sintoma novamente? | T48: Algum fator relevante associado para o sintoma parar de ser reproduzido? | U48: - | V48: - | W48: - | X48: - | Y48: - | Z48: - | AA48: - | AB48: -
B49: Consultor | C49: Transmissão | D49: Vibração excessiva | E49: Teste de rodagem | F49: Chefe de Oficina / Técnico / CQ | G49: 0.5 | H49: =G49*60 -> 30 | I49: =(H49/60)/24 -> 0.020833333 | J49: - | K49: - | L49: - | M49: - | N49: Sintoma está presente? | O49: É intermitente? | P49: Qual temperatura do motor que inicia o sintoma? | Q49: Qual Faixa de Velocidade? | R49: Em qual(is) marcha(s) ocorre(m)? | S49: Qual era a condição de trânsito? | T49: Qual modo estava selecionado? | U49: Percebeu o sintoma andando ou parado? | V49: Qual a frequência que ocorreu o sintoma novamente? | W49: Algum fator relevante associado para o sintoma parar de ser reproduzido? | X49: - | Y49: - | Z49: - | AA49: - | AB49: -
B50: Consultor | C50: Transmissão | D50: Vazamento de Fluído | E50: Vaga de Oficina | F50: Chefe de Oficina / Técnico / CQ | G50: 0.7 | H50: =G50*60 -> 42 | I50: =(H50/60)/24 -> 0.029166667 | J50: - | K50: - | L50: - | M50: - | N50: Alguma luz de advertência acendeu? | O50: Pode descrever o tipo/cor? | P50: Algum fator relevante/anômalo associado antes do sintoma? | Q50: - | R50: - | S50: - | T50: - | U50: - | V50: - | W50: - | X50: - | Y50: - | Z50: - | AA50: - | AB50: -
B51: Consultor | C51: Elétrico | D51: Bateria sem carga | E51: Vaga de Oficina | F51: Chefe de Oficina / Técnico / CQ | G51: 24 | H51: =G51*60 -> 1440 | I51: 24:00:00 | J51: Lâmpada / Fusível | K51: 0.3 | L51: =K51*60 -> 18 | M51: =(L51/60)/24 -> 0.0125 | N51: Sintoma está presente? | O51: É intermitente? | P51: Temperatura ambiente/Condição climática | Q51: Esta relacionado a primeira partida? | R51: Alguma luz de advertência acendeu? | S51: Antes da viagem do sintoma, quanto tempo estacionado (era noite ou dia)? | T51: Qual a frequência de uso do veículo (Horas/dia e dias da semana) | U51: Qual a condição de trânsito que enfrenta na maior parte do uso? | V51: Algum fator relevante/anômalo associado antes do sintoma? | W51: Qual a frequência que ocorreu o sintoma novamente? | X51: Algum fator relevante associado para o sintoma parar de ser reproduzido? | Y51: - | Z51: - | AA51: - | AB51: -
B52: Consultor | C52: Elétrico | D52: Medidor de combustível Incorreto | E52: Vaga de recepção | F52: Consultor | G52: 0.3 | H52: =G52*60 -> 18 | I52: =(H52/60)/24 -> 0.0125 | J52: Motor do vidro dianteiro | K52: 0.5 | L52: =K52*60 -> 30 | M52: =(L52/60)/24 -> 0.020833333 | N52: Sintoma está presente? | O52: É intermitente? | P52: Após troca de combustivel ou abastecimento? | Q52: Qual era o tipo e inclinação de pavimento/pista? | R52: Alguma luz de advertência acendeu? | S52: Qual modo estava selecionado? | T52: Porcentagem (ALC/GAS) de combustível no tanque | U52: Acontece apenas com condutor específico? | V52: Quanto tempo estava percorrendo com o veículo antes do sintoma? | W52: Qual a frequência de uso do veículo (Horas/dia e dias da semana) | X52: Qual a condição de trânsito que enfrenta na maior parte do uso? | Y52: Algum fator relevante/anômalo associado antes do sintoma? | Z52: Qual a frequência que ocorreu o sintoma novamente? | AA52: Algum fator relevante associado para o sintoma parar de ser reproduzido? | AB52: -
B53: Consultor | C53: Elétrico | D53: Unidade de aúdio/Multimedia | E53: Vaga de recepção | F53: Consultor | G53: 0.3 | H53: =G53*60 -> 18 | I53: =(H53/60)/24 -> 0.0125 | J53: Motor do vidro traseiro | K53: 0.5 | L53: =K53*60 -> 30 | M53: =(L53/60)/24 -> 0.020833333 | N53: Sintoma está presente? | O53: É intermitente? | P53: Qual modo estava selecionado? | Q53: Algum fator relevante/anômalo associado antes do sintoma? | R53: Qual a frequência que ocorreu o sintoma novamente? | S53: Algum fator relevante associado para o sintoma parar de ser reproduzido? | T53: - | U53: - | V53: - | W53: - | X53: - | Y53: - | Z53: - | AA53: - | AB53: -
B54: Consultor | C54: Elétrico | D54: Ar condicionado | E54: Vaga de recepção | F54: Consultor | G54: 0.5 | H54: =G54*60 -> 30 | I54: =(H54/60)/24 -> 0.020833333 | J54: Motor do limpador de para-brisa | K54: 0.4 | L54: =K54*60 -> 24 | M54: =(L54/60)/24 -> 0.016666667 | N54: Sintoma está presente? | O54: É intermitente? | P54: Qual temperatura do motor que inicia o sintoma? | Q54: Temperatura ambiente/Condição climática | R54: Qual era a condição de trânsito? | S54: Qual modo estava selecionado? | T54: Percebeu o sintoma andando ou parado? | U54: Quanto tempo estava percorrendo com o veículo antes do sintoma? | V54: Qual a condição de trânsito que enfrenta na maior parte do uso? | W54: Algum fator relevante/anômalo associado antes do sintoma? | X54: Qual a frequência que ocorreu o sintoma novamente? | Y54: Algum fator relevante associado para o sintoma parar de ser reproduzido? | Z54: - | AA54: - | AB54: -
B55: Consultor | C55: Elétrico | D55: Ventilação interna | E55: Vaga de recepção | F55: Consultor | G55: 0.3 | H55: =G55*60 -> 18 | I55: =(H55/60)/24 -> 0.0125 | J55: Evaporador | K55: 3.5 | L55: =K55*60 -> 210 | M55: =(L55/60)/24 -> 0.14583333 | N55: Sintoma está presente? | O55: É intermitente? | P55: Qual modo estava selecionado? | Q55: Algum fator relevante/anômalo associado antes do sintoma? | R55: Qual a frequência que ocorreu o sintoma novamente? | S55: Algum fator relevante associado para o sintoma parar de ser reproduzido? | T55: - | U55: - | V55: - | W55: - | X55: - | Y55: - | Z55: - | AA55: - | AB55: -
B56: Consultor | C56: Elétrico | D56: Comandos elétricos em geral | E56: Vaga de recepção | F56: Consultor | G56: 0.3 | H56: =G56*60 -> 18 | I56: =(H56/60)/24 -> 0.0125 | J56: Compressor | K56: 1.3 | L56: =K56*60 -> 78 | M56: =(L56/60)/24 -> 0.054166667 | N56: Sintoma está presente? | O56: É intermitente? | P56: Qual modo estava selecionado? | Q56: Algum fator relevante/anômalo associado antes do sintoma? | R56: Qual a frequência que ocorreu o sintoma novamente? | S56: Algum fator relevante associado para o sintoma parar de ser reproduzido? | T56: - | U56: - | V56: - | W56: - | X56: - | Y56: - | Z56: - | AA56: - | AB56: -
B57: Consultor | C57: Elétrico | D57: Comandos remotos em geral | E57: Vaga de recepção | F57: Consultor | G57: 0.3 | H57: =G57*60 -> 18 | I57: =(H57/60)/24 -> 0.0125 | J57: Farol / Lanterna | K57: 0.3 | L57: =K57*60 -> 18 | M57: =(L57/60)/24 -> 0.0125 | N57: Sintoma está presente? | O57: É intermitente? | P57: É perceptivel dentro ou fora do veiculo? | Q57: Alguma luz de advertência acendeu? | R57: Qual modo estava selecionado? | S57: Algum fator relevante/anômalo associado antes do sintoma? | T57: Qual a frequência que ocorreu o sintoma novamente? | U57: Algum fator relevante associado para o sintoma parar de ser reproduzido? | V57: - | W57: - | X57: - | Y57: - | Z57: - | AA57: - | AB57: -
B58: Consultor | C58: Elétrico | D58: Sincronização/Pareamento | E58: Vaga de recepção | F58: Consultor | G58: 0.5 | H58: =G58*60 -> 30 | I58: =(H58/60)/24 -> 0.020833333 | J58: Unidade de áudio | K58: 0.4 | L58: =K58*60 -> 24 | M58: =(L58/60)/24 -> 0.016666667 | N58: Sintoma está presente? | O58: É intermitente? | P58: Qual modo estava selecionado? | Q58: Acontece apenas com condutor específico? | R58: Qual a frequência de uso do veículo (Horas/dia e dias da semana) | S58: Algum fator relevante/anômalo associado antes do sintoma? | T58: Qual a frequência que ocorreu o sintoma novamente? | U58: Algum fator relevante associado para o sintoma parar de ser reproduzido? | V58: - | W58: - | X58: - | Y58: - | Z58: - | AA58: - | AB58: -
B59: Consultor | C59: Elétrico | D59: Sensores/Camera de Ré | E59: Vaga de recepção | F59: Consultor | G59: 0.3 | H59: =G59*60 -> 18 | I59: =(H59/60)/24 -> 0.0125 | J59: Bateria | K59: 0.3 | L59: =K59*60 -> 18 | M59: =(L59/60)/24 -> 0.0125 | N59: Sintoma está presente? | O59: É intermitente? | P59: Algum fator relevante/anômalo associado antes do sintoma? | Q59: Qual a frequência que ocorreu o sintoma novamente? | R59: Algum fator relevante associado para o sintoma parar de ser reproduzido? | S59: - | T59: - | U59: - | V59: - | W59: - | X59: - | Y59: - | Z59: - | AA59: - | AB59: -
B60: Consultor | C60: Elétrico | D60: Luzes de anomalia acesas no painel | E60: Vaga de recepção | F60: Consultor | G60: 0.3 | H60: =G60*60 -> 18 | I60: =(H60/60)/24 -> 0.0125 | J60: - | K60: - | L60: - | M60: - | N60: Sintoma está presente? | O60: É intermitente? | P60: Alguma luz de advertência acendeu? | Q60: Algum fator relevante/anômalo associado antes do sintoma? | R60: Qual a frequência que ocorreu o sintoma novamente? | S60: Algum fator relevante associado para o sintoma parar de ser reproduzido? | T60: - | U60: - | V60: - | W60: - | X60: - | Y60: - | Z60: - | AA60: - | AB60: -
B61: Consultor | C61: Elétrico | D61: Ruído anormal | E61: Vaga de recepção | F61: Consultor | G61: 0.5 | H61: =G61*60 -> 30 | I61: =(H61/60)/24 -> 0.020833333 | J61: - | K61: - | L61: - | M61: - | N61: Sintoma está presente? | O61: É intermitente? | P61: Pode descrever o tipo/cor? | Q61: Percebeu o sintoma andando ou parado? | R61: Algum fator relevante/anômalo associado antes do sintoma? | S61: Qual a frequência que ocorreu o sintoma novamente? | T61: Algum fator relevante associado para o sintoma parar de ser reproduzido? | U61: - | V61: - | W61: - | X61: - | Y61: - | Z61: - | AA61: - | AB61: -
B62: Consultor | C62: Elétrico | D62: Alarme | E62: Vaga de recepção | F62: Consultor | G62: 0.5 | H62: =G62*60 -> 30 | I62: =(H62/60)/24 -> 0.020833333 | J62: - | K62: - | L62: - | M62: - | N62: Sintoma está presente? | O62: É intermitente? | P62: Qual modo estava selecionado? | Q62: Algum fator relevante/anômalo associado antes do sintoma? | R62: Qual a frequência que ocorreu o sintoma novamente? | S62: Algum fator relevante associado para o sintoma parar de ser reproduzido? | T62: - | U62: - | V62: - | W62: - | X62: - | Y62: - | Z62: - | AA62: - | AB62: -
B63: Consultor | C63: Elétrico | D63: Vidros elétricos / travas elétricas / luzes internas e externas | E63: Vaga de recepção | F63: Consultor | G63: 0.5 | H63: =G63*60 -> 30 | I63: =(H63/60)/24 -> 0.020833333 | J63: - | K63: - | L63: - | M63: - | N63: Sintoma está presente? | O63: É intermitente? | P63: Qual modo estava selecionado? | Q63: Algum fator relevante/anômalo associado antes do sintoma? | R63: Qual a frequência que ocorreu o sintoma novamente? | S63: Algum fator relevante associado para o sintoma parar de ser reproduzido? | T63: - | U63: - | V63: - | W63: - | X63: - | Y63: - | Z63: - | AA63: - | AB63: -
B64: Consultor | C64: Carroceria Acabamento | D64: Pintura descascando / manchada / Corrosão | E64: Vaga de recepção | F64: Consultor | G64: 0.5 | H64: =G64*60 -> 30 | I64: =(H64/60)/24 -> 0.020833333 | J64: Difusor | K64: 0.2 | L64: =K64*60 -> 12 | M64: =(L64/60)/24 -> 0.0083333333 | N64: Pode descrever o tipo/cor? | O64: Algum fator relevante/anômalo associado antes do sintoma? | P64: - | Q64: - | R64: - | S64: - | T64: - | U64: - | V64: - | W64: - | X64: - | Y64: - | Z64: - | AA64: - | AB64: -
B65: Consultor | C65: Carroceria Acabamento | D65: Acabamento interno (portas, bancos, cintos,console, teto, carpete) | E65: Vaga de recepção | F65: Consultor | G65: 0.5 | H65: =G65*60 -> 30 | I65: =(H65/60)/24 -> 0.020833333 | J65: Emblemas / Logotípos | K65: 0.5 | L65: =K65*60 -> 30 | M65: =(L65/60)/24 -> 0.020833333 | N65: Pode descrever o tipo/cor? | O65: Algum fator relevante/anômalo associado antes do sintoma? | P65: - | Q65: - | R65: - | S65: - | T65: - | U65: - | V65: - | W65: - | X65: - | Y65: - | Z65: - | AA65: - | AB65: -
B66: Consultor | C66: Carroceria Acabamento | D66: Acabamento Externos (retrovisores, vidros, molduras, spoiler, rodas, calotas) | E66: Vaga de recepção | F66: Consultor | G66: 0.5 | H66: =G66*60 -> 30 | I66: =(H66/60)/24 -> 0.020833333 | J66: - | K66: - | L66: - | M66: - | N66: Pode descrever o tipo/cor? | O66: Algum fator relevante/anômalo associado antes do sintoma? | P66: - | Q66: - | R66: - | S66: - | T66: - | U66: - | V66: - | W66: - | X66: - | Y66: - | Z66: - | AA66: - | AB66: -
B67: Consultor | C67: Carroceria Acabamento | D67: Portas, Porta Malas, Capô | E67: Vaga de recepção | F67: Consultor | G67: 0.5 | H67: =G67*60 -> 30 | I67: =(H67/60)/24 -> 0.020833333 | J67: - | K67: - | L67: - | M67: - | N67: Pode descrever o tipo/cor? | O67: Algum fator relevante/anômalo associado antes do sintoma? | P67: - | Q67: - | R67: - | S67: - | T67: - | U67: - | V67: - | W67: - | X67: - | Y67: - | Z67: - | AA67: - | AB67: -
B68: Consultor | C68: Carroceria Acabamento | D68: Infiltrações | E68: Vaga de recepção | F68: Consultor | G68: 0.5 | H68: =G68*60 -> 30 | I68: =(H68/60)/24 -> 0.020833333 | J68: - | K68: - | L68: - | M68: - | N68: Sintoma está presente? | O68: É intermitente? | P68: Temperatura ambiente/Condição climática | Q68: Pode descrever o tipo/cor? | R68: Algum fator relevante/anômalo associado antes do sintoma? | S68: Qual a frequência que ocorreu o sintoma novamente? | T68: Algum fator relevante associado para o sintoma parar de ser reproduzido? | U68: - | V68: - | W68: - | X68: - | Y68: - | Z68: - | AA68: - | AB68: -
B69: Consultor | C69: Carroceria Acabamento | D69: Limpadores/ Lavadores de Vidros | E69: Vaga de recepção | F69: Consultor | G69: 0.3 | H69: =G69*60 -> 18 | I69: =(H69/60)/24 -> 0.0125 | J69: - | K69: - | L69: - | M69: - | N69: Sintoma está presente? | O69: É intermitente? | P69: Temperatura ambiente/Condição climática | Q69: Qual modo estava selecionado? | R69: Algum fator relevante/anômalo associado antes do sintoma? | S69: Qual a frequência que ocorreu o sintoma novamente? | T69: Algum fator relevante associado para o sintoma parar de ser reproduzido? | U69: - | V69: - | W69: - | X69: - | Y69: - | Z69: - | AA69: - | AB69: -
B70: Consultor | C70: Carroceria Acabamento | D70: Falha de montagem / acabamento | E70: Vaga de recepção | F70: Consultor | G70: 0.3 | H70: =G70*60 -> 18 | I70: =(H70/60)/24 -> 0.0125 | J70: - | K70: - | L70: - | M70: - | N70: Pode descrever o tipo/cor? | O70: Algum fator relevante/anômalo associado antes do sintoma? | P70: - | Q70: - | R70: - | S70: - | T70: - | U70: - | V70: - | W70: - | X70: - | Y70: - | Z70: - | AA70: - | AB70: -
B71: Consultor | C71: Carroceria Acabamento | D71: Vibração excessiva | E71: Vaga de recepção | F71: Consultor | G71: 0.5 | H71: =G71*60 -> 30 | I71: =(H71/60)/24 -> 0.020833333 | J71: - | K71: - | L71: - | M71: - | N71: Sintoma está presente? | O71: É intermitente? | P71: Qual Faixa de Velocidade? | Q71: Percebeu o sintoma andando ou parado? | R71: Algum fator relevante/anômalo associado antes do sintoma? | S71: Qual a frequência que ocorreu o sintoma novamente? | T71: Algum fator relevante associado para o sintoma parar de ser reproduzido? | U71: - | V71: - | W71: - | X71: - | Y71: - | Z71: - | AA71: - | AB71: -
B72: Consultor | C72: Carroceria Acabamento | D72: Aparêcia dos Faróis, Lanternas, Auxiliares | E72: Vaga de recepção | F72: Consultor | G72: 0.3 | H72: =G72*60 -> 18 | I72: =(H72/60)/24 -> 0.0125 | J72: - | K72: - | L72: - | M72: - | N72: Temperatura ambiente/Condição climática | O72: Pode descrever o tipo/cor? | P72: Qual a frequência de uso do veículo (Horas/dia e dias da semana) | Q72: Algum fator relevante/anômalo associado antes do sintoma? | T72: - | U72: - | V72: - | W72: - | X72: - | Y72: - | Z72: - | AA72: - | AB72: -
B73: Consultor | C73: Carroceria Acabamento | D73: Ruído aerodinâmico | E73: Teste de rodagem | F73: Chefe de Oficina / Técnico / CQ | G73: 1 | H73: =G73*60 -> 60 | I73: =(H73/60)/24 -> 0.041666667 | J73: - | K73: - | L73: - | M73: - | N73: Sintoma está presente? | O73: É intermitente? | P73: Qual Faixa de Velocidade? | Q73: Temperatura ambiente/Condição climática | R73: Pode descrever o tipo/cor? | S73: Percebeu o sintoma andando ou parado? | T73: Qual a frequência que ocorreu o sintoma novamente? | U73: Algum fator relevante associado para o sintoma parar de ser reproduzido? | V73: - | W73: - | X73: - | Y73: - | Z73: - | AA73: - | AB73: -
B74: Consultor | C74: Carroceria Acabamento | D74: Ruído interno | E74: Teste de rodagem | F74: Chefe de Oficina / Técnico / CQ | G74: 1 | H74: =G74*60 -> 60 | I74: =(H74/60)/24 -> 0.041666667 | J74: - | K74: - | L74: - | M74: - | N74: Sintoma está presente? | O74: É intermitente? | P74: Qual Faixa de Velocidade? | Q74: Temperatura ambiente/Condição climática | R74: Pode descrever o tipo/cor? | S74: Percebeu o sintoma andando ou parado? | T74: Qual a frequência que ocorreu o sintoma novamente? | U74: Algum fator relevante associado para o sintoma parar de ser reproduzido? | V74: - | W74: - | X74: - | Y74: - | Z74: - | AA74: - | AB74: -
C76: LEGENDA:
D77: Local da confirmação do sintoma | E77: Frequência do sintoma | F77: Responsável pela confirmação
D78: Vaga de Recepção | E78: Contínuo | F78: Consultor
E79: Intermitente | F79: Chefe de Oficina / Técnico / CQ
D80: Vaga de Oficina | E80: Contínuo ou Intermitente | F80: Chefe de Oficina / Técnico / CQ
D81: Teste de Rodagem | E81: Contínuo ou Intermitente | F81: Chefe de Oficina / Técnico / CQ
D82: Contínuo: Método visual, sempre ocorre e apresenta fácil metodologia de reprodução do sintoma.
D83: Intermitente: Método visual ou com suporte de equipamentos, não apresenta frequência de ocorrência regular e apresenta difícil ou média
D84: dificuldade de reprodução do sintoma.
D85: *O tempo de diagnóstico deverá ser definido em conjunto com a área técnica.

Sheet Consultor
K10: Local das Confirmações do Sintoma | P10: ='Dados Consultor'!B3 -> Teste de rodagem
K11: Responsável pela Conformação de sintoma | P11: ='Dados Consultor'!C3 -> Chefe de Oficina / Técnico / CQ
K12: Tempo (h) | P12: ='Dados Consultor'!D3 -> 0.5
K13: Duração | P13: ='Dados Consultor'!E3 -> 0.020833333
K14: Pergunta 1 | P14: ='Dados Consultor'!F3 -> Sintoma está presente?
K15: Pergunta 2 | P15: ='Dados Consultor'!G3 -> É intermitente?
K16: Pergunta 3 | P16: ='Dados Consultor'!H3 -> Qual temperatura do motor que inicia o sintoma?
K17: Pergunta 4 | P17: ='Dados Consultor'!I3 -> Qual Faixa de Velocidade?
K18: Pergunta 5 | P18: ='Dados Consultor'!J3 -> Em qual(is) marcha(s) ocorre(m)?
K19: Pergunta 6 | P19: ='Dados Consultor'!K3 -> Qual era a condição de trânsito?
K20: Pergunta 7 | P20: ='Dados Consultor'!L3 -> Qual modo estava selecionado?
K21: Pergunta 8 | P21: ='Dados Consultor'!M3 -> Percebeu o sintoma andando ou parado?
K22: Pergunta 9 | P22: ='Dados Consultor'!N3 -> Qual a frequência que ocorreu o sintoma novamente?
K23: Pergunta 10 | P23: ='Dados Consultor'!O3 -> Algum fator relevante associado para o sintoma parar de ser reproduzido?
K24: Pergunta 11 | P24: ='Dados Consultor'!P3 -> -
K25: Pergunta 12 | P25: ='Dados Consultor'!Q3 -> -
K26: Pergunta 13 | P26: ='Dados Consultor'!R3 -> -
K27: Pergunta 14 | P27: ='Dados Consultor'!S3 -> -
K28: Pergunta 15 | P28: ='Dados Consultor'!T3 -> -
K30: Solicitação do Cliente | R30: Tempo (h) | T30: Duração
K31: =IF('Tempo reparo consultor'!B6="","",'Tempo reparo consultor'!B6) -> Amortecedor Dianteiro | R31: =IF('Tempo reparo consultor'!C6="","",'Tempo reparo consultor'!C6) -> 0.9 | T31: =IF('Tempo reparo consultor'!D6="","",'Tempo reparo consultor'!D6) -> 0.0375
K32: =IF('Tempo reparo consultor'!B7="","",'Tempo reparo consultor'!B7) -> Amortecedor Traseiro | R32: =IF('Tempo reparo consultor'!C7="","",'Tempo reparo consultor'!C7) -> 0.5 | T32: =IF('Tempo reparo consultor'!D7="","",'Tempo reparo consultor'!D7) -> 0.020833333
K33: =IF('Tempo reparo consultor'!B8="","",'Tempo reparo consultor'!B8) -> Bateria | R33: =IF('Tempo reparo consultor'!C8="","",'Tempo reparo consultor'!C8) -> 0.3 | T33: =IF('Tempo reparo consultor'!D8="","",'Tempo reparo consultor'!D8) -> 0.0125
K34: =IF('Tempo reparo consultor'!B9="","",'Tempo reparo consultor'!B9) -> Bieleta | R34: =IF('Tempo reparo consultor'!C9="","",'Tempo reparo consultor'!C9) -> 0.4 | T34: =IF('Tempo reparo consultor'!D9="","",'Tempo reparo consultor'!D9) -> 0.016666667
K35: =IF('Tempo reparo consultor'!B10="","",'Tempo reparo consultor'!B10) -> Carter do motor | R35: =IF('Tempo reparo consultor'!C10="","",'Tempo reparo consultor'!C10) -> 0.8 | T35: =IF('Tempo reparo consultor'!D10="","",'Tempo reparo consultor'!D10) -> 0.033333333
K36: =IF('Tempo reparo consultor'!B11="","",'Tempo reparo consultor'!B11) -> Compressor | R36: =IF('Tempo reparo consultor'!C11="","",'Tempo reparo consultor'!C11) -> 1.3 | T36: =IF('Tempo reparo consultor'!D11="","",'Tempo reparo consultor'!D11) -> 0.054166667
K37: =IF('Tempo reparo consultor'!B12="","",'Tempo reparo consultor'!B12) -> Condensador | R37: =IF('Tempo reparo consultor'!C12="","",'Tempo reparo consultor'!C12) -> 0.5 | T37: =IF('Tempo reparo consultor'!D12="","",'Tempo reparo consultor'!D12) -> 0.020833333
K38: =IF('Tempo reparo consultor'!B13="","",'Tempo reparo consultor'!B13) -> Conjunto do radiador | R38: =IF('Tempo reparo consultor'!C13="","",'Tempo reparo consultor'!C13) -> 1.6 | T38: =IF('Tempo reparo consultor'!D13="","",'Tempo reparo consultor'!D13) -> 0.066666667
K39: =IF('Tempo reparo consultor'!B14="","",'Tempo reparo consultor'!B14) -> Defletor inferior do radiador | R39: =IF('Tempo reparo consultor'!C14="","",'Tempo reparo consultor'!C14) -> 0.2 | T39: =IF('Tempo reparo consultor'!D14="","",'Tempo reparo consultor'!D14) -> 0.0083333333

Sheet Dados Consultor
B2: Local das Confirmações do Sintoma | C2: Responsável pela confirmação do sintoma com o cliente | D2: Tempo (h) | E2: Duração | F2: Pergunta 1 | G2: Pergunta 2 | H2: Pergunta 3 | I2: Pergunta 4 | J2: Pergunta 5 | K2: Pergunta 6 | L2: Pergunta 7 | M2: Pergunta 8 | N2: Pergunta 9 | O2: Pergunta 10 | P2: Pergunta 11 | Q2: Pergunta 12 | R2: Pergunta 13 | S2: Pergunta 14 | T2: Pergunta 15
B3: Teste de rodagem | C3: Chefe de Oficina / Técnico / CQ | D3: 0.5 | E3: 0.020833333 | F3: Sintoma está presente? | G3: É intermitente? | H3: Qual temperatura do motor que inicia o sintoma? | I3: Qual Faixa de Velocidade? | J3: Em qual(is) marcha(s) ocorre(m)? | K3: Qual era a condição de trânsito? | L3: Qual modo estava selecionado? | M3: Percebeu o sintoma andando ou parado? | N3: Qual a frequência que ocorreu o sintoma novamente? | O3: Algum fator relevante associado para o sintoma parar de ser reproduzido? | P3: - | Q3: - | R3: - | S3: - | T3: -
B4: Teste de rodagem | C4: Chefe de Oficina / Técnico / CQ | D4: 0.5 | E4: 0.020833333 | F4: Sintoma está presente? | G4: É intermitente? | H4: Qual temperatura do motor que inicia o sintoma? | I4: Qual Faixa de Velocidade? | J4: Como estava sendo feita a frenagem? | K4: Qual era a condição de trânsito? | L4: Quanto tempo estava percorrendo com o veículo antes do sintoma? | M4: Qual a condição de trânsito que enfrenta na maior parte do uso? | N4: Qual a frequência que ocorreu o sintoma novamente? | O4: Algum fator relevante associado para o sintoma parar de ser reproduzido? | P4: - | Q4: - | R4: - | S4: - | T4: -
B5: Teste de rodagem | C5: Chefe de Oficina / Técnico / CQ | D5: 0.5 | E5: 0.020833333 | F5: Sintoma está presente? | G5: É intermitente? | H5: Qual temperatura do motor que inicia o sintoma? | I5: Qual Faixa de Velocidade? | J5: Temperatura ambiente/Condição climática | K5: Como estava sendo feita a frenagem? | L5: Qual era a condição de trânsito? | M5: Alguma luz de advertência acendeu? | N5: Quanto tempo estava percorrendo com o veículo antes do sintoma? | O5: Qual a condição de trânsito que enfrenta na maior parte do uso? | P5: Qual a frequência que ocorreu o sintoma novamente? | Q5: Algum fator relevante associado para o sintoma parar de ser reproduzido? | R5: - | S5: - | T5: -
B6: Teste de rodagem | C6: Chefe de Oficina / Técnico / CQ | D6: 0.5 | E6: 0.020833333 | F6: Sintoma está presente? | G6: É intermitente? | H6: Qual temperatura do motor que inicia o sintoma? | I6: Qual Faixa de Velocidade? | J6: Temperatura ambiente/Condição climática | K6: Como estava sendo feita a frenagem? | L6: Qual era a condição de trânsito? | M6: Alguma luz de advertência acendeu? | N6: Percebeu o sintoma andando ou parado? | O6: Quanto tempo estava percorrendo com o veículo antes do sintoma? | P6: Qual a condição de trânsito que enfrenta na maior parte do uso? | Q6: Qual a frequência que ocorreu o sintoma novamente? | R6: Algum fator relevante associado para o sintoma parar de ser reproduzido? | S6: - | T6: -
B7: Teste de rodagem | C7: Chefe de Oficina / Técnico / CQ | D7: 0.5 | E7: 0.020833333 | F7: Sintoma está presente? | G7: É intermitente? | H7: Qual Faixa de Velocidade? | I7: Temperatura ambiente/Condição climática | J7: Como estava direcionando/movimentando/mantendo o volante? | K7: Acontece apenas com condutor específico? | L7: Algum fator relevante/anômalo associado antes do sintoma? | M7: Qual a frequência que ocorreu o sintoma novamente? | N7: Algum fator relevante associado para o sintoma parar de ser reproduzido? | O7: - | P7: - | Q7: - | R7: - | S7: - | T7: -
B8: Teste de rodagem | C8: Chefe de Oficina / Técnico / CQ | D8: 0.5 | E8: 0.020833333 | F8: Sintoma está presente? | G8: É intermitente? | H8: Qual Faixa de Velocidade? | I8: Temperatura ambiente/Condição climática | J8: Como estava direcionando/movimentando/mantendo o volante? | K8: Pode descrever o tipo/cor? | L8: Qual a frequência que ocorreu o sintoma novamente? | M8: Algum fator relevante associado para o sintoma parar de ser reproduzido? | N8: - | O8: - | P8: - | Q8: - | R8: - | S8: - | T8: -
B9: Teste de rodagem | C9: Chefe de Oficina / Técnico / CQ | D9: 0.5 | E9: 0.020833333 | F9: Sintoma está presente? | G9: É intermitente? | H9: Qual Faixa de Velocidade? | I9: Temperatura ambiente/Condição climática | J9: Como estava sendo feita a frenagem? | K9: Qual era a condição de trânsito? | L9: Pode descrever o tipo/cor? | M9: Quanto tempo estava percorrendo com o veículo antes do sintoma? | N9: Qual a frequência de uso do veículo (Horas/dia e dias da semana) | O9: Qual a condição de trânsito que enfrenta na maior parte do uso? | P9: Qual a frequência que ocorreu o sintoma novamente? | Q9: Algum fator relevante associado para o sintoma parar de ser reproduzido? | R9: - | S9: - | T9: -
B10: Teste de rodagem | C10: Chefe de Oficina / Técnico / CQ | D10: 0.5 | E10: 0.020833333 | F10: Sintoma está presente? | G10: É intermitente? | H10: Qual Faixa de Velocidade? | I10: Temperatura ambiente/Condição climática | J10: Como estava sendo feita a frenagem? | K10: Qual era a condição de trânsito? | L10: Quanto tempo estava percorrendo com o veículo antes do sintoma? | M10: Qual a condição de trânsito que enfrenta na maior parte do uso? | N10: Qual a frequência que ocorreu o sintoma novamente? | O10: Algum fator relevante associado para o sintoma parar de ser reproduzido? | P10: - | Q10: - | R10: - | S10: - | T10: -
B11: Teste de rodagem | C11: Chefe de Oficina / Técnico / CQ | D11: 0.5 | E11: 0.020833333 | F11: Sintoma está presente? | G11: É intermitente? | H11: Qual Faixa de Velocidade? | I11: Como estava direcionando/movimentando/mantendo o volante? | J11: Algum fator relevante/anômalo associado antes do sintoma? | K11: Qual a frequência que ocorreu o sintoma novamente? | L11: Algum fator relevante associado para o sintoma parar de ser reproduzido? | M11: - | N11: - | O11: - | P11: - | Q11: - | R11: - | S11: - | T11: -
B12: Teste de rodagem | C12: Chefe de Oficina / Técnico / CQ | D12: 0.5 | E12: 0.020833333 | F12: Sintoma está presente? | G12: É intermitente? | H12: Qual Faixa de Velocidade? | I12: Como estava direcionando/movimentando/mantendo o volante? | J12: Percebeu o sintoma andando ou parado? | K12: Quanto tempo estava percorrendo com o veículo antes do sintoma? | L12: Algum fator relevante/anômalo associado antes do sintoma? | M12: Qual a frequência que ocorreu o sintoma novamente? | N12: Algum fator relevante associado para o sintoma parar de ser reproduzido? | O12: - | P12: - | Q12: - | R12: - | S12: - | T12: -
B13: Teste de rodagem | C13: Chefe de Oficina / Técnico / CQ | D13: 0.5 | E13: 0.020833333 | F13: Sintoma está presente? | G13: É intermitente? | H13: Qual Faixa de Velocidade? | I13: Como estava sendo feita a frenagem? | J13: Qual era a condição de trânsito? | K13: Alguma luz de advertência acendeu? | L13: Qual a condição de trânsito que enfrenta na maior parte do uso? | M13: Qual a frequência que ocorreu o sintoma novamente? | N13: Algum fator relevante associado para o sintoma parar de ser reproduzido? | O13: - | P13: - | Q13: - | R13: - | S13: - | T13: -
B14: Teste de rodagem | C14: Chefe de Oficina / Técnico / CQ | D14: 0.5 | E14: 0.020833333 | F14: Sintoma está presente? | G14: É intermitente? | H14: Em qual(is) marcha(s) ocorre(m)? | I14: Qual era a condição de trânsito? | J14: Acontece apenas com condutor específico? | K14: Qual a condição de trânsito que enfrenta na maior parte do uso? | L14: Qual a frequência que ocorreu o sintoma novamente? | M14: Algum fator relevante associado para o sintoma parar de ser reproduzido? | N14: - | O14: - | P14: - | Q14: - | R14: - | S14: - | T14: -
... B31: Vaga de Oficina | C31: Chefe de Oficina / Técnico / CQ | D31: 1 | E31: 0.041666667 | F31: Sintoma está presente? | G31: É intermitente? | H31: Qual temperatura do motor que inicia o sintoma? | I31: Alguma luz de advertência acendeu? | J31: Quanto tempo estava percorrendo com o veículo antes do sintoma? | K31: Qual a frequência que ocorreu o sintoma novamente? | L31: Algum fator relevante associado para o sintoma parar de ser reproduzido? | M31: - | N31: - | O31: - | P31: - | Q31: - | R31: - | S31: - | T31: -
B32: Vaga de Oficina | C32: Chefe de Oficina / Técnico / CQ | D32: 24 | E32: 24:00:00 | F32: Sintoma está presente? | G32: É intermitente? | H32: Temperatura ambiente/Condição climática | I32: Esta relacionado a primeira partida? | J32: Alguma luz de advertência acendeu? | K32: Antes da viagem do sintoma, quanto tempo estacionado (era noite ou dia)? | L32: Qual a frequência de uso do veículo (Horas/dia e dias da semana) | M32: Qual a condição de trânsito que enfrenta na maior parte do uso? | N32: Algum fator relevante/anômalo associado antes do sintoma? | O32: Qual a frequência que ocorreu o sintoma novamente? | P32: Algum fator relevante associado para o sintoma parar de ser reproduzido? | Q32: - | R32: - | S32: - | T32: -
B33: Vaga de recepção | C33: Chefe de Oficina / Técnico / CQ | D33: 0.2 | E33: 0.0083333333 | F33: Sintoma está presente? | G33: É intermitente? | H33: Qual temperatura do motor que inicia o sintoma? | I33: Esta relacionado a primeira partida? | J33: Após troca de combustivel ou abastecimento? | K33: Alguma luz de advertência acendeu? | L33: Porcentagem (ALC/GAS) de combustível no tanque | M33: Quanto tempo estava percorrendo com o veículo antes do sintoma? | N33: Qual a frequência que ocorreu o sintoma novamente? | O33: Algum fator relevante associado para o sintoma parar de ser reproduzido? | P33: - | Q33: - | R33: - | S33: - | T33: -
B34: Vaga de recepção | C34: Chefe de Oficina / Técnico / CQ | D34: 0.2 | E34: 0.0083333333 | F34: Sintoma está presente? | G34: É intermitente? | H34: Qual temperatura do motor que inicia o sintoma? | I34: Esta relacionado a primeira partida? | J34: Após troca de combustivel ou abastecimento? | K34: Porcentagem (ALC/GAS) de combustível no tanque | L34: Pode descrever o tipo/cor? | M34: Quanto tempo estava percorrendo com o veículo antes do sintoma? | N34: Antes da viagem do sintoma, quanto tempo estacionado (era noite ou dia)? | O34: Qual a frequência de uso do veículo (Horas/dia e dias da semana) | P34: Qual a frequência que ocorreu o sintoma novamente? | Q34: Algum fator relevante associado para o sintoma parar de ser reproduzido? | R34: - | S34: - | T34: -
B35: Vaga de recepção | C35: Chefe de Oficina / Técnico / CQ | D35: 0.2 | E35: 0.0083333333 | F35: Sintoma está presente? | G35: É intermitente? | H35: Qual temperatura do motor que inicia o sintoma? | I35: Temperatura ambiente/Condição climática | J35: Esta relacionado a primeira partida? | K35: Após troca de combustivel ou abastecimento? | L35: Qual era a condição de trânsito? | M35: Porcentagem (ALC/GAS) de combustível no tanque | N35: Pode descrever o tipo/cor? | O35: Quanto tempo estava percorrendo com o veículo antes do sintoma? | P35: Antes da viagem do sintoma, quanto tempo estacionado (era noite ou dia)? | Q35: Qual a frequência de uso do veículo (Horas/dia e dias da semana) | R35: Qual a condição de trânsito que enfrenta na maior parte do uso? | S35: Qual a frequência que ocorreu o sintoma novamente? | T35: Algum fator relevante associado para o sintoma parar de ser reproduzido?
B36: Vaga de recepção | C36: Chefe de Oficina / Técnico / CQ | D36: 0.2 | E36: 0.0083333333 | F36: Sintoma está presente? | G36: É intermitente? | H36: Qual temperatura do motor que inicia o sintoma? | I36: Temperatura ambiente/Condição climática | J36: Esta relacionado a primeira partida? | K36: Após troca de combustivel ou abastecimento? | L36: Alguma luz de advertência acendeu? | M36: Porcentagem (ALC/GAS) de combustível no tanque | N36: Quanto tempo estava percorrendo com o veículo antes do sintoma? | O36: Antes da viagem do sintoma, quanto tempo estacionado (era noite ou dia)? | P36: Qual a frequência de uso do veículo (Horas/dia e dias da semana) | Q36: Qual a frequência que ocorreu o sintoma novamente? | R36: Algum fator relevante associado para o sintoma parar de ser reproduzido? | S36: - | T36: -
B37: Vaga de recepção | C37: Chefe de Oficina / Técnico / CQ | D37: 0.2 | E37: 0.0083333333 | F37: Sintoma está presente? | G37: É intermitente? | H37: Esta relacionado a primeira partida? | I37: É perceptivel dentro ou fora do veiculo? | J37: Após troca de combustivel ou abastecimento? | K37: Porcentagem (ALC/GAS) de combustível no tanque | L37: Quanto tempo estava percorrendo com o veículo antes do sintoma? | M37: Antes da viagem do sintoma, quanto tempo estacionado (era noite ou dia)? | N37: Qual a frequência de uso do veículo (Horas/dia e dias da semana) | O37: Qual a condição de trânsito que enfrenta na maior parte do uso? | P37: Qual a frequência que ocorreu o sintoma novamente? | Q37: Algum fator relevante associado para o sintoma parar de ser reproduzido? | R37: - | S37: - | T37: -
B38: Vaga de recepção | C38: Chefe de Oficina / Técnico / CQ | D38: 0.2 | E38: 0.0083333333 | F38: Alguma luz de advertência acendeu? | G38: Antes da viagem do sintoma, quanto tempo estacionado (era noite ou dia)? | H38: Qual a frequência de uso do veículo (Horas/dia e dias da semana) | I38: Qual a condição de trânsito que enfrenta na maior parte do uso? | J38: - | K38: - | L38: - | M38: - | N38: - | O38: - | P38: - | Q38: - | R38: - | S38: - | T38: -
B39: Vaga de recepção | C39: Chefe de Oficina / Técnico / CQ | D39: 0.2 | E39: 0.0083333333 | F39: Porcentagem (ALC/GAS) de combustível no tanque | G39: Pode descrever o tipo/cor? | H39: Antes da viagem do sintoma, quanto tempo estacionado (era noite ou dia)? | I39: Qual a frequência de uso do veículo (Horas/dia e dias da semana) | J39: Qual a condição de trânsito que enfrenta na maior parte do uso? | K39: - | L39: - | M39: - | N39: - | O39: - | P39: - | Q39: - | R39: - | S39: - | T39: -
B40: Vaga de recepção | C40: Chefe de Oficina / Técnico / CQ | D40: 0.2 | E40: 0.0083333333 | F40: Pode descrever o tipo/cor? | G40: Antes da viagem do sintoma, quanto tempo estacionado (era noite ou dia)? | H40: Qual a frequência de uso do veículo (Horas/dia e dias da semana) | I40: Qual a condição de trânsito que enfrenta na maior parte do uso? | J40: - | K40: - | L40: - | M40: - | N40: - | O40: - | P40: - | Q40: - | R40: - | S40: - | T40: -
B41: Vaga de recepção | C41: Chefe de Oficina / Técnico / CQ | D41: 0.3 | E41: 0.0125 | F41: Sintoma está presente? | G41: É intermitente? | H41: Qual temperatura do motor que inicia o sintoma? | I41: Qual Faixa de Velocidade? | J41: Temperatura ambiente/Condição climática | K41: Esta relacionado a primeira partida? | L41: Pode descrever o tipo/cor? | M41: Percebeu o sintoma andando ou parado? | N41: Quanto tempo estava percorrendo com o veículo antes do sintoma? | O41: Antes da viagem do sintoma, quanto tempo estacionado (era noite ou dia)? | P41: Qual a frequência de uso do veículo (Horas/dia e dias da semana) | Q41: Qual a frequência que ocorreu o sintoma novamente? | R41: Algum fator relevante associado para o sintoma parar de ser reproduzido? | S41: - | T41: -
B42: Vaga de recepção | C42: Chefe de Oficina / Técnico / CQ | D42: 0.3 | E42: 0.0125 | F42: Sintoma está presente? | G42: É intermitente? | H42: Qual temperatura do motor que inicia o sintoma? | I42: Esta relacionado a primeira partida? | J42: Qual era a condição de trânsito? | K42: Acontece apenas com condutor específico? | L42: Quanto tempo estava percorrendo com o veículo antes do sintoma? | M42: Qual a condição de trânsito que enfrenta na maior parte do uso? | N42: Qual a frequência que ocorreu o sintoma novamente? | O42: Algum fator relevante associado para o sintoma parar de ser reproduzido? | P42: - | Q42: - | R42: - | S42: - | T42: -
B43: Vaga de recepção | C43: Chefe de Oficina / Técnico / CQ | D43: 0.3 | E43: 0.0125 | F43: Sintoma está presente? | G43: É intermitente? | H43: Qual temperatura do motor que inicia o sintoma? | I43: Temperatura ambiente/Condição climática | J43: Esta relacionado a primeira partida? | K43: Após troca de combustivel ou abastecimento? | L43: Alguma luz de advertência acendeu? | M43: Porcentagem (ALC/GAS) de combustível no tanque | N43: Quanto tempo estava percorrendo com o veículo antes do sintoma? | O43: Antes da viagem do sintoma, quanto tempo estacionado (era noite ou dia)? | P43: Qual a frequência de uso do veículo (Horas/dia e dias da semana) | Q43: Qual a frequência que ocorreu o sintoma novamente? | R43: Algum fator relevante associado para o sintoma parar de ser reproduzido? | S43: - | T43: -
B44: Vaga de recepção | C44: Consultor | D44: 0.2 | E44: 0.0083333333 | F44: Sintoma está presente? | G44: É intermitente? | H44: Qual temperatura do motor que inicia o sintoma? | I44: Temperatura ambiente/Condição climática | J44: Esta relacionado a primeira partida? | K44: Após troca de combustivel ou abastecimento? | L44: Alguma luz de advertência acendeu? | M44: Porcentagem (ALC/GAS) de combustível no tanque | N44: Qual a frequência que ocorreu o sintoma novamente? | O44: Algum fator relevante associado para o sintoma parar de ser reproduzido? | P44: - | Q44: - | R44: - | S44: - | T44: -
... B60: Vaga de recepção | C60: Consultor | D60: 0.5 | E60: 0.020833333 | F60: Pode descrever o tipo/cor? | G60: Algum fator relevante/anômalo associado antes do sintoma? | H60: - | I60: - | J60: - | K60: - | L60: - | M60: - | N60: - | O60: - | P60: - | Q60: - | R60: - | S60: - | T60: -
B61: Vaga de recepção | C61: Consultor | D61: - | E61: - | F61: Sintoma está presente? | G61: É intermitente? | H61: Qual Faixa de Velocidade? | I61: Como estava direcionando/movimentando/mantendo o volante? | J61: Qual era a condição de trânsito? | K61: Percebeu o sintoma andando ou parado? | L61: Acontece apenas com condutor específico? | M61: Quanto tempo estava percorrendo com o veículo antes do sintoma? | N61: Algum fator relevante/anômalo associado antes do sintoma? | O61: Qual a frequência que ocorreu o sintoma novamente? | P61: Algum fator relevante associado para o sintoma parar de ser reproduzido? | Q61: - | R61: - | S61: - | T61: -
B62: Vaga de recepção | C62: Consultor | D62: - | E62: - | F62: Como estava sendo feita a frenagem? | G62: Qual era o tipo e inclinação de pavimento/pista? | H62: Qual a frequência de uso do veículo (Horas/dia e dias da semana) | I62: Qual a condição de trânsito que enfrenta na maior parte do uso? | J62: Algum fator relevante/anômalo associado antes do sintoma? | K62: - | L62: - | M62: - | N62: - | O62: - | P62: - | Q62: - | R62: - | S62: - | T62: -

Sheet Tempo reparo consultor
B5: Solicitação do Cliente. | C5: Tempo (h). | D5: Duração.
B6: Amortecedor Dianteiro | C6: 0.9 | D6: 0.0375
B7: Amortecedor Traseiro | C7: 0.5 | D7: 0.020833333
B8: Bateria | C8: 0.3 | D8: 0.0125
B9: Bieleta | C9: 0.4 | D9: 0.016666667
B10: Carter do motor | C10: 0.8 | D10: 0.033333333
B11: Compressor | C11: 1.3 | D11: 0.054166667
B12: Condensador | C12: 0.5 | D12: 0.020833333
B13: Conjunto do radiador | C13: 1.6 | D13: 0.066666667
B14: Defletor inferior do radiador | C14: 0.2 | D14: 0.0083333333
B15: Difusor | C15: 0.2 | D15: 0.0083333333 | F15: 0
B16: Discos | C16: 1 | D16: 0.041666667
B17: Emblemas / Logotípos | C17: 0.5 | D17: 0.020833333
B18: Evaporador | C18: 3.5 | D18: 0.14583333
B19: Farol / Lanterna | C19: 0.3 | D19: 0.0125
B20: Filtro de ar | C20: 0.2 | D20: 0.0083333333
B21: Kit de embreagem | C21: 3.5 | D21: 0.14583333
B22: Lâmpada / Fusível | C22: 0.3 | D22: 0.0125
B23: Lonas | C23: 1.2 | D23: 0.05
B24: Molas | C24: 1.2 | D24: 0.05
B25: Motor completo | C25: 6 | D25: 0.25
B26: Motor do limpador de para-brisa | C26: 0.4 | D26: 0.016666667
B27: Motor do vidro dianteiro | C27: 0.5 | D27: 0.020833333
... B37: Velas | C37: 0.4 | D37: 0.016666667
B38: - | C38: - | D38: -

Sheet Agendamento
K10: Local das Confirmações do Sintoma | P10: ='Dados Agendador'!B5 -> Teste de rodagem
K11: Responsável pela Confirmação de sintoma | P11: ='Dados Agendador'!C5 -> Chefe de Oficina / Técnico / CQ
K12: Tempo (h) | P12: ='Dados Agendador'!D5 -> 0.5
K13: Duração | P13: ='Dados Agendador'!E5 -> 0.020833333
K14: Pergunta 1 | P14: ='Dados Agendador'!F5 -> Como ocorre?
K15: Pergunta 2 | P15: ='Dados Agendador'!G5 -> Onde ocorre?
K16: Pergunta 3 | P16: ='Dados Agendador'!H5 -> Quando ocorre?
K17: Pergunta 4 | P17: ='Dados Agendador'!I5 -> Qual a frequência?
K18: Pergunta 5 | P18: ='Dados Agendador'!J5 -> Tipo de barulho?
K19: Pergunta 6 | P19: ='Dados Agendador'!K5 -> Acendeu alguma luz no painel?
K20: Pergunta 7 | P20: ='Dados Agendador'!L5 -> Sofreu algum impacto e/ou avaria?
K21: Pergunta 8 | P21: ='Dados Agendador'!M5 -> -
K23: Solicitação do Cliente | R23: Tempo (h) | T23: Duração
K24: =IF('Tempo reparo agendador'!B6="","",'Tempo reparo agendador'!B6) -> Amortecedor Dianteiro | R24: =IF('Tempo reparo agendador'!C6="","",'Tempo reparo agendador'!C6) -> 0.9 | T24: =IF('Tempo reparo agendador'!D6="","",'Tempo reparo agendador'!D6) -> 0.0375
K25: =IF('Tempo reparo agendador'!B7="","",'Tempo reparo agendador'!B7) -> Amortecedor Traseiro | R25: =IF('Tempo reparo agendador'!C7="","",'Tempo reparo agendador'!C7) -> 0.5 | T25: =IF('Tempo reparo agendador'!D7="","",'Tempo reparo agendador'!D7) -> 0.020833333
K26: =IF('Tempo reparo agendador'!B8="","",'Tempo reparo agendador'!B8) -> Bateria | R26: =IF('Tempo reparo agendador'!C8="","",'Tempo reparo agendador'!C8) -> 0.3 | T26: =IF('Tempo reparo agendador'!D8="","",'Tempo reparo agendador'!D8) -> 0.0125
K27: =IF('Tempo reparo agendador'!B9="","",'Tempo reparo agendador'!B9) -> Bieleta | R27: =IF('Tempo reparo agendador'!C9="","",'Tempo reparo agendador'!C9) -> 0.4 | T27: =IF('Tempo reparo agendador'!D9="","",'Tempo reparo agendador'!D9) -> 0.016666667
K28: =IF('Tempo reparo agendador'!B10="","",'Tempo reparo agendador'!B10) -> Carter do motor | R28: =IF('Tempo reparo agendador'!C10="","",'Tempo reparo agendador'!C10) -> 0.8 | T28: =IF('Tempo reparo agendador'!D10="","",'Tempo reparo agendador'!D10) -> 0.033333333
K29: =IF('Tempo reparo agendador'!B11="","",'Tempo reparo agendador'!B11) -> Compressor | R29: =IF('Tempo reparo agendador'!C11="","",'Tempo reparo agendador'!C11) -> 1.3 | T29: =IF('Tempo reparo agendador'!D11="","",'Tempo reparo agendador'!D11) -> 0.054166667
K30: =IF('Tempo reparo agendador'!B12="","",'Tempo reparo agendador'!B12) -> Condensador | R30: =IF('Tempo reparo agendador'!C12="","",'Tempo reparo agendador'!C12) -> 0.5 | T30: =IF('Tempo reparo agendador'!D12="","",'Tempo reparo agendador'!D12) -> 0.020833333
K31: =IF('Tempo reparo agendador'!B13="","",'Tempo reparo agendador'!B13) -> Conjunto do radiador | R31: =IF('Tempo reparo agendador'!C13="","",'Tempo reparo agendador'!C13) -> 1.6 | T31: =IF('Tempo reparo agendador'!D13="","",'Tempo reparo agendador'!D13) -> 0.066666667
K32: =IF('Tempo reparo agendador'!B14="","",'Tempo reparo agendador'!B14) -> Defletor inferior do radiador | R32: =IF('Tempo reparo agendador'!C14="","",'Tempo reparo agendador'!C14) -> 0.2 | T32: =IF('Tempo reparo agendador'!D14="","",'Tempo reparo agendador'!D14) -> 0.0083333333

Sheet Dados Agendador
B4: Local das Confirmações do Sintoma | C4: Responsável pela confirmação do sintoma com o cliente | D4: Tempo (h) | E4: Duração | F4: Pergunta 1 | G4: Pergunta 2 | H4: Pergunta 3 | I4: Pergunta 4 | J4: Pergunta 5 | K4: Pergunta 6 | L4: Pergunta 7 | M4: Pergunta 8
B5: Teste de rodagem | C5: Chefe de Oficina / Técnico / CQ | D5: 0.5 | E5: 0.020833333 | F5: Como ocorre? | G5: Onde ocorre? | H5: Quando ocorre? | I5: Qual a frequência? | J5: Tipo de barulho? | K5: Acendeu alguma luz no painel? | L5: Sofreu algum impacto e/ou avaria? | M5: -
B6: Teste de rodagem | C6: Chefe de Oficina / Técnico / CQ | D6: 0.5 | E6: 0.020833333 | F6: Como ocorre? | G6: Onde ocorre? | H6: Quando ocorre? | I6: Qual a frequência? | J6: Tipo de barulho? | K6: Sofreu algum impacto e/ou avaria? | L6: - | M6: -
B7: Teste de rodagem | C7: Chefe de Oficina / Técnico / CQ | D7: 0.5 | E7: 0.020833333 | F7: Como ocorre? | G7: Onde ocorre? | H7: Quando ocorre? | I7: Qual a frequência? | J7: Sofreu algum impacto e/ou avaria? | K7: - | L7: - | M7: -
B8: Teste de rodagem | C8: Chefe de Oficina / Técnico / CQ | D8: 0.5 | E8: 0.020833333 | F8: Como ocorre? | G8: Onde ocorre? | H8: Quando ocorre? | I8: Qual a frequência? | J8: Acendeu alguma luz no painel? | K8: Sofreu algum impacto e/ou avaria? | L8: - | M8: -
B9: Teste de rodagem | C9: Chefe de Oficina / Técnico / CQ | D9: 1 | E9: 0.041666667 | F9: Como ocorre? | G9: Onde ocorre? | H9: Quando ocorre? | I9: Qual a frequência? | J9: Acendeu alguma luz no painel? | K9: Sofreu algum impacto e/ou avaria? | L9: - | M9: -
B10: Teste de rodagem | C10: Chefe de Oficina / Técnico / CQ | D10: 1 | E10: 0.041666667 | F10: Como ocorre? | G10: Onde ocorre? | H10: Quando ocorre? | I10: Qual a frequência? | J10: Acendeu alguma luz no painel? | K10: Qual o combustível utilizado? | L10: Sofreu algum impacto e/ou avaria? | M10: -
B11: Vaga de Oficina | C11: Chefe de Oficina / Técnico / CQ | D11: 0.5 | E11: 0.020833333 | F11: Como ocorre? | G11: Onde ocorre? | H11: Quando ocorre? | I11: Qual a frequência? | J11: Tipo de barulho? | K11: Sofreu algum impacto e/ou avaria? | L11: - | M11: -
B12: Vaga de Oficina | C12: Chefe de Oficina / Técnico / CQ | D12: 0.5 | E12: 0.020833333 | F12: Como ocorre? | G12: Onde ocorre? | H12: Quando ocorre? | I12: Qual a frequência? | J12: Acendeu alguma luz no painel? | K12: Sofreu algum impacto e/ou avaria? | L12: - | M12: -
B13: Vaga de Oficina | C13: Chefe de Oficina / Técnico / CQ | D13: 0.5 | E13: 0.020833333 | F13: Como ocorre? | G13: Onde ocorre? | H13: Quando ocorre? | I13: Qual a frequência? | J13: Acendeu alguma luz no painel? | K13: Qual o combustível utilizado? | L13: Sofreu algum impacto e/ou avaria? | M13: -
B14: Vaga de Oficina | C14: Chefe de Oficina / Técnico / CQ | D14: 0.7 | E14: 0.029166667 | F14: Como ocorre? | G14: Onde ocorre? | H14: Quando ocorre? | I14: Qual a frequência? | J14: Acendeu alguma luz no painel? | K14: Qual o combustível utilizado? | L14: Sofreu algum impacto e/ou avaria? | M14: -
B15: Vaga de recepção | C15: Chefe de Oficina / Técnico / CQ | D15: 0.2 | E15: 0.0083333333 | F15: Como ocorre? | G15: Onde ocorre? | H15: Quando ocorre? | I15: Qual a frequência? | J15: Acendeu alguma luz no painel? | K15: Qual o combustível utilizado? | L15: Sofreu algum impacto e/ou avaria? | M15: -
B16: Vaga de recepção | C16: Chefe de Oficina / Técnico / CQ | D16: 0.2 | E16: 0.0083333333 | F16: Como ocorre? | G16: Onde ocorre? | H16: Quando ocorre? | I16: Qual a frequência? | J16: Acendeu alguma luz no painel? | K16: Qual o combustível utilizado? | L16: Sofreu algum impacto e/ou avaria? | M16: (vazio)
... B25: Vaga de recepção | C25: Consultor | D25: 0.5 | E25: 0.020833333 | F25: Como ocorre? | G25: Onde ocorre? | H25: Quando ocorre? | I25: Qual a frequência? | J25: Acendeu alguma luz no painel? | K25: Qual o combustível utilizado? | L25: Sofreu algum impacto e/ou avaria? | M25: -
B26: Vaga de recepção | C26: Consultor | D26: - | E26: - | F26: Como ocorre? | G26: Onde ocorre? | H26: Quando ocorre? | I26: Qual a frequência? | J26: Sofreu algum impacto e/ou avaria? | K26: - | L26: - | M26: -
B27: Vaga de recepção | C27: Consultor | D27: - | E27: - | F27: Como ocorre? | G27: Onde ocorre? | H27: Quando ocorre? | I27: Qual a frequência? | J27: Acendeu alguma luz no painel? | K27: Sofreu algum impacto e/ou avaria? | L27: - | M27: -

Sheet Tabela Agendador
C2: TABELA DE CONFIRMAÇÃO DE SINTOMAS | J2: PRINCIPAIS TEMPOS DE REPARO | N2: PRINCIPAIS PERGUNTAS DE INVESTIGAÇÃO TÉCNICA
B4: Responsável | C4: Categoria | D4: Solicitação do Cliente | E4: Local das Confirmações do Sintoma | F4: Responsável pela confirmação do sintoma com o cliente | G4: Tempo (h) | H4: Minutos | I4: Duração | J4: Solicitação do Cliente. | K4: Tempo (h). | L4: Minutos | M4: Duração. | N4: Pergunta 1 | O4: Pergunta 2 | P4: Pergunta 3 | Q4: Pergunta 4 | R4: Pergunta 5 | S4: Pergunta 6 | T4: Pergunta 7 | U4: Pergunta 8
B5: Agendador | C5: Suspensão Direção | D5: Desgaste anormal do pneu | E5: Vaga de recepção | F5: Consultor | G5: - | H5: - | I5: - | J5: Amortecedor Dianteiro | K5: 0.9 | L5: =K5*60 -> 54 | M5: =(L5/60)/24 -> 0.0375 | N5: Como ocorre? | O5: Onde ocorre? | P5: Quando ocorre? | Q5: Qual a frequência? | R5: Sofreu algum impacto e/ou avaria? | S5: - | T5: - | U5: -
B6: Agendador | C6: Suspensão Direção | D6: Volante "puxa" para o lado | E6: Teste de rodagem | F6: Chefe de Oficina / Técnico / CQ | G6: 0.5 | H6: =G6*60 -> 30 | I6: =(H6/60)/24 -> 0.020833333 | J6: Amortecedor Traseiro | K6: 0.5 | L6: =K6*60 -> 30 | M6: =(L6/60)/24 -> 0.020833333 | N6: Como ocorre? | O6: Onde ocorre? | P6: Quando ocorre? | Q6: Qual a frequência? | R6: Sofreu algum impacto e/ou avaria? | S6: - | T6: - | U6: -
B7: Agendador | C7: Suspensão Direção | D7: Volante "pesado" | E7: Vaga de recepção | F7: Consultor | G7: - | H7: - | I7: - | J7: Pivô da balança | K7: 0.7 | L7: =K7*60 -> 42 | M7: =(L7/60)/24 -> 0.029166667 | N7: Como ocorre? | O7: Onde ocorre? | P7: Quando ocorre? | Q7: Qual a frequência? | R7: Acendeu alguma luz no painel? | S7: Sofreu algum impacto e/ou avaria? | T7: - | U7: -
B8: Agendador | C8: Suspensão Direção | D8: Vibração no Volante | E8: Teste de rodagem | F8: Chefe de Oficina / Técnico / CQ | G8: 0.5 | H8: =G8*60 -> 30 | I8: =(H8/60)/24 -> 0.020833333 | J8: Bieleta | K8: 0.4 | L8: =K8*60 -> 24 | M8: =(L8/60)/24 -> 0.016666667 | N8: Como ocorre? | O8: Onde ocorre? | P8: Quando ocorre? | Q8: Qual a frequência? | R8: Sofreu algum impacto e/ou avaria? | S8: - | T8: - | U8: -
B9: Agendador | C9: Suspensão Direção | D9: Instabilidade ao dirigir | E9: Teste de rodagem | F9: Chefe de Oficina / Técnico / CQ | G9: 0.5 | H9: =G9*60 -> 30 | I9: =(H9/60)/24 -> 0.020833333 | J9: Molas | K9: 1.2 | L9: =K9*60 -> 72 | M9: =(L9/60)/24 -> 0.05 | N9: Como ocorre? | O9: Onde ocorre? | P9: Quando ocorre? | Q9: Qual a frequência? | R9: Acendeu alguma luz no painel? | S9: Sofreu algum impacto e/ou avaria? | T9: - | U9: -
B10: Agendador | C10: Suspensão Direção | D10: Ruído na suspensão | E10: Teste de rodagem | F10: Chefe de Oficina / Técnico / CQ | G10: 0.5 | H10: =G10*60 -> 30 | I10: =(H10/60)/24 -> 0.020833333 | J10: - | K10: - | L10: - | M10: - | N10: Como ocorre? | O10: Onde ocorre? | P10: Quando ocorre? | Q10: Qual a frequência? | R10: Tipo de barulho? | S10: Sofreu algum impacto e/ou avaria? | T10: - | U10: -
B11: Agendador | C11: Suspensão Direção | D11: Vazamento de fluído | E11: Vaga de Oficina | F11: Chefe de Oficina / Técnico / CQ | G11: 0.5 | H11: =G11*60 -> 30 | I11: =(H11/60)/24 -> 0.020833333 | J11: - | K11: - | L11: - | M11: - | N11: Como ocorre? | O11: Onde ocorre? | P11: Quando ocorre? | Q11: Qual a frequência? | R11: Acendeu alguma luz no painel? | S11: Sofreu algum impacto e/ou avaria? | T11: - | U11: -
B12: Agendador | C12: Suspensão Direção | D12: Ruído na direção | E12: Vaga de Oficina | F12: Chefe de Oficina / Técnico / CQ | G12: 0.5 | H12: =G12*60 -> 30 | I12: =(H12/60)/24 -> 0.020833333 | J12: - | K12: - | L12: - | M12: - | N12: Como ocorre? | O12: Onde ocorre? | P12: Quando ocorre? | Q12: Qual a frequência? | R12: Tipo de barulho? | S12: Sofreu algum impacto e/ou avaria? | T12: - | U12: -
B13: Agendador | C13: Freio | D13: Ruído ao Frear | E13: Teste de rodagem | F13: Chefe de Oficina / Técnico / CQ | G13: 0.5 | H13: =G13*60 -> 30 | I13: =(H13/60)/24 -> 0.020833333 | J13: Pastilhas | K13: 0.5 | L13: =K13*60 -> 30 | M13: =(L13/60)/24 -> 0.020833333 | N13: Como ocorre? | O13: Onde ocorre? | P13: Quando ocorre? | Q13: Qual a frequência? | R13: Tipo de barulho? | S13: Sofreu algum impacto e/ou avaria? | T13: - | U13: -
B14: Agendador | C14: Freio | D14: Vibração no volante ou no pedal ao frear | E14: Teste de rodagem | F14: Chefe de Oficina / Técnico / CQ | G14: 0.5 | H14: =G14*60 -> 30 | I14: =(H14/60)/24 -> 0.020833333 | J14: Discos | K14: 1 | L14: =K14*60 -> 60 | M14: =(L14/60)/24 -> 0.041666667 | N14: Como ocorre? | O14: Onde ocorre? | P14: Quando ocorre? | Q14: Qual a frequência? | R14: Sofreu algum impacto e/ou avaria? | S14: - | T14: - | U14: -
B15: Agendador | C15: Freio | D15: Frenagem insuficiente ao acionar o pedal | E15: Teste de rodagem | F15: Chefe de Oficina / Técnico / CQ | G15: 0.5 | H15: =G15*60 -> 30 | I15: =(H15/60)/24 -> 0.020833333 | J15: Lonas | K15: 1.2 | L15: =K15*60 -> 72 | M15: =(L15/60)/24 -> 0.05 | N15: Como ocorre? | O15: Onde ocorre? | P15: Quando ocorre? | Q15: Qual a frequência? | R15: Acendeu alguma luz no painel? | S15: Sofreu algum impacto e/ou avaria? | T15: - | U15: -
B16: Agendador | C16: Freio | D16: Pedal do freio desce ou duro ao frear | E16: Teste de rodagem | F16: Chefe de Oficina / Técnico / CQ | G16: 0.5 | H16: =G16*60 -> 30 | I16: =(H16/60)/24 -> 0.020833333 | J16: Tambor | K16: 0.8 | L16: =K16*60 -> 48 | M16: =(L16/60)/24 -> 0.033333333 | N16: Como ocorre? | O16: Onde ocorre? | P16: Quando ocorre? | Q16: Qual a frequência? | R16: Acendeu alguma luz no painel? | S16: Sofreu algum impacto e/ou avaria? | T16: - | U16: -
B17: Agendador | C17: Freio | D17: Desvio de rota ao frear | E17: Teste de rodagem | F17: Chefe de Oficina / Técnico / CQ | G17: 0.5 | H17: =G17*60 -> 30 | I17: =(H17/60)/24 -> 0.020833333 | J17: - | K17: - | L17: - | M17: - | N17: Como ocorre? | O17: Onde ocorre? | P17: Quando ocorre? | Q17: Qual a frequência? | R17: Sofreu algum impacto e/ou avaria? | S17: - | T17: - | U17: -
B18: Agendador | C18: Freio | D18: Vazamento de fluído | E18: Vaga de Oficina | F18: Chefe de Oficina / Técnico / CQ | G18: 0.5 | H18: =G18*60 -> 30 | I18: =(H18/60)/24 -> 0.020833333 | J18: - | K18: - | L18: - | M18: - | N18: Como ocorre? | O18: Onde ocorre? | P18: Quando ocorre? | Q18: Qual a frequência? | R18: Acendeu alguma luz no painel? | S18: Sofreu algum impacto e/ou avaria? | T18: - | U18: -
B19: Agendador | C19: Freio | D19: Acionamento de ABS | E19: Teste de rodagem | F19: Chefe de Oficina / Técnico / CQ | G19: 0.5 | H19: =G19*60 -> 30 | I19: =(H19/60)/24 -> 0.020833333 | J19: - | K19: - | L19: - | M19: - | N19: Como ocorre? | O19: Onde ocorre? | P19: Quando ocorre? | Q19: Qual a frequência? | R19: Acendeu alguma luz no painel? | S19: Sofreu algum impacto e/ou avaria? | T19: - | U19: -
B20: Agendador | C20: Motor | D20: Marcha lenta irregular | E20: Vaga de recepção | F20: Consultor | G20: 0.5 | H20: =G20*60 -> 30 | I20: =(H20/60)/24 -> 0.020833333 | J20: Conjunto do radiador | K20: 1.6 | L20: =K20*60 -> 96 | M20: =(L20/60)/24 -> 0.066666667 | N20: Como ocorre? | O20: Onde ocorre? | P20: Quando ocorre? | Q20: Qual a frequência? | R20: Acendeu alguma luz no painel? | S20: Qual o combustível utilizado? | T20: Sofreu algum impacto e/ou avaria? | U20: -
B21: Agendador | C21: Motor | D21: Motor sem aceleração | E21: Vaga de recepção | F21: Consultor | G21: 0.5 | H21: =G21*60 -> 30 | I21: =(H21/60)/24 -> 0.020833333 | J21: Defletor inferior do radiador | K21: 0.2 | L21: =K21*60 -> 12 | M21: =(L21/60)/24 -> 0.0083333333 | N21: Como ocorre? | O21: Onde ocorre? | P21: Quando ocorre? | Q21: Qual a frequência? | R21: Acendeu alguma luz no painel? | S21: Qual o combustível utilizado? | T21: Sofreu algum impacto e/ou avaria? | U21: -
B22: Agendador | C22: Motor | D22: Gases do escapamento excessivo/anormal | E22: Vaga de recepção | F22: Consultor | G22: 0.5 | H22: =G22*60 -> 30 | I22: =(H22/60)/24 -> 0.020833333 | J22: Condensador | K22: 0.5 | L22: =K22*60 -> 30 | M22: =(L22/60)/24 -> 0.020833333 | N22: Como ocorre? | O22: Onde ocorre? | P22: Quando ocorre? | Q22: Qual a frequência? | R22: Acendeu alguma luz no painel? | S22: Qual o combustível utilizado? | T22: Sofreu algum impacto e/ou avaria? | U22: -
B23: Agendador | C23: Motor | D23: Nível de óleo baixo | E23: Vaga de recepção | F23: Chefe de Oficina / Técnico / CQ | G23: 0.2 | H23: =G23*60 -> 12 | I23: =(H23/60)/24 -> 0.0083333333 | J23: Velas | K23: 0.4 | L23: =K23*60 -> 24 | M23: =(L23/60)/24 -> 0.016666667 | N23: Como ocorre? | O23: Onde ocorre? | P23: Quando ocorre? | Q23: Qual a frequência? | R23: Acendeu alguma luz no painel? | S23: Qual o combustível utilizado? | T23: Sofreu algum impacto e/ou avaria? | U23: -
B24: Agendador | C24: Motor | D24: Óleo contaminado | E24: Vaga de recepção | F24: Chefe de Oficina / Técnico / CQ | G24: 0.2 | H24: =G24*60 -> 12 | I24: =(H24/60)/24 -> 0.0083333333 | J24: Filtro de ar | K24: 0.2 | L24: =K24*60 -> 12 | M24: =(L24/60)/24 -> 0.0083333333 | N24: Como ocorre? | O24: Onde ocorre? | P24: Quando ocorre? | Q24: Qual a frequência? | R24: Acendeu alguma luz no painel? | S24: Qual o combustível utilizado? | T24: Sofreu algum impacto e/ou avaria? | U24: -
B25: Agendador | C25: Motor | D25: Motor vira mas demora para ligar | E25: Vaga de recepção | F25: Chefe de Oficina / Técnico / CQ | G25: 0.2 | H25: =G25*60 -> 12 | I25: =(H25/60)/24 -> 0.0083333333 | J25: Motor completo | K25: 6 | L25: =K25*60 -> 360 | M25: =(L25/60)/24 -> 0.25 | N25: Como ocorre? | O25: Onde ocorre? | P25: Quando ocorre? | Q25: Qual a frequência? | R25: Acendeu alguma luz no painel? | S25: Qual o combustível utilizado? | T25: Sofreu algum impacto e/ou avaria? | U25: -
B26: Agendador | C26: Motor | D26: Motor falha ao acelerar | E26: Vaga de recepção | F26: Chefe de Oficina / Técnico / CQ | G26: 0.5 | H26: =G26*60 -> 30 | I26: =(H26/60)/24 -> 0.020833333 | J26: Motor parcial | K26: 11 | L26: =K26*60 -> 660 | M26: =(L26/60)/24 -> 0.45833333 | N26: Como ocorre? | O26: Onde ocorre? | P26: Quando ocorre? | Q26: Qual a frequência? | R26: Acendeu alguma luz no painel? | S26: Qual o combustível utilizado? | T26: Sofreu algum impacto e/ou avaria? | U26: -
B27: Agendador | C27: Motor | D27: Fluído de arrefecimento Insuficiente | E27: Vaga de recepção | F27: Chefe de Oficina / Técnico / CQ | G27: 0.2 | H27: =G27*60 -> 12 | I27: =(H27/60)/24 -> 0.0083333333 | J27: Carter do motor | K27: 0.8 | L27: =K27*60 -> 48 | M27: =(L27/60)/24 -> 0.033333333 | N27: Como ocorre? | O27: Onde ocorre? | P27: Quando ocorre? | Q27: Qual a frequência? | R27: Acendeu alguma luz no painel? | S27: Qual o combustível utilizado? | T27: Sofreu algum impacto e/ou avaria? | U27: -
B28: Agendador | C28: Motor | D28: Fumaça ou fuligem no compartimento do motor | E28: Vaga de recepção | F28: Chefe de Oficina / Técnico / CQ | G28: 0.2 | H28: 12 | I28: =(H28/60)/24 -> 0.0083333333 | J28: - | K28: - | L28: - | M28: - | N28: Como ocorre? | O28: Onde ocorre? | P28: Quando ocorre? | Q28: Qual a frequência? | R28: Acendeu alguma luz no painel? | S28: Qual o combustível utilizado? | T28: Sofreu algum impacto e/ou avaria? | U28: -
B29: Agendador | C29: Motor | D29: Odor de combustivel | E29: Vaga de recepção | F29: Chefe de Oficina / Técnico / CQ | G29: 0.2 | H29: 12 | I29: =(H29/60)/24 -> 0.0083333333 | J29: - | K29: - | L29: - | M29: - | N29: Como ocorre? | O29: Onde ocorre? | P29: Quando ocorre? | Q29: Qual a frequência? | R29: Acendeu alguma luz no painel? | S29: Qual o combustível utilizado? | T29: Sofreu algum impacto e/ou avaria?
B30: Agendador | C30: Motor | D30: Fluído de arrefecimento com coloração anormal | E30: Vaga de recepção | F30: Chefe de Oficina / Técnico / CQ | G30: 0.2 | H30: =G30*60 -> 12 | I30: =(H30/60)/24 -> 0.0083333333 | J30: - | K30: - | L30: - | M30: - | N30: Como ocorre? | O30: Onde ocorre? | P30: Quando ocorre? | Q30: Qual a frequência? | R30: Acendeu alguma luz no painel? | S30: Qual o combustível utilizado? | T30: Sofreu algum impacto e/ou avaria? | U30: -
B31: Agendador | C31: Motor | D31: Ruído no motor | E31: Vaga de recepção | F31: Chefe de Oficina / Técnico / CQ | G31: 0.5 | H31: =G31*60 -> 30 | I31: =(H31/60)/24 -> 0.020833333 | J31: - | K31: - | L31: - | M31: - | N31: Como ocorre? | O31: Onde ocorre? | P31: Quando ocorre? | Q31: Qual a frequência? | R31: Tipo de barulho? | S31: Acendeu alguma luz no painel? | T31: Qual o combustível utilizado? | U31: Sofreu algum impacto e/ou avaria?
B32: Agendador | C32: Motor | D32: Vazamentos de lubrificantes e fluidos em geral | E32: Vaga de oficina | F32: Chefe de Oficina / Técnico / CQ | G32: 0.5 | H32: =G32*60 -> 30 | I32: =(H32/60)/24 -> 0.020833333 | J32: - | K32: - | L32: - | M32: - | N32: Como ocorre? | O32: Onde ocorre? | P32: Quando ocorre? | Q32: Qual a frequência? | R32: Acendeu alguma luz no painel? | S32: Qual o combustível utilizado? | T32: Sofreu algum impacto e/ou avaria? | U32: -
B33: Agendador | C33: Motor | D33: Luz de injeção acesa | E33: Vaga de oficina | F33: Chefe de Oficina / Técnico / CQ | G33: 0.5 | H33: =G33*60 -> 30 | I33: =(H33/60)/24 -> 0.020833333 | J33: - | K33: - | L33: - | M33: - | N33: Como ocorre? | O33: Onde ocorre? | P33: Quando ocorre? | Q33: Qual a frequência? | R33: Acendeu alguma luz no painel? | S33: Qual o combustível utilizado? | T33: Sofreu algum impacto e/ou avaria? | U33: -
B34: Agendador | C34: Motor | D34: Motor não vira | E34: Vaga de oficina | F34: Chefe de Oficina / Técnico / CQ | G34: 0.5 | H34: =G34*60 -> 30 | I34: =(H34/60)/24 -> 0.020833333 | J34: - | K34: - | L34: - | M34: - | N34: Como ocorre? | O34: Onde ocorre? | P34: Quando ocorre? | Q34: Qual a frequência? | R34: Acendeu alguma luz no painel? | S34: Qual o combustível utilizado? | T34: Sofreu algum impacto e/ou avaria? | U34: -
B35: Agendador | C35: Motor | D35: Motor vira mas não liga | E35: Vaga de oficina | F35: Chefe de Oficina / Técnico / CQ | G35: 0.5 | H35: =G35*60 -> 30 | I35: =(H35/60)/24 -> 0.020833333 | J35: - | K35: - | L35: - | M35: - | N35: Como ocorre? | O35: Onde ocorre? | P35: Quando ocorre? | Q35: Qual a frequência? | R35: Acendeu alguma luz no painel? | S35: Qual o combustível utilizado? | T35: Sofreu algum impacto e/ou avaria? | U35: -
B36: Agendador | C36: Motor | D36: Sobreaquecimento do motor | E36: Vaga de oficina | F36: Chefe de Oficina / Técnico / CQ | G36: 0.7 | H36: =G36*60 -> 42 | I36: =(H36/60)/24 -> 0.029166667 | J36: - | K36: - | L36: - | M36: - | N36: Como ocorre? | O36: Onde ocorre? | P36: Quando ocorre? | Q36: Qual a frequência? | R36: Acendeu alguma luz no painel? | S36: Qual o combustível utilizado? | T36: Sofreu algum impacto e/ou avaria? | U36: -
B37: Agendador | C37: Motor | D37: Consumo excessivo de combustível | E37: Vaga de oficina | F37: Chefe de Oficina / Técnico / CQ | G37: 0.5 | H37: =G37*60 -> 30 | I37: =(H37/60)/24 -> 0.020833333 | J37: - | K37: - | L37: - | M37: - | N37: Como ocorre? | O37: Onde ocorre? | P37: Quando ocorre? | Q37: Qual a frequência? | R37: Acendeu alguma luz no painel? | S37: Qual o combustível utilizado? | T37: Sofreu algum impacto e/ou avaria? | U37: -
B38: Agendador | C38: Motor | D38: Vibração excessiva | E38: Vaga de oficina | F38: Chefe de Oficina / Técnico / CQ | G38: 0.5 | H38: =G38*60 -> 30 | I38: =(H38/60)/24 -> 0.020833333 | J38: - | K38: - | L38: - | M38: - | N38: Como ocorre? | O38: Onde ocorre? | P38: Quando ocorre? | Q38: Qual a frequência? | R38: Acendeu alguma luz no painel? | S38: Qual o combustível utilizado? | T38: Sofreu algum impacto e/ou avaria? | U38: -
B39: Agendador | C39: Motor | D39: Perda de potência | E39: Teste de rodagem | F39: Chefe de Oficina / Técnico / CQ | G39: 1 | H39: =G39*60 -> 60 | I39: =(H39/60)/24 -> 0.041666667 | J39: - | K39: - | L39: - | M39: - | N39: Como ocorre? | O39: Onde ocorre? | P39: Quando ocorre? | Q39: Qual a frequência? | R39: Acendeu alguma luz no painel? | S39: Qual o combustível utilizado? | T39: Sofreu algum impacto e/ou avaria? | U39: -
B40: Agendador | C40: Transmissão | D40: Não traciona | E40: Vaga de oficina | F40: Chefe de Oficina / Técnico / CQ | G40: 0.5 | H40: =G40*60 -> 30 | I40: =(H40/60)/24 -> 0.020833333 | J40: Kit de embreagem | K40: 3.5 | L40: =K40*60 -> 210 | M40: =(L40/60)/24 -> 0.14583333 | N40: Como ocorre? | O40: Onde ocorre? | P40: Quando ocorre? | Q40: Qual a frequência? | R40: Acendeu alguma luz no painel? | S40: Sofreu algum impacto e/ou avaria? | T40: - | U40: -
B41: Agendador | C41: Transmissão | D41: Trancos na troca de marchas | E41: Teste de rodagem | F41: Chefe de Oficina / Técnico / CQ | G41: 0.5 | H41: =G41*60 -> 30 | I41: =(H41/60)/24 -> 0.020833333 | J41: Semi eixo | K41: 1 | L41: =K41*60 -> 60 | M41: =(L41/60)/24 -> 0.041666667 | N41: Como ocorre? | O41: Onde ocorre? | P41: Quando ocorre? | Q41: Qual a frequência? | R41: Tipo de barulho? | S41: Acendeu alguma luz no painel? | T41: Sofreu algum impacto e/ou avaria? | U41: -
B42: Agendador | C42: Transmissão | D42: Atraso na troca de marchas | E42: Teste de rodagem | F42: Chefe de Oficina / Técnico / CQ | G42: 1 | H42: =G42*60 -> 60 | I42: =(H42/60)/24 -> 0.041666667 | J42: Retentor | K42: 0.7 | L42: =K42*60 -> 42 | M42: =(L42/60)/24 -> 0.029166667 | N42: Como ocorre? | O42: Onde ocorre? | P42: Quando ocorre? | Q42: Qual a frequência? | R42: Acendeu alguma luz no painel? | S42: Sofreu algum impacto e/ou avaria? | T42: - | U42: -
B43: Agendador | C43: Transmissão | D43: Não troca as marchas | E43: Teste de rodagem | F43: Chefe de Oficina / Técnico / CQ | G43: 1 | H43: =G43*60 -> 60 | I43: =(H43/60)/24 -> 0.041666667 | J43: Regulagem do cabo de acionamento do câmbio | K43: 0.3 | L43: =K43*60 -> 18 | M43: =(L43/60)/24 -> 0.0125 | N43: Como ocorre? | O43: Onde ocorre? | P43: Quando ocorre? | Q43: Qual a frequência? | R43: Acendeu alguma luz no painel? | S43: Sofreu algum impacto e/ou avaria? | T43: - | U43: -
B44: Agendador | C44: Transmissão | D44: Ruído na transmissão | E44: Teste de rodagem | F44: Chefe de Oficina / Técnico / CQ | G44: 0.5 | H44: =G44*60 -> 30 | I44: =(H44/60)/24 -> 0.020833333 | J44: - | K44: - | L44: - | M44: - | N44: Como ocorre? | O44: Onde ocorre? | P44: Quando ocorre? | Q44: Qual a frequência? | R44: Tipo de barulho? | S44: Acendeu alguma luz no painel? | T44: Sofreu algum impacto e/ou avaria? | U44: -
B45: Agendador | C45: Transmissão | D45: Marcha arranhando | E45: Teste de rodagem | F45: Chefe de Oficina / Técnico / CQ | G45: 0.5 | H45: =G45*60 -> 30 | I45: =(H45/60)/24 -> 0.020833333 | J45: - | K45: - | L45: - | M45: - | N45: Como ocorre? | O45: Onde ocorre? | P45: Quando ocorre? | Q45: Qual a frequência? | R45: Acendeu alguma luz no painel? | S45: Sofreu algum impacto e/ou avaria? | T45: - | U45: -
B46: Agendador | C46: Transmissão | D46: Pedal de embreagem baixo, dura ou ruído | E46: Vaga de recepção | F46: Chefe de Oficina / Técnico / CQ | G46: 0.5 | H46: =G46*60 -> 30 | I46: =(H46/60)/24 -> 0.020833333 | J46: - | K46: - | L46: - | M46: - | N46: Como ocorre? | O46: Onde ocorre? | P46: Quando ocorre? | Q46: Qual a frequência? | R46: Tipo de barulho? | S46: Acendeu alguma luz no painel? | T46: Sofreu algum impacto e/ou avaria? | U46: -
B47: Agendador | C47: Transmissão | D47: Transmissão patinando | E47: Teste de rodagem | F47: Chefe de Oficina / Técnico / CQ | G47: 0.5 | H47: =G47*60 -> 30 | I47: =(H47/60)/24 -> 0.020833333 | J47: - | K47: - | L47: - | M47: - | N47: Como ocorre? | O47: Onde ocorre? | P47: Quando ocorre? | Q47: Qual a frequência? | R47: Acendeu alguma luz no painel? | S47: Sofreu algum impacto e/ou avaria? | T47: - | U47: -
B48: Agendador | C48: Transmissão | D48: Dificuldade de movimento da alavanca de seleção | E48: Vaga de recepção | F48: Consultor | G48: 0.5 | H48: =G48*60 -> 30 | I48: =(H48/60)/24 -> 0.020833333 | J48: - | K48: - | L48: - | M48: - | N48: Como ocorre? | O48: Onde ocorre? | P48: Quando ocorre? | Q48: Qual a frequência? | R48: Acendeu alguma luz no painel? | S48: Sofreu algum impacto e/ou avaria? | T48: - | U48: -
B49: Agendador | C49: Transmissão | D49: Vibração excessiva | E49: Teste de rodagem | F49: Chefe de Oficina / Técnico / CQ | G49: 0.5 | H49: =G49*60 -> 30 | I49: =(H49/60)/24 -> 0.020833333 | J49: - | K49: - | L49: - | M49: - | N49: Como ocorre? | O49: Onde ocorre? | P49: Quando ocorre? | Q49: Qual a frequência? | R49: Acendeu alguma luz no painel? | S49: Sofreu algum impacto e/ou avaria? | T49: - | U49: -
B50: Agendador | C50: Transmissão | D50: Vazamento de Fluído | E50: Vaga de Oficina | F50: Chefe de Oficina / Técnico / CQ | G50: 0.5 | H50: =G50*60 -> 30 | I50: =(H50/60)/24 -> 0.020833333 | J50: - | K50: - | L50: - | M50: - | N50: Como ocorre? | O50: Onde ocorre? | P50: Quando ocorre? | Q50: Qual a frequência? | R50: Acendeu alguma luz no painel? | S50: Sofreu algum impacto e/ou avaria? | T50: - | U50: -
B51: Agendador | C51: Elétrico | D51: Bateria descarregada | E51: Vaga de Oficina | F51: Chefe de Oficina / Técnico / CQ | G51: 0.5 | H51: =G51*60 -> 30 | I51: =(H51/60)/24 -> 0.020833333 | J51: Lâmpada / Fusível | K51: 0.3 | L51: =K51*60 -> 18 | M51: =(L51/60)/24 -> 0.0125 | N51: Como ocorre? | O51: Onde ocorre? | P51: Quando ocorre? | Q51: Qual a frequência? | R51: Acendeu alguma luz no painel? | S51: Sofreu algum impacto e/ou avaria? | T51: - | U51: -
B52: Agendador | C52: Elétrico | D52: Medidor de combustível | E52: Vaga de recepção | F52: Consultor | G52: 0.5 | H52: =G52*60 -> 30 | I52: =(H52/60)/24 -> 0.020833333 | J52: Motor do vidro dianteiro | K52: 0.5 | L52: =K52*60 -> 30 | M52: =(L52/60)/24 -> 0.020833333 | N52: Como ocorre? | O52: Onde ocorre? | P52: Quando ocorre? | Q52: Qual a frequência? | R52: Acendeu alguma luz no painel? | S52: Qual o combustível utilizado? | T52: Sofreu algum impacto e/ou avaria? | U52: -
B53: Agendador | C53: Elétrico | D53: Unidade de áudio com funcionamento irregular / não funciona | E53: Vaga de recepção | F53: Consultor | G53: 0.5 | H53: =G53*60 -> 30 | I53: =(H53/60)/24 -> 0.020833333 | J53: Motor do vidro traseiro | K53: 0.5 | L53: =K53*60 -> 30 | M53: =(L53/60)/24 -> 0.020833333 | N53: Como ocorre? | O53: Onde ocorre? | P53: Quando ocorre? | Q53: Qual a frequência? | R53: Acendeu alguma luz no painel? | S53: Sofreu algum impacto e/ou avaria? | T53: - | U53: -
B54: Agendador | C54: Elétrico | D54: A/C com funcionamento irregular / não funciona | E54: Vaga de recepção | F54: Consultor | G54: 0.5 | H54: =G54*60 -> 30 | I54: =(H54/60)/24 -> 0.020833333 | J54: Motor do limpador de para-brisa | K54: 0.4 | L54: =K54*60 -> 24 | M54: =(L54/60)/24 -> 0.016666667 | N54: Como ocorre? | O54: Onde ocorre? | P54: Quando ocorre? | Q54: Qual a frequência? | R54: Acendeu alguma luz no painel? | S54: Sofreu algum impacto e/ou avaria? | T54: - | U54: -
B55: Agendador | C55: Elétrico | D55: Ventilação irregular / não funciona | E55: Vaga de recepção | F55: Consultor | G55: 0.5 | H55: =G55*60 -> 30 | I55: =(H55/60)/24 -> 0.020833333 | J55: Evaporador | K55: 3.5 | L55: =K55*60 -> 210 | M55: =(L55/60)/24 -> 0.14583333 | N55: Como ocorre? | O55: Onde ocorre? | P55: Quando ocorre? | Q55: Qual a frequência? | R55: Acendeu alguma luz no painel? | S55: Sofreu algum impacto e/ou avaria? | T55: - | U55: -
B56: Agendador | C56: Elétrico | D56: Comandos elétricos em geral | E56: Vaga de recepção | F56: Consultor | G56: 0.5 | H56: =G56*60 -> 30 | I56: =(H56/60)/24 -> 0.020833333 | J56: Compressor | K56: 1.3 | L56: =K56*60 -> 78 | M56: =(L56/60)/24 -> 0.054166667 | N56: Como ocorre? | O56: Onde ocorre? | P56: Quando ocorre? | Q56: Qual a frequência? | R56: Acendeu alguma luz no painel? | S56: Sofreu algum impacto e/ou avaria? | T56: - | U56: -
B57: Agendador | C57: Elétrico | D57: Comandos remotos em geral | E57: Vaga de recepção | F57: Consultor | G57: 0.3 | H57: =G57*60 -> 18 | I57: =(H57/60)/24 -> 0.0125 | J57: Farol / Lanterna | K57: 0.3 | L57: =K57*60 -> 18 | M57: =(L57/60)/24 -> 0.0125 | N57: Como ocorre? | O57: Onde ocorre? | P57: Quando ocorre? | Q57: Qual a frequência? | R57: Acendeu alguma luz no painel? | S57: Sofreu algum impacto e/ou avaria? | T57: - | U57: -
B58: Agendador | C58: Elétrico | D58: Sincronização/Pareamento | E58: Vaga de recepção | F58: Consultor | G58: 0.5 | H58: =G58*60 -> 30 | I58: =(H58/60)/24 -> 0.020833333 | J58: Unidade de áudio | K58: 0.4 | L58: =K58*60 -> 24 | M58: =(L58/60)/24 -> 0.016666667 | N58: Como ocorre? | O58: Onde ocorre? | P58: Quando ocorre? | Q58: Qual a frequência? | R58: Acendeu alguma luz no painel? | S58: Sofreu algum impacto e/ou avaria? | T58: - | U58: -
B59: Agendador | C59: Elétrico | D59: Sensores/Camera de Ré com funcionamento irregular / não funciona | E59: Vaga de recepção | F59: Consultor | G59: 0.3 | H59: =G59*60 -> 18 | I59: =(H59/60)/24 -> 0.0125 | J59: Bateria | K59: 0.3 | L59: =K59*60 -> 18 | M59: =(L59/60)/24 -> 0.0125 | N59: Como ocorre? | O59: Onde ocorre? | P59: Quando ocorre? | Q59: Qual a frequência? | R59: Acendeu alguma luz no painel? | S59: Sofreu algum impacto e/ou avaria? | T59: - | U59: -
B60: Agendador | C60: Elétrico | D60: Luzes de anomalia acesas no painel | E60: Vaga de recepção | F60: Consultor | G60: 0.5 | H60: =G60*60 -> 30 | I60: =(H60/60)/24 -> 0.020833333 | J60: - | K60: - | L60: - | M60: - | N60: Como ocorre? | O60: Onde ocorre? | P60: Quando ocorre? | Q60: Qual a frequência? | R60: Acendeu alguma luz no painel? | S60: Qual o combustível utilizado? | T60: Sofreu algum impacto e/ou avaria? | U60: -
B61: Agendador | C61: Elétrico | D61: Ruído anormal | E61: Vaga de recepção | F61: Consultor | G61: 0.5 | H61: =G61*60 -> 30 | I61: =(H61/60)/24 -> 0.020833333 | J61: - | K61: - | L61: - | M61: - | N61: Como ocorre? | O61: Onde ocorre? | P61: Quando ocorre? | Q61: Qual a frequência? | R61: Tipo de barulho? | S61: Acendeu alguma luz no painel? | T61: Sofreu algum impacto e/ou avaria? | U61: -
B62: Agendador | C62: Elétrico | D62: Alarme | E62: Vaga de recepção | F62: Consultor | G62: 0.5 | H62: =G62*60 -> 30 | I62: =(H62/60)/24 -> 0.020833333 | J62: - | K62: - | L62: - | M62: - | N62: Como ocorre? | O62: Onde ocorre? | P62: Quando ocorre? | Q62: Qual a frequência? | R62: Acendeu alguma luz no painel? | S62: Sofreu algum impacto e/ou avaria? | T62: - | U62: -
B63: Agendador | C63: Elétrico | D63: Vidros elétricos / travas elétricas / luzes internas e externas | E63: Vaga de recepção | F63: Consultor | G63: 0.5 | H63: =G63*60 -> 30 | I63: =(H63/60)/24 -> 0.020833333 | J63: - | K63: - | L63: - | M63: - | N63: Como ocorre? | O63: Onde ocorre? | P63: Quando ocorre? | Q63: Qual a frequência? | R63: Acendeu alguma luz no painel? | S63: Sofreu algum impacto e/ou avaria? | T63: - | U63: -
B64: Agendador | C64: Carroceria Acabamento | D64: Pintura descascando / manchada / Corrosão | E64: Vaga de recepção | F64: Consultor | G64: 0.5 | H64: =G64*60 -> 30 | I64: =(H64/60)/24 -> 0.020833333 | J64: Difusor | K64: 0.2 | L64: =K64*60 -> 12 | M64: =(L64/60)/24 -> 0.0083333333 | N64: Como ocorre? | O64: Onde ocorre? | P64: Quando ocorre? | Q64: Qual a frequência? | R64: Sofreu algum impacto e/ou avaria? | S64: - | T64: - | U64: -
B65: Agendador | C65: Carroceria Acabamento | D65: Acabamento interno (portas, bancos, cintos,console, teto, carpete) | E65: Vaga de recepção | F65: Consultor | G65: 0.5 | H65: =G65*60 -> 30 | I65: =(H65/60)/24 -> 0.020833333 | J65: Emblemas / Logotípos | K65: 0.5 | L65: =K65*60 -> 30 | M65: =(L65/60)/24 -> 0.020833333 | N65: Como ocorre? | O65: Onde ocorre? | P65: Quando ocorre? | Q65: Qual a frequência? | R65: Sofreu algum impacto e/ou avaria? | S65: - | T65: - | U65: -
B66: Agendador | C66: Carroceria Acabamento | D66: Acabamento Externos (retrovisores, vidros, molduras, spoiler, rodas, calotas) | E66: Vaga de recepção | F66: Consultor | G66: 0.5 | H66: =G66*60 -> 30 | I66: =(H66/60)/24 -> 0.020833333 | J66: - | K66: - | L66: - | M66: - | N66: Como ocorre? | O66: Onde ocorre? | P66: Quando ocorre? | Q66: Qual a frequência? | R66: Sofreu algum impacto e/ou avaria? | S66: - | T66: - | U66: -
B67: Agendador | C67: Carroceria Acabamento | D67: Portas, Porta Malas, Capô | E67: Vaga de recepção | F67: Consultor | G67: 0.5 | H67: =G67*60 -> 30 | I67: =(H67/60)/24 -> 0.020833333 | J67: - | K67: - | L67: - | M67: - | N67: Como ocorre? | O67: Onde ocorre? | P67: Quando ocorre? | Q67: Qual a frequência? | R67: Sofreu algum impacto e/ou avaria? | S67: - | T67: - | U67: -
B68: Agendador | C68: Carroceria Acabamento | D68: Infiltrações | E68: Vaga de recepção | F68: Consultor | G68: 0.5 | H68: =G68*60 -> 30 | I68: =(H68/60)/24 -> 0.020833333 | J68: - | K68: - | L68: - | M68: - | N68: Como ocorre? | O68: Onde ocorre? | P68: Quando ocorre? | Q68: Qual a frequência? | R68: Sofreu algum impacto e/ou avaria? | S68: - | T68: - | U68: -
B69: Agendador | C69: Carroceria Acabamento | D69: Limpadores/ Lavadores de Vidros | E69: Vaga de recepção | F69: Consultor | G69: 0.3 | H69: =G69*60 -> 18 | I69: =(H69/60)/24 -> 0.0125 | J69: - | K69: - | L69: - | M69: - | N69: Como ocorre? | O69: Onde ocorre? | P69: Quando ocorre? | Q69: Qual a frequência? | R69: Sofreu algum impacto e/ou avaria? | S69: - | T69: - | U69: -
B70: Agendador | C70: Carroceria Acabamento | D70: Falha de montagem / acabamento | E70: Vaga de recepção | F70: Consultor | G70: 0.5 | H70: =G70*60 -> 30 | I70: =(H70/60)/24 -> 0.020833333 | J70: - | K70: - | L70: - | M70: - | N70: Como ocorre? | O70: Onde ocorre? | P70: Quando ocorre? | Q70: Qual a frequência? | R70: Sofreu algum impacto e/ou avaria? | S70: - | T70: - | U70: -
B71: Agendador | C71: Carroceria Acabamento | D71: Vibração excessiva | E71: Vaga de recepção | F71: Consultor | G71: 0.5 | H71: =G71*60 -> 30 | I71: =(H71/60)/24 -> 0.020833333 | J71: - | K71: - | L71: - | M71: - | N71: Como ocorre? | O71: Onde ocorre? | P71: Quando ocorre? | Q71: Qual a frequência? | R71: Sofreu algum impacto e/ou avaria? | S71: - | T71: - | U71: -
B72: Agendador | C72: Carroceria Acabamento | D72: Aparêcia dos Faróis, Lanternas, Auxiliares | E72: Vaga de recepção | F72: Consultor | G72: 0.3 | H72: =G72*60 -> 18 | I72: =(H72/60)/24 -> 0.0125 | J72: - | K72: - | L72: - | M72: - | N72: Como ocorre? | O72: Onde ocorre? | P72: Quando ocorre? | Q72: Qual a frequência? | R72: Sofreu algum impacto e/ou avaria? | S72: - | T72: - | U72: -
B73: Agendador | C73: Carroceria Acabamento | D73: Ruído aerodinâmico | E73: Teste de rodagem | F73: Chefe de Oficina / Técnico / CQ | G73: 0.5 | H73: =G73*60 -> 30 | I73: =(H73/60)/24 -> 0.020833333 | J73: - | K73: - | L73: - | M73: - | N73: Como ocorre? | O73: Onde ocorre? | P73: Quando ocorre? | Q73: Qual a frequência? | R73: Tipo de barulho? | S73: Sofreu algum impacto e/ou avaria? | T73: - | U73: -
B74: Agendador | C74: Carroceria Acabamento | D74: Ruído interno | E74: Teste de rodagem | F74: Chefe de Oficina / Técnico / CQ | G74: 0.5 | H74: =G74*60 -> 30 | I74: =(H74/60)/24 -> 0.020833333 | J74: - | K74: - | L74: - | M74: - | N74: Como ocorre? | O74: Onde ocorre? | P74: Quando ocorre? | Q74: Qual a frequência? | R74: Tipo de barulho? | S74: Sofreu algum impacto e/ou avaria? | T74: - | U74: -
C76: OUTROS | D76: Consumo excessivo de combustível | E76: Vaga de recepção | F76: Consultor | G76: 0.5 | H76: =G76*60 -> 30 | J76: Palhetas do limpador | K76: 0.2 | L76: =K76*60 -> 12 | N76: X | O76: X | P76: X | Q76: X | S76: X | T76: X | U76: X
D77: Mau cheiro do A/C | E77: Vaga de recepção | F77: Consultor | G77: 0.5 | H77: =G77*60 -> 30 | J77: Silencioso - Flexível | K77: 0.4 | L77: =K77*60 -> 24 | N77: X | O77: X | P77: X | Q77: X | R77: X | S77: X | T77: X | U77: X
D78: Oxidação em geral | E78: Vaga de recepção | F78: Consultor | G78: 0.5 | H78: =G78*60 -> 30 | J78: Silencioso - Intermediário | K78: 0.4 | L78: =K78*60 -> 24 | N78: X | O78: X | P78: X | Q78: X | R78: X | S78: X | U78: X
D79: Veículo sem aceleração | E79: Vaga de recepção | F79: Consultor | G79: 0.1 | H79: =G79*60 -> 6 | J79: Silencioso - Final | K79: 0.5 | L79: =K79*60 -> 30 | S79: X | T79: X
D80: Dificuldade de abertura / fechamento de portas | E80: Vaga de recepção | F80: Consultor | G80: 0.2 | H80: =G80*60 -> 12 | J80: Bomba de combustível | K80: 0.8 | L80: =K80*60 -> 48 | N80: X | O80: X | P80: X | Q80: X | S80: X | T80: X | U80: X
D81: Ruído no acionamento dos vidros | E81: Vaga de recepção | F81: Consultor | G81: 0.1 | H81: =G81*60 -> 6 | J81: Trava das portas | K81: 0.7 | L81: =K81*60 -> 42 | N81: X | O81: X | P81: X | Q81: X | S81: X | T81: X | U81: X
D82: Ruído na direção | E82: Vaga de recepção | F82: Consultor | G82: 0.3 | H82: =G82*60 -> 18 | J82: Retrovisor externo | K82: 0.2 | L82: =K82*60 -> 12 | N82: X | O82: X | P82: X | Q82: X | R82: X | S82: X | T82: X | U82: X
D83: Aspecto visual dos faróis | E83: Vaga de recepção | F83: Consultor | G83: 0.1 | H83: =G83*60 -> 6 | J83: Para barro | K83: 0.3 | L83: =K83*60 -> 18 | N83: X | O83: X | P83: X | Q83: X | R83: X | S83: X | U83: X
J84: Fechadura das portas | K84: 0.7 | L84: =K84*60 -> 42 | S84: X | T84: X
C86: LEGENDA:
D87: Local da confirmação do sintoma | E87: Frequência do sintoma | F87: Responsável pela confirmação
D88: Vaga de Recepção | E88: Contínuo | F88: Consultor
E89: Intermitente | F89: Chefe de Oficina / Técnico / CQ
D90: Vaga de Oficina | E90: Contínuo ou Intermitente | F90: Chefe de Oficina / Técnico / CQ
D91: Teste de Rodagem | E91: Contínuo ou Intermitente | F91: Chefe de Oficina / Técnico / CQ
D92: Contínuo: Método visual, sempre ocorre e apresenta fácil metodologia de reprodução do sintoma.
D93: Intermitente: Método visual ou com suporte de equipamentos, não apresenta frequência de ocorrência regular e apresenta difícil ou média
D94: dificuldade de reprodução do sintoma.
D95: *O tempo de diagnóstico deverá ser definido em conjunto com a área técnica.

Sheet Tempo reparo agendador
B5: Solicitação do Cliente. | C5: Tempo (h). | D5: Duração.
B6: Amortecedor Dianteiro | C6: 0.9 | D6: 0.0375
B7: Amortecedor Traseiro | C7: 0.5 | D7: 0.020833333
B8: Bateria | C8: 0.3 | D8: 0.0125
B9: Bieleta | C9: 0.4 | D9: 0.016666667
B10: Carter do motor | C10: 0.8 | D10: 0.033333333
B11: Compressor | C11: 1.3 | D11: 0.054166667
B12: Condensador | C12: 0.5 | D12: 0.020833333
B13: Conjunto do radiador | C13: 1.6 | D13: 0.066666667
B14: Defletor inferior do radiador | C14: 0.2 | D14: 0.0083333333
B15: Difusor | C15: 0.2 | D15: 0.0083333333
B16: Discos | C16: 1 | D16: 0.041666667
B17: Emblemas / Logotípos | C17: 0.5 | D17: 0.020833333
... B37: Velas | C37: 0.4 | D37: 0.016666667
B38: - | C38: - | D38: -
B39: - | C39: - | D39: -
B40: - | C40: - | D40: -
B41: - | C41: - | D41: -
B42: - | C42: - | D42: -
B43: - | C43: - | D43: -
